BEGIN:VCALENDAR
VERSION:2.0
PRODID:-//Arkansas Museum of Fine Arts - ECPv6.15.20//NONSGML v1.0//EN
CALSCALE:GREGORIAN
METHOD:PUBLISH
X-WR-CALNAME:Arkansas Museum of Fine Arts
X-ORIGINAL-URL:https://arkmfa.org
X-WR-CALDESC:Events for Arkansas Museum of Fine Arts
REFRESH-INTERVAL;VALUE=DURATION:PT1H
X-Robots-Tag:noindex
X-PUBLISHED-TTL:PT1H
BEGIN:VTIMEZONE
TZID:America/Chicago
BEGIN:DAYLIGHT
TZOFFSETFROM:-0600
TZOFFSETTO:-0500
TZNAME:CDT
DTSTART:20250309T080000
END:DAYLIGHT
BEGIN:STANDARD
TZOFFSETFROM:-0500
TZOFFSETTO:-0600
TZNAME:CST
DTSTART:20251102T070000
END:STANDARD
BEGIN:DAYLIGHT
TZOFFSETFROM:-0600
TZOFFSETTO:-0500
TZNAME:CDT
DTSTART:20260308T080000
END:DAYLIGHT
BEGIN:STANDARD
TZOFFSETFROM:-0500
TZOFFSETTO:-0600
TZNAME:CST
DTSTART:20261101T070000
END:STANDARD
BEGIN:DAYLIGHT
TZOFFSETFROM:-0600
TZOFFSETTO:-0500
TZNAME:CDT
DTSTART:20270314T080000
END:DAYLIGHT
BEGIN:STANDARD
TZOFFSETFROM:-0500
TZOFFSETTO:-0600
TZNAME:CST
DTSTART:20271107T070000
END:STANDARD
END:VTIMEZONE
BEGIN:VEVENT
DTSTART;TZID=America/Chicago:20260225T103000
DTEND;TZID=America/Chicago:20260225T113000
DTSTAMP:20260419T210101
CREATED:20251217T190248Z
LAST-MODIFIED:20251223T191504Z
UID:10004175-1772015400-1772019000@arkmfa.org
SUMMARY:Art Start
DESCRIPTION:Nurture your early learner’s creativity through art\, music\, movement\, and play! Art Start invites toddlers and preschoolers to explore in a welcoming environment that encourages curiosity\, imagination\, and growth. Each session features a story\, song\, and art-making activity\, plus a special letter or instrument of the day to spark hands-on discovery for families and caregivers to enjoy together. \nDrop by on this day to experience A Dress with Pockets by Lily Murray\, a whimsical story about finding the perfect outfit. Then create a fabric collage inspired by the AMFA exhibition Uncommon Threads in Contemporary Art.  \n\nUncommon Threads in Contemporary Art is supported in part by the Alan DuBois Fund for Contemporary Craft.Uncommon Threads in Contemporary Art is supported in part by the Alan DuBois Fund for Contemporary Craft. \nThis exhibition is organized by the Arkansas Museum of Fine Arts. \nImage courtesy of Jason Masters
URL:https://arkmfa.org/event/art-start-feb-25-26/
CATEGORIES:Youth & Families
ATTACH;FMTTYPE=image/jpeg:https://arkmfa.org/wp-content/uploads/2025/10/Art-Start-January-2026.jpg
END:VEVENT
BEGIN:VEVENT
DTSTART;TZID=America/Chicago:20260225T120000
DTEND;TZID=America/Chicago:20260225T130000
DTSTAMP:20260419T210101
CREATED:20260220T174533Z
LAST-MODIFIED:20260220T174533Z
UID:10004248-1772020800-1772024400@arkmfa.org
SUMMARY:AMFA Board of Trustees Meeting
DESCRIPTION:Meeting Agenda\n\nCall to Order and Welcome – Le’Kita Brown\, Board of Trustees President\n\nIntroduction of Guests\nApproval of Minutes from December 17\, 2025 Meeting\nAMFA Restructured: Meet the C-Suite Team\n\n\nFinance Committee Report – Gary Cooper\, Chair\, and Laine Harber\, AMFA CFO\n\nReview FY2026 Budget\n\n\nFAC Committee Report – Betsy Rhodes and Mary Olive Stephens\, Co-Chairs\n\n\nDirector’s Report – Dr. Victoria Ramirez\, AMFA CEO\n\nAAM Accreditation: Strategic plan\, bylaws\, site visit (November/December)\nPresentation: Rotation of the Permanent Collection Galleries\n\n\nPresident’s Report – Le’Kita Brown\n\nBoard Transformation Update – Governance Committee approved\nTaking Recommendations for New Board Members\n\n\nUpcoming Meetings\n\nTuesday\, March 10\, 10:00 a.m.: Strategic Plan Special Committee Meeting\nTuesday\, March 17\, 10:00 a.m.: AMFA Board Bylaws Special Committee Meeting\nThursday\, April 30: Board of Trustees Meeting\, 3:00–5:00 p.m.\, Reception 5:00-6:00 p.m.\n\n\n\nFor media and other inquiries\, please contact director@arkmfa.org.
URL:https://arkmfa.org/event/amfa-board-of-trustees-meeting-feb-25/
ATTACH;FMTTYPE=image/jpeg:https://arkmfa.org/wp-content/uploads/2025/09/AMFA-Courtyard-Entrance-Photo-by-Jason-Masters-2025.jpg
END:VEVENT
BEGIN:VEVENT
DTSTART;TZID=America/Chicago:20260225T130000
DTEND;TZID=America/Chicago:20260225T180000
DTSTAMP:20260419T210101
CREATED:20251217T190858Z
LAST-MODIFIED:20251217T214940Z
UID:10004169-1772024400-1772042400@arkmfa.org
SUMMARY:Artist & Vendor Open Call
DESCRIPTION:Are you a local artist\, artisan\, or maker? Stop by to learn what it takes to have your work for sale in the AMFA Museum Store! \nBring samples of your work\, information about your price points\, and be ready to share more details about yourself and your products. The store management team will be available to answer your questions\, and you can enter to win an AMFA swag bag. \nImage courtesy of Jason Masters. \n 
URL:https://arkmfa.org/event/artist-vendor-open-call/
CATEGORIES:Store
ATTACH;FMTTYPE=image/jpeg:https://arkmfa.org/wp-content/uploads/2025/09/Museum-Store-Open-House-Artisan.jpg
END:VEVENT
BEGIN:VEVENT
DTSTART;TZID=America/Chicago:20260225T180000
DTEND;TZID=America/Chicago:20260225T210000
DTSTAMP:20260419T210101
CREATED:20251213T174953Z
LAST-MODIFIED:20251213T174953Z
UID:10004135-1772042400-1772053200@arkmfa.org
SUMMARY:Drop-in Figure Drawing
DESCRIPTION:Immerse yourself in a three-hour drawing session set in an untutored environment at the Windgate Art School. This dynamic experience will feature a variety of timed poses with draped and undraped models\, providing an excellent opportunity for first-time students and experienced artists alike to hone their skills. \nStudents must be 18+ to attend\, as the session may use the undraped model. An instructor will moderate the session and be available for critiques and questions upon request. \nStudents are encouraged to bring their own materials or purchase materials from the AMFA Museum Store. Recommended materials are graphite drawing pencils\, charcoals\, and a kneaded eraser. Basic drawing materials will also be available. \n\nThe Windgate Art School is generously supported by the Windgate Foundation with additional support from Sherry Worthen in memory of George Worthen. \nThe Windgate Art School’s Reduced Tuition Program is supported by Michael Laughter. Reduced tuition is automatically applied to all classes through 2026. \nPhoto: Iwan Baan.
URL:https://arkmfa.org/event/drop-in-figure-drawing-feb-25/
CATEGORIES:Adults,Art School
ATTACH;FMTTYPE=image/jpeg:https://arkmfa.org/wp-content/uploads/2025/12/Drop-In-Figure-Drawing-new-website-1.jpg
END:VEVENT
BEGIN:VEVENT
DTSTART;TZID=America/Chicago:20260225T180000
DTEND;TZID=America/Chicago:20260225T210000
DTSTAMP:20260419T210101
CREATED:20251213T182235Z
LAST-MODIFIED:20251213T182235Z
UID:10004134-1772042400-1772053200@arkmfa.org
SUMMARY:Drop-in Metalsmithing
DESCRIPTION:Drop into the Metals Studio for a three-hour session to work on your class projects or individually driven artworks. \nOne of our expert metals artists will be monitoring the studio to offer advice and direction towards completing your artwork. Each three-hour session provides an opportunity to develop and refine your skills in an independently focused work environment. \nThis session is intended for students who are currently enrolled in a metals class or have taken an 8-week metals course at the Windgate Art School. Supplies are not included. Students must bring their own materials or purchase materials from the AMFA Museum Store. \n\nThe Windgate Art School is generously supported by the Windgate Foundation with additional support from Sherry Worthen in memory of George Worthen. \nThe Windgate Art School’s Reduced Tuition Program is supported by Michael Laughter. Reduced tuition is automatically applied to all classes through 2026. \nImage courtesy of Jason Masters.
URL:https://arkmfa.org/event/drop-in-metalsmithing-feb-25/
CATEGORIES:Adults,Art School
ATTACH;FMTTYPE=image/jpeg:https://arkmfa.org/wp-content/uploads/2025/12/Drop-In-Metalsmithing-new-website.jpg
END:VEVENT
BEGIN:VEVENT
DTSTART;TZID=America/Chicago:20260226T180000
DTEND;TZID=America/Chicago:20260226T190000
DTSTAMP:20260419T210101
CREATED:20251223T164419Z
LAST-MODIFIED:20260216T210922Z
UID:10004208-1772128800-1772132400@arkmfa.org
SUMMARY:Art Insights: Aging Well
DESCRIPTION:Re-imagine what it means to age well in this inspiring conversation that considers how movement\, art\, and mindfulness can strengthen the body\, renew focus\, and nurture social connection. \nPresented in connection with AMFA’s exhibition A Month of Sundays: Art and the Persistence of Time\, this event highlights the expertise of four speakers – Dr. Catherine Crisp\, Garbo Hearne\, Rebecca Schrock\, and Sarah Thomas – who will share insights on how creative activities can sustain vitality and joy throughout the aging process. \nDrawing on the exhibition’s themes of time\, aging\, and reflection\, explore how creativity and mindfulness can support not only longevity\, but a fuller life at every age. \n\nThe Mid-South Cohort\, a multi-year\, multi-institutional exhibition partnership formed by the Memphis Brooks Museum of Art\, in collaboration with the Arkansas Museum of Fine Arts\, the Birmingham Museum of Art\, Fisk University Art Gallery\, and the Mississippi Museum of Art\, is made possible by the Art Bridges Cohort Program. This exhibition was organized by the Arkansas Museum of Fine Arts. \n \nImage courtesy of Jason Masters.
URL:https://arkmfa.org/event/art-insights-aging-well/
CATEGORIES:Talks & Lectures
ATTACH;FMTTYPE=image/jpeg:https://arkmfa.org/wp-content/uploads/2025/12/Aging-Well-Option-1.jpg
END:VEVENT
BEGIN:VEVENT
DTSTART;TZID=America/Chicago:20260227T090000
DTEND;TZID=America/Chicago:20260227T120000
DTSTAMP:20260419T210101
CREATED:20251213T190002Z
LAST-MODIFIED:20260122T172049Z
UID:10004136-1772182800-1772193600@arkmfa.org
SUMMARY:Watercolor Botanicals Workshop (SOLD OUT)
DESCRIPTION:Use watercolors to create detailed botanical studies and expressive works inspired by the beauty of plants and nature. \nYou will learn how to mix and build colors to capture the subtle nuances of your botanical subject. Explore a range of techniques that allow you to express the essence of plants in your own unique style. \n\nThe Windgate Art School is generously supported by the Windgate Foundation with additional support from Sherry Worthen in memory of George Worthen. \nThe Windgate Art School’s Reduced Tuition Program is supported by Michael Laughter. Reduced tuition is automatically applied to all classes through 2026. \nArtwork by Emily Wood.
URL:https://arkmfa.org/event/watercolor-botanicals-workshop-2/
CATEGORIES:Adults,Art School
ATTACH;FMTTYPE=image/jpeg:https://arkmfa.org/wp-content/uploads/2025/12/Beginner-Intermediate-Watercolor-Botanicals-Workshop.jpg
END:VEVENT
BEGIN:VEVENT
DTSTART;TZID=America/Chicago:20260227T180000
DTEND;TZID=America/Chicago:20260227T210000
DTSTAMP:20260419T210101
CREATED:20251213T170455Z
LAST-MODIFIED:20260113T150218Z
UID:10004137-1772215200-1772226000@arkmfa.org
SUMMARY:Art For Two: Clay Cup Companions (SOLD OUT)
DESCRIPTION:Make a pair of cups that fit snuggly together and brighten up any table space or countertop! You will learn how to decorate your cups by stamping or carving designs into soft clay. \nArt For Two is the perfect one-night class experience for two where you each take home a finished piece. Class materials\, a charcuterie board\, and refreshments are included\, no skills required – just come ready to create\, unwind\, and add some artistic spark to your evening. \nYour creations will be fired and ready for pick up approximately four weeks after the class. \n\nThe Windgate Art School is generously supported by the Windgate Foundation with additional support from Sherry Worthen in memory of George Worthen. \nThe Windgate Art School’s Reduced Tuition Program is supported by Michael Laughter. Reduced tuition is automatically applied to all classes through 2026. \nArtwork by Jenn Perren.
URL:https://arkmfa.org/event/art-for-two-clay-cup-companions/
CATEGORIES:Adults,Art School
ATTACH;FMTTYPE=image/jpeg:https://arkmfa.org/wp-content/uploads/2025/12/Art-for-Two-Clay-Cup-Companions-Jenn-Perren-new-website.jpg
END:VEVENT
BEGIN:VEVENT
DTSTART;TZID=America/Chicago:20260228T100000
DTEND;TZID=America/Chicago:20260228T130000
DTSTAMP:20260419T210101
CREATED:20251210T215900Z
LAST-MODIFIED:20251217T171959Z
UID:10004075-1772272800-1772283600@arkmfa.org
SUMMARY:Creative Saturdays
DESCRIPTION:Craft your own pocket-sized accordion book using folded paper. Inspired by AMFA’s exhibition A Month of Sundays: Art and the Persistence of Time\, this project invites guests to explore time\, memory\, and storytelling in a miniature\, hands-on format. \nAt Creative Saturdays\, guests of all ages and abilities are welcome. Just drop in and enjoy a free\, family-friendly art-making activity in AMFA’s Windgate Art School – no registration required! \n\nThe Mid-South Cohort\, a multi-year\, multi-institutional exhibition partnership formed by the Memphis Brooks Museum of Art\, in collaboration with the Arkansas Museum of Fine Arts\, the Birmingham Museum of Art\, Fisk University Art Gallery\, and the Mississippi Museum of Art\, is made possible by the Art Bridges Cohort Program. This exhibition was organized by the Arkansas Museum of Fine Arts. \n \nThe Windgate Art School is generously supported by the Windgate Foundation with additional support from Sherry Worthen in memory of George Worthen. \nThe Windgate Art School’s Reduced Tuition Program is supported in part by Michael Laughter. Reduced tuition is automatically applied on all classes through 2026. \nImage courtesy of Jason Masters.
URL:https://arkmfa.org/event/creative-saturdays-15/
CATEGORIES:Youth & Families
ATTACH;FMTTYPE=image/jpeg:https://arkmfa.org/wp-content/uploads/2025/09/creative-saturdays-summer-2025-v2.jpg
END:VEVENT
BEGIN:VEVENT
DTSTART;TZID=America/Chicago:20260228T100000
DTEND;TZID=America/Chicago:20260228T130000
DTSTAMP:20260419T210101
CREATED:20251213T192214Z
LAST-MODIFIED:20260210T150351Z
UID:10004106-1772272800-1772283600@arkmfa.org
SUMMARY:Glass Bead Workshop (SOLD OUT)
DESCRIPTION:Learn the essential techniques of creating colorful glass beads from an expert glass artist. \nInstruction covers melting and shaping glass by using a hot torch flame\, exploring the process of working with glass rods\, and learning how to make round spherical beads. Working with the torch\, you will gain an understanding on how to manipulate glass\, forming beautiful\, original artwork. \nThis workshop is perfect for beginners interested in learning the basics of lampworking and bead-making. \n\nThe Windgate Art School is generously supported by the Windgate Foundation with additional support from Sherry Worthen in memory of George Worthen. \nThe Windgate Art School’s Reduced Tuition Program is supported by Michael Laughter. Reduced tuition is automatically applied to all classes through 2026. \nImage courtesy of Jason Masters.
URL:https://arkmfa.org/event/glass-bead-workshop-jan-24/
CATEGORIES:Adults,Art School
ATTACH;FMTTYPE=image/jpeg:https://arkmfa.org/wp-content/uploads/2025/12/Glass-Bead-Making-new-website.jpg
END:VEVENT
BEGIN:VEVENT
DTSTART;TZID=America/Chicago:20260228T103000
DTEND;TZID=America/Chicago:20260228T113000
DTSTAMP:20260419T210101
CREATED:20251222T200144Z
LAST-MODIFIED:20251222T200144Z
UID:10004195-1772274600-1772278200@arkmfa.org
SUMMARY:Gallery Tour
DESCRIPTION:Drop in and discover AMFA with a free docent-led tour through the galleries! \nWith this fun\, engaging\, and memorable experience\, guests of all ages are invited to explore the art on view while learning how to interpret and appreciate works of art in various media. \n\nGallery Tours are supported in part by Fleur S. Bresler. \nImage courtesy of Jason Masters.
URL:https://arkmfa.org/event/gallery-tour-feb-28-26/
CATEGORIES:Tours
ATTACH;FMTTYPE=image/jpeg:https://arkmfa.org/wp-content/uploads/2025/09/Gallery-Tours-Summer-2025-4x3-1.jpg
END:VEVENT
BEGIN:VEVENT
DTSTART;TZID=America/Chicago:20260228T140000
DTEND;TZID=America/Chicago:20260228T170000
DTSTAMP:20260419T210101
CREATED:20251213T185731Z
LAST-MODIFIED:20251213T185731Z
UID:10004138-1772287200-1772298000@arkmfa.org
SUMMARY:Uncommon Threads Printmaking Workshop
DESCRIPTION:Explore artwork featured in AMFA’s exhibition Uncommon Threads in Contemporary Art and learn how to collage photographic images with fabric to create unique works of art. \nThroughout this workshop\, students will sew images into a variety of provided fabric materials to create finished pieces\, offering a creative and accessible way to explore alternative artmaking techniques. \n\nThe Windgate Art School is generously supported by the Windgate Foundation with additional support from Sherry Worthen in memory of George Worthen. \nThe Windgate Art School’s Reduced Tuition Program is supported by Michael Laughter. Reduced tuition is automatically applied to all classes through 2026. \nArtwork by Margo Duvall.
URL:https://arkmfa.org/event/uncommon-threads-printmaking-workshop/
CATEGORIES:Adults,Art School
ATTACH;FMTTYPE=image/jpeg:https://arkmfa.org/wp-content/uploads/2025/12/Beginner-Uncommon-Threads-Workshop-Margo-Duvall-new-website.jpg
END:VEVENT
BEGIN:VEVENT
DTSTART;TZID=America/Chicago:20260301T130000
DTEND;TZID=America/Chicago:20260301T160000
DTSTAMP:20260419T210101
CREATED:20251213T180538Z
LAST-MODIFIED:20251213T180538Z
UID:10004139-1772370000-1772380800@arkmfa.org
SUMMARY:Drop-in Expressive Painting with Music
DESCRIPTION:Create expressive paintings inspired by the energy and emotion of music! \nWorking with Little Rock artist\, Hamid Ebrahimifar\, practice improvisational painting that mirrors the spontaneity and flow of sound. Hamid will guide you through techniques that allow music to shape your artistic expression. A live musician will provide an immersive soundtrack that enhances the creative atmosphere. \nParticipants are encouraged to bring tempera paint\, brushes\, and a painting surface (mixed media paper\, canvas\, or board). In addition to your own materials\, you will have access to tempera paint and a handmade calligraphy brush to use during the session. \n\nThe Windgate Art School is generously supported by the Windgate Foundation with additional support from Sherry Worthen in memory of George Worthen. \nThe Windgate Art School’s Reduced Tuition Program is supported by Michael Laughter. Reduced tuition is automatically applied to all classes through 2026. \nArtwork by Hamid Ebrahimifar.
URL:https://arkmfa.org/event/drop-in-expressive-painting-with-music-mar-1/
CATEGORIES:Adults,Art School
ATTACH;FMTTYPE=image/jpeg:https://arkmfa.org/wp-content/uploads/2025/12/Expressive-Painting-with-Hamid-Ebrahimifar-new-website.jpg
END:VEVENT
BEGIN:VEVENT
DTSTART;TZID=America/Chicago:20260301T140000
DTEND;TZID=America/Chicago:20260301T150000
DTSTAMP:20260419T210101
CREATED:20251223T170621Z
LAST-MODIFIED:20260224T202558Z
UID:10004209-1772373600-1772377200@arkmfa.org
SUMMARY:Meditative Sundays
DESCRIPTION:Explore meditation\, reflection\, and creative awareness inside AMFA’s exhibition A Month of Sundays: Art and the Persistence of Time\, where art becomes a guide for slowing down\, calming the mind\, and reconnecting to the present. \nLed in collaboration with specialists from the UAMS Mindfulness Program\, Meditative Sundays offers a guided experience\, from meditation and slow looking to sound baths and yoga. As the series unfolds\, deepen focus\, release stress\, and build support well-being and connection through art. \nIn this session\, settle into deep listening as resonant tones from singing bowls\, gongs\, and contemplative instruments wash through the space. The layered sounds quiet the mind\, ease stress\, and create a grounded sense of presence before visiting the Galleries to explore the art on view. \n\nThe Mid-South Cohort\, a multi-year\, multi-institutional exhibition partnership formed by the Memphis Brooks Museum of Art\, in collaboration with the Arkansas Museum of Fine Arts\, the Birmingham Museum of Art\, Fisk University Art Gallery\, and the Mississippi Museum of Art\, is made possible by the Art Bridges Cohort Program. This exhibition was organized by the Arkansas Museum of Fine Arts. \n \nPhoto by Sara Reeves.
URL:https://arkmfa.org/event/meditative-sundays/
CATEGORIES:Adults,Special Events
ATTACH;FMTTYPE=image/jpeg:https://arkmfa.org/wp-content/uploads/2025/12/Meditative-Sundays.jpg
END:VEVENT
END:VCALENDAR