BEGIN:VCALENDAR
VERSION:2.0
PRODID:-//Arkansas Museum of Fine Arts - ECPv6.15.20//NONSGML v1.0//EN
CALSCALE:GREGORIAN
METHOD:PUBLISH
X-WR-CALNAME:Arkansas Museum of Fine Arts
X-ORIGINAL-URL:https://arkmfa.org
X-WR-CALDESC:Events for Arkansas Museum of Fine Arts
REFRESH-INTERVAL;VALUE=DURATION:PT1H
X-Robots-Tag:noindex
X-PUBLISHED-TTL:PT1H
BEGIN:VTIMEZONE
TZID:America/Chicago
BEGIN:DAYLIGHT
TZOFFSETFROM:-0600
TZOFFSETTO:-0500
TZNAME:CDT
DTSTART:20230312T080000
END:DAYLIGHT
BEGIN:STANDARD
TZOFFSETFROM:-0500
TZOFFSETTO:-0600
TZNAME:CST
DTSTART:20231105T070000
END:STANDARD
BEGIN:DAYLIGHT
TZOFFSETFROM:-0600
TZOFFSETTO:-0500
TZNAME:CDT
DTSTART:20240310T080000
END:DAYLIGHT
BEGIN:STANDARD
TZOFFSETFROM:-0500
TZOFFSETTO:-0600
TZNAME:CST
DTSTART:20241103T070000
END:STANDARD
BEGIN:DAYLIGHT
TZOFFSETFROM:-0600
TZOFFSETTO:-0500
TZNAME:CDT
DTSTART:20250309T080000
END:DAYLIGHT
BEGIN:STANDARD
TZOFFSETFROM:-0500
TZOFFSETTO:-0600
TZNAME:CST
DTSTART:20251102T070000
END:STANDARD
END:VTIMEZONE
BEGIN:VEVENT
DTSTART;TZID=America/Chicago:20240427T130000
DTEND;TZID=America/Chicago:20240427T170000
DTSTAMP:20260420T123633
CREATED:20251001T220908Z
LAST-MODIFIED:20251001T220908Z
UID:10000725-1714222800-1714237200@arkmfa.org
SUMMARY:Small Scale Animal Sculpture Workshop
DESCRIPTION:Create a small hand-sized animal sculpture and learn the basics of solid clay sculpting. \nInstruction covers how to use simple sculpting tools to model\, hollow\, rejoin\, and attach the sculptures to a clay vessel or form. Bring 5 images on 8.5” x 11” paper of your chosen animal in a curled-up or seated position to sculpt. \nSculptures will be fired in an electric kiln. Glazing is not included with this workshop. \nInstructor: Natalie Madison
URL:https://arkmfa.org/event/small-scale-animal-sculpture-workshop/
CATEGORIES:Adults,Art School
ATTACH;FMTTYPE=image/jpeg:https://arkmfa.org/wp-content/uploads/2025/09/Frog-Pot-Animal-Sculpture-4x3-crop.jpg
END:VEVENT
BEGIN:VEVENT
DTSTART;TZID=America/Chicago:20240427T110000
DTEND;TZID=America/Chicago:20240427T130000
DTSTAMP:20260420T123633
CREATED:20251001T220842Z
LAST-MODIFIED:20251103T204931Z
UID:10000681-1714215600-1714222800@arkmfa.org
SUMMARY:Gallery Engagement
DESCRIPTION:AMFA’s welcoming and enthusiastic docents are available throughout the galleries to answer questions and help guests connect with art in a deeper\, more meaningful manner. \nWe invite you to drop by\, say hello to a docent\, and discover new details\, insights\, and stories about your favorite art and artists while exploring the galleries at your own pace. \nPhoto by Jason Masters.
URL:https://arkmfa.org/event/gallery-engagement-apr-27/
ATTACH;FMTTYPE=image/jpeg:https://arkmfa.org/wp-content/uploads/2025/09/Museum-Tour-with-ASL-4x3-1.jpg
END:VEVENT
BEGIN:VEVENT
DTSTART;TZID=America/Chicago:20240424T183000
DTEND;TZID=America/Chicago:20240424T213000
DTSTAMP:20260420T123633
CREATED:20251001T220917Z
LAST-MODIFIED:20251103T204933Z
UID:10000743-1713983400-1713994200@arkmfa.org
SUMMARY:Drop-In Printmaking
DESCRIPTION:Experiment with the printmaking during this three-hour drop-in experience at the Windgate Art School. Open to beginner and experienced artists alike\, it’s a great way to learn a new art form or work indepedently on your own projects. \nAn instructor will moderate the session and be available for critiques and questions upon request. \nBasic printmaking materials will be available. Students are also welcome to bring their own materials or purchase materials from the AMFA Museum Store. Please view the supply list for suggested materials. \n\nPhoto by Rachel Cobler. \nThe Windgate Art School is generously supported by the Windgate Foundation with additional support from Sherry Worthen in memory of George Worthen. \n 
URL:https://arkmfa.org/event/drop-in-printmaking-apr-24/
CATEGORIES:Adults,Art School
ATTACH;FMTTYPE=image/jpeg:https://arkmfa.org/wp-content/uploads/2025/09/Drop-In-Printmaking-4x3-1.jpg
END:VEVENT
BEGIN:VEVENT
DTSTART;TZID=America/Chicago:20240424T170000
DTEND;TZID=America/Chicago:20240424T200000
DTSTAMP:20260420T123633
CREATED:20251001T220850Z
LAST-MODIFIED:20251031T161921Z
UID:10000697-1713978000-1713988800@arkmfa.org
SUMMARY:Happy Hour & Moore
DESCRIPTION:Enjoy the beauty of AMFA’s Courtyard during a relaxed hangout session by Henry Moore’s iconic sculpture Large Standing Figure: Knife Edge. If inspiration calls\, sit and sketch during a free instructor-guided drawing session or pop into the galleries to learn more about the art on view from our knowledgeable docents. \nSip a beverage\, listen to music\, and celebrate spring in style. AMFA is the place to be on Wednesday nights! \n\nPhoto by Jason Masters. \nHappy Hour & Moore is supported by Stella Boyle Smith Trust\, Catherine and Michael Mayton\, Trustees\, and the Alice L. Walton Foundation. \nThe display of Large Standing Figure: Knife Edge by Henry Moore is funded in part by a grant from the Henry Moore Foundation. \n\n\n\n\n\n  \n\n\n\n\n\n\n\n\n\n 
URL:https://arkmfa.org/event/happy-hour-moore-apr-24/
CATEGORIES:Adults
ATTACH;FMTTYPE=image/jpeg:https://arkmfa.org/wp-content/uploads/2025/09/Happy-Hour-and-Moore-4x3-2.jpg
END:VEVENT
BEGIN:VEVENT
DTSTART;TZID=America/Chicago:20240424T103000
DTEND;TZID=America/Chicago:20240424T113000
DTSTAMP:20260420T123633
CREATED:20251001T220815Z
LAST-MODIFIED:20251030T162129Z
UID:10000613-1713954600-1713958200@arkmfa.org
SUMMARY:ArtStart
DESCRIPTION:ArtStart is an early reader program that pairs children’s books with art activities\, inviting toddlers and preschool students to learn through reading\, imaginative play\, and art-making. \nThis free program welcomes parents\, grandparents\, caregivers\, and our youngest patrons to drop in and explore with us – no reservations required! \nIn this session\, we are reading Still This Love Goes On by Buffy Sainte-Marie and Julie Fleet and creating watercolor resist landscape paintings. \nArtStart is supported by the Alice L. Walton Foundation. \n\n\n\n\n\n\n\n 
URL:https://arkmfa.org/event/artstart-apr-24/
CATEGORIES:Youth & Families
ATTACH;FMTTYPE=image/jpeg:https://arkmfa.org/wp-content/uploads/2025/09/still-this-love-goes-on-cover-crop.jpg
END:VEVENT
BEGIN:VEVENT
DTSTART;TZID=America/Chicago:20240421T123000
DTEND;TZID=America/Chicago:20240421T140000
DTSTAMP:20260420T123633
CREATED:20251001T220842Z
LAST-MODIFIED:20251103T204935Z
UID:10000680-1713702600-1713708000@arkmfa.org
SUMMARY:Gallery Engagement
DESCRIPTION:AMFA’s welcoming and enthusiastic docents are available throughout the galleries to answer questions and help guests connect with art in a deeper\, more meaningful manner. \nWe invite you to drop by\, say hello to a docent\, and discover new details\, insights\, and stories about your favorite art and artists while exploring the galleries at your own pace. \nPhoto by Jason Masters.
URL:https://arkmfa.org/event/gallery-engagement-apr-21/
ATTACH;FMTTYPE=image/jpeg:https://arkmfa.org/wp-content/uploads/2025/09/Museum-Tour-with-ASL-4x3-1.jpg
END:VEVENT
BEGIN:VEVENT
DTSTART;TZID=America/Chicago:20240420T140000
DTEND;TZID=America/Chicago:20240420T170000
DTSTAMP:20260420T123633
CREATED:20251001T220801Z
LAST-MODIFIED:20251001T220801Z
UID:10000599-1713621600-1713632400@arkmfa.org
SUMMARY:Artist Demonstration with Risa Hricovsky (SOLD OUT)
DESCRIPTION:Pull back the curtain on Risa Hricovsky’s “shag rug” ceramic wall sculptures and their visual trickery during this intimate demonstration. Don’t be fooled by your first look at her work! Those are not your grandmother’s shag rugs on the gallery walls. \nWatch how Hricovksy develops different stains in clay to create colorful ceramic tiles that mimic the look of textiles and fabric wall hangings. She will also share how she conceives of her ideas\, leading to a fascinating conversation about the world around us. \nRisa Hricovsky: Then Is Now is on view in the Robyn and John Horn Gallery through May 5\, 2024. \n\nThe Windgate Art School is generously supported by the Windgate Foundation with additional support from Sherry Worthen in memory of George Worthen. \nRisa Hricovsky: Then Is Now is organized by the Arkansas Museum of Fine Arts and is supported by the Alan DuBois Fund for Contemporary Craft.
URL:https://arkmfa.org/event/artist-demonstration-with-risa-hricovsky/
CATEGORIES:Art School,Talks & Lectures
ATTACH;FMTTYPE=image/png:https://arkmfa.org/wp-content/uploads/2025/09/Risa-demonstration-4x3-1.png
END:VEVENT
BEGIN:VEVENT
DTSTART;TZID=America/Chicago:20240420T140000
DTEND;TZID=America/Chicago:20240420T150000
DTSTAMP:20260420T123633
CREATED:20251001T220835Z
LAST-MODIFIED:20251031T172352Z
UID:10000644-1713621600-1713625200@arkmfa.org
SUMMARY:Museum Tour
DESCRIPTION:Drop in and discover AMFA with a docent-led tour through the galleries! \nWith this fun\, engaging\, and memorable experience\, guests of all ages are invited to explore the art on view while learning how to interpret and appreciate works of art in various media. \nPhoto by Jason Masters. \n\n\n\n\n\n\n\n\n\n 
URL:https://arkmfa.org/event/museum-tour-apr-20/
CATEGORIES:Tours
ATTACH;FMTTYPE=image/jpeg:https://arkmfa.org/wp-content/uploads/2025/09/Museum-Tour-Spring-2024-4x3-2.jpg
END:VEVENT
BEGIN:VEVENT
DTSTART;TZID=America/Chicago:20240420T130000
DTEND;TZID=America/Chicago:20240420T160000
DTSTAMP:20260420T123633
CREATED:20251001T220908Z
LAST-MODIFIED:20251001T220908Z
UID:10000726-1713618000-1713628800@arkmfa.org
SUMMARY:Glass Wall Vase Workshop
DESCRIPTION:Create colorful wall pocket vases for your walls and windows! These water-tight vases are wonderful for flower cuttings\, dried flowers\, herbs\, incense sticks\, or just left plain. \nUse thick fiber paper to create the form for the pocket of your vase and learn how to embed the chain hooks within your design. Learn glass-cutting techniques and design considerations. \nInstructor: Donnell Williams
URL:https://arkmfa.org/event/glass-wall-vase-workshop/
CATEGORIES:Adults,Art School
ATTACH;FMTTYPE=image/jpeg:https://arkmfa.org/wp-content/uploads/2025/09/Glass-Wall-Vase-4x3-1.jpg
END:VEVENT
BEGIN:VEVENT
DTSTART;TZID=America/Chicago:20240420T110000
DTEND;TZID=America/Chicago:20240420T130000
DTSTAMP:20260420T123633
CREATED:20251001T220842Z
LAST-MODIFIED:20251103T205000Z
UID:10000679-1713610800-1713618000@arkmfa.org
SUMMARY:Gallery Engagement
DESCRIPTION:AMFA’s welcoming and enthusiastic docents are available throughout the galleries to answer questions and help guests connect with art in a deeper\, more meaningful manner. \nWe invite you to drop by\, say hello to a docent\, and discover new details\, insights\, and stories about your favorite art and artists while exploring the galleries at your own pace. \nPhoto by Jason Masters. \n 
URL:https://arkmfa.org/event/gallery-engagement-apr-20/
ATTACH;FMTTYPE=image/jpeg:https://arkmfa.org/wp-content/uploads/2025/09/Museum-Tour-with-ASL-4x3-1.jpg
END:VEVENT
END:VCALENDAR