BEGIN:VCALENDAR
VERSION:2.0
PRODID:-//Arkansas Museum of Fine Arts - ECPv6.15.20//NONSGML v1.0//EN
CALSCALE:GREGORIAN
METHOD:PUBLISH
X-ORIGINAL-URL:https://arkmfa.org
X-WR-CALDESC:Events for Arkansas Museum of Fine Arts
REFRESH-INTERVAL;VALUE=DURATION:PT1H
X-Robots-Tag:noindex
X-PUBLISHED-TTL:PT1H
BEGIN:VTIMEZONE
TZID:America/Chicago
BEGIN:DAYLIGHT
TZOFFSETFROM:-0600
TZOFFSETTO:-0500
TZNAME:CDT
DTSTART:20250309T080000
END:DAYLIGHT
BEGIN:STANDARD
TZOFFSETFROM:-0500
TZOFFSETTO:-0600
TZNAME:CST
DTSTART:20251102T070000
END:STANDARD
BEGIN:DAYLIGHT
TZOFFSETFROM:-0600
TZOFFSETTO:-0500
TZNAME:CDT
DTSTART:20260308T080000
END:DAYLIGHT
BEGIN:STANDARD
TZOFFSETFROM:-0500
TZOFFSETTO:-0600
TZNAME:CST
DTSTART:20261101T070000
END:STANDARD
BEGIN:DAYLIGHT
TZOFFSETFROM:-0600
TZOFFSETTO:-0500
TZNAME:CDT
DTSTART:20270314T080000
END:DAYLIGHT
BEGIN:STANDARD
TZOFFSETFROM:-0500
TZOFFSETTO:-0600
TZNAME:CST
DTSTART:20271107T070000
END:STANDARD
END:VTIMEZONE
BEGIN:VEVENT
DTSTART;TZID=America/Chicago:20260415T103000
DTEND;TZID=America/Chicago:20260415T113000
DTSTAMP:20260423T205851
CREATED:20251230T194437Z
LAST-MODIFIED:20251230T194437Z
UID:10004220-1776249000-1776252600@arkmfa.org
SUMMARY:Art Start
DESCRIPTION:Nurture your early learner’s creativity through art\, music\, movement\, and play! Art Start invites toddlers and preschoolers to explore in a welcoming environment that encourages curiosity\, imagination\, and growth. Each session features a story\, song\, and art-making activity\, plus a special letter or instrument of the day to spark hands-on discovery for families and caregivers to enjoy together. \nDrop by on this day to experience the story The Clock Struck One by Trudy Harris\, a playful retelling of Hickory Dickory Dock that explores time through rhyme and repetition. Then\, create a paper watch inspired by the AMFA exhibition A Month of Sundays: Art and the Persistence of Time. \n\nThe Mid-South Cohort\, a multi-year\, multi-institutional exhibition partnership formed by the Memphis Brooks Museum of Art\, in collaboration with the Arkansas Museum of Fine Arts\, the Birmingham Museum of Art\, Fisk University Art Gallery\, and the Mississippi Museum of Art\, is made possible by the Art Bridges Cohort Program. This exhibition was organized by the Arkansas Museum of Fine Arts. \n \nImage courtesy of Jason Masters
URL:https://arkmfa.org/event/art-start-april-15-26/
CATEGORIES:Youth & Families
ATTACH;FMTTYPE=image/jpeg:https://arkmfa.org/wp-content/uploads/2025/10/Art-Start-January-2026.jpg
END:VEVENT
BEGIN:VEVENT
DTSTART;TZID=America/Chicago:20260418T100000
DTEND;TZID=America/Chicago:20260418T130000
DTSTAMP:20260423T205851
CREATED:20251210T222424Z
LAST-MODIFIED:20260313T203205Z
UID:10004082-1776506400-1776517200@arkmfa.org
SUMMARY:Creative Saturdays
DESCRIPTION:Create a nature-inspired artwork using plants as stencils in celebration of Earth Day. \nAt Creative Saturdays\, guests of all ages and abilities are welcome. Just drop in and enjoy a free\, family-friendly art-making activity in AMFA’s Windgate Art School – no registration required! \n\nThe Windgate Art School is generously supported by the Windgate Foundation with additional support from Sherry Worthen in memory of George Worthen. \nThe Windgate Art School’s Reduced Tuition Program is supported in part by Michael Laughter. Reduced tuition is automatically applied on all classes through 2026. \nImage courtesy of Jason Masters.
URL:https://arkmfa.org/event/creative-saturdays-22/
CATEGORIES:Youth & Families
ATTACH;FMTTYPE=image/jpeg:https://arkmfa.org/wp-content/uploads/2025/09/creative-saturdays-summer-2025-v2.jpg
END:VEVENT
END:VCALENDAR