BEGIN:VCALENDAR
VERSION:2.0
PRODID:-//Arkansas Museum of Fine Arts - ECPv6.15.20//NONSGML v1.0//EN
CALSCALE:GREGORIAN
METHOD:PUBLISH
X-ORIGINAL-URL:https://arkmfa.org
X-WR-CALDESC:Events for Arkansas Museum of Fine Arts
REFRESH-INTERVAL;VALUE=DURATION:PT1H
X-Robots-Tag:noindex
X-PUBLISHED-TTL:PT1H
BEGIN:VTIMEZONE
TZID:America/Chicago
BEGIN:DAYLIGHT
TZOFFSETFROM:-0600
TZOFFSETTO:-0500
TZNAME:CDT
DTSTART:20240310T080000
END:DAYLIGHT
BEGIN:STANDARD
TZOFFSETFROM:-0500
TZOFFSETTO:-0600
TZNAME:CST
DTSTART:20241103T070000
END:STANDARD
BEGIN:DAYLIGHT
TZOFFSETFROM:-0600
TZOFFSETTO:-0500
TZNAME:CDT
DTSTART:20250309T080000
END:DAYLIGHT
BEGIN:STANDARD
TZOFFSETFROM:-0500
TZOFFSETTO:-0600
TZNAME:CST
DTSTART:20251102T070000
END:STANDARD
BEGIN:DAYLIGHT
TZOFFSETFROM:-0600
TZOFFSETTO:-0500
TZNAME:CDT
DTSTART:20260308T080000
END:DAYLIGHT
BEGIN:STANDARD
TZOFFSETFROM:-0500
TZOFFSETTO:-0600
TZNAME:CST
DTSTART:20261101T070000
END:STANDARD
END:VTIMEZONE
BEGIN:VEVENT
DTSTART;TZID=America/Chicago:20250429T103000
DTEND;TZID=America/Chicago:20250429T113000
DTSTAMP:20260422T175827
CREATED:20251001T221249Z
LAST-MODIFIED:20251030T160515Z
UID:10001215-1745922600-1745926200@arkmfa.org
SUMMARY:Art Start
DESCRIPTION:Art Start is an early reader program that pairs children’s books with art activities\, inviting toddlers and preschool students to learn through reading\, imaginative play\, and art-making. \nThis free program welcomes parents\, grandparents\, caregivers\, and our youngest patrons to drop in and explore with us – no reservations required! \nIn this session\, we are reading Dance is for Everyone and creating ballet dancer puppets. \n\nArt Start is supported by the Alice L. Walton Foundation and Walmart Spark Good. \n 
URL:https://arkmfa.org/event/art-start-apr-29/
CATEGORIES:Youth & Families
ATTACH;FMTTYPE=image/jpeg:https://arkmfa.org/wp-content/uploads/2025/09/Dance-Is-For-Everyone-book-graphic.jpg
END:VEVENT
BEGIN:VEVENT
DTSTART;TZID=America/Chicago:20250503T100000
DTEND;TZID=America/Chicago:20250503T130000
DTSTAMP:20260422T175827
CREATED:20251001T221257Z
LAST-MODIFIED:20251028T235303Z
UID:10001233-1746266400-1746277200@arkmfa.org
SUMMARY:Creative Saturdays
DESCRIPTION:In celebration of the 60th Spring Tour of Homes: Art and Architecture in MacArthur Park\, the Quapaw Quarter Association is hosting a free\, hands-on art project that invites guests to design their own imaginative neighborhoods. \nUsing stamps and ink\, participants will design their own roads\, homes\, and landscapes by drawing inspiration from architectural details and the vibrant character of the surrounding neighborhood. All ages and skill levels are welcome! \nAbout the Quapaw Quarter Association\nIncorporated in 1968\, the Quapaw Quarter Association (QQA) grew out of an effort to identify and protect significant historic structures in Little Rock during the urban renewal projects of the early 1960s. Throughout its existence\, the QQA has been a driving force behind historic preservation in Greater Little Rock. \n\nCreative Saturdays are supported by the Alice L. Walton Foundation. \nThe Windgate Art School is generously supported by the Windgate Foundation with additional support from Sherry Worthen in memory of George Worthen. \nWindgate Art School’s Reduced Tuition Program is supported in part by Michael Laughter. Reduced tuition is automatically applied on all classes through 2025. \n 
URL:https://arkmfa.org/event/creative-saturdays-may-3/
CATEGORIES:Youth & Families
ATTACH;FMTTYPE=image/jpeg:https://arkmfa.org/wp-content/uploads/2025/09/Creative-Saturdays-Fall-2024.jpg
END:VEVENT
END:VCALENDAR