BEGIN:VCALENDAR
VERSION:2.0
PRODID:-//Arkansas Museum of Fine Arts - ECPv6.15.20//NONSGML v1.0//EN
CALSCALE:GREGORIAN
METHOD:PUBLISH
X-ORIGINAL-URL:https://arkmfa.org
X-WR-CALDESC:Events for Arkansas Museum of Fine Arts
REFRESH-INTERVAL;VALUE=DURATION:PT1H
X-Robots-Tag:noindex
X-PUBLISHED-TTL:PT1H
BEGIN:VTIMEZONE
TZID:America/Chicago
BEGIN:DAYLIGHT
TZOFFSETFROM:-0600
TZOFFSETTO:-0500
TZNAME:CDT
DTSTART:20240310T080000
END:DAYLIGHT
BEGIN:STANDARD
TZOFFSETFROM:-0500
TZOFFSETTO:-0600
TZNAME:CST
DTSTART:20241103T070000
END:STANDARD
BEGIN:DAYLIGHT
TZOFFSETFROM:-0600
TZOFFSETTO:-0500
TZNAME:CDT
DTSTART:20250309T080000
END:DAYLIGHT
BEGIN:STANDARD
TZOFFSETFROM:-0500
TZOFFSETTO:-0600
TZNAME:CST
DTSTART:20251102T070000
END:STANDARD
BEGIN:DAYLIGHT
TZOFFSETFROM:-0600
TZOFFSETTO:-0500
TZNAME:CDT
DTSTART:20260308T080000
END:DAYLIGHT
BEGIN:STANDARD
TZOFFSETFROM:-0500
TZOFFSETTO:-0600
TZNAME:CST
DTSTART:20261101T070000
END:STANDARD
END:VTIMEZONE
BEGIN:VEVENT
DTSTART;TZID=America/Chicago:20250423T103000
DTEND;TZID=America/Chicago:20250423T113000
DTSTAMP:20260423T152139
CREATED:20251001T221249Z
LAST-MODIFIED:20251030T160527Z
UID:10001214-1745404200-1745407800@arkmfa.org
SUMMARY:Art Start
DESCRIPTION:Art Start is an early reader program that pairs children’s books with art activities\, inviting toddlers and preschool students to learn through reading\, imaginative play\, and art-making. \nThis free program welcomes parents\, grandparents\, caregivers\, and our youngest patrons to drop in and explore with us – no reservations required! \nIn this session\, we are reading Dance is for Everyone and creating ballet dancer puppets. \n\nArt Start is supported by the Alice L. Walton Foundation and Walmart Spark Good. \n 
URL:https://arkmfa.org/event/art-start-apr-23/
CATEGORIES:Youth & Families
ATTACH;FMTTYPE=image/jpeg:https://arkmfa.org/wp-content/uploads/2025/09/Dance-Is-For-Everyone-book-graphic.jpg
END:VEVENT
BEGIN:VEVENT
DTSTART;TZID=America/Chicago:20250426T100000
DTEND;TZID=America/Chicago:20250426T130000
DTSTAMP:20260423T152139
CREATED:20251001T221257Z
LAST-MODIFIED:20251028T235310Z
UID:10001232-1745661600-1745672400@arkmfa.org
SUMMARY:Creative Saturdays
DESCRIPTION:Start your weekend with free art-making fun for all ages and skill levels in AMFA’s Windgate Art School! \nInspired by the iconic photography on view in Kwame Brathwaite: The 1970s\, this Creative Saturdays activity invites you to explore the art of fashion design. \nBrathwaite was a pivotal figure in the “Black is Beautiful” movement\, and his work celebrated natural beauty and African heritage\, capturing bold styles and cultural expression. Using fashion design stencils and fabric samples\, create your own unique outfits and couture pieces by embracing the vibrant aesthetics and empowering themes present in Brathwaite’s photography. \n\nCreative Saturdays are supported by the Alice L. Walton Foundation. \nThe Windgate Art School is generously supported by the Windgate Foundation with additional support from Sherry Worthen in memory of George Worthen. \nWindgate Art School’s Reduced Tuition Program is supported in part by Michael Laughter. Reduced tuition is automatically applied on all classes through 2025. \n 
URL:https://arkmfa.org/event/creative-saturdays-apr-26/
CATEGORIES:Youth & Families
ATTACH;FMTTYPE=image/jpeg:https://arkmfa.org/wp-content/uploads/2025/09/Creative-Saturdays-Fall-2024.jpg
END:VEVENT
END:VCALENDAR