BEGIN:VCALENDAR
VERSION:2.0
PRODID:-//Arkansas Museum of Fine Arts - ECPv6.15.20//NONSGML v1.0//EN
CALSCALE:GREGORIAN
METHOD:PUBLISH
X-WR-CALNAME:Arkansas Museum of Fine Arts
X-ORIGINAL-URL:https://arkmfa.org
X-WR-CALDESC:Events for Arkansas Museum of Fine Arts
REFRESH-INTERVAL;VALUE=DURATION:PT1H
X-Robots-Tag:noindex
X-PUBLISHED-TTL:PT1H
BEGIN:VTIMEZONE
TZID:America/Chicago
BEGIN:DAYLIGHT
TZOFFSETFROM:-0600
TZOFFSETTO:-0500
TZNAME:CDT
DTSTART:20240310T080000
END:DAYLIGHT
BEGIN:STANDARD
TZOFFSETFROM:-0500
TZOFFSETTO:-0600
TZNAME:CST
DTSTART:20241103T070000
END:STANDARD
BEGIN:DAYLIGHT
TZOFFSETFROM:-0600
TZOFFSETTO:-0500
TZNAME:CDT
DTSTART:20250309T080000
END:DAYLIGHT
BEGIN:STANDARD
TZOFFSETFROM:-0500
TZOFFSETTO:-0600
TZNAME:CST
DTSTART:20251102T070000
END:STANDARD
BEGIN:DAYLIGHT
TZOFFSETFROM:-0600
TZOFFSETTO:-0500
TZNAME:CDT
DTSTART:20260308T080000
END:DAYLIGHT
BEGIN:STANDARD
TZOFFSETFROM:-0500
TZOFFSETTO:-0600
TZNAME:CST
DTSTART:20261101T070000
END:STANDARD
END:VTIMEZONE
BEGIN:VEVENT
DTSTART;TZID=America/Chicago:20250304T103000
DTEND;TZID=America/Chicago:20250304T113000
DTSTAMP:20260423T063141
CREATED:20251001T221249Z
LAST-MODIFIED:20251030T160620Z
UID:10001208-1741084200-1741087800@arkmfa.org
SUMMARY:Art Start
DESCRIPTION:Art Start is an early reader program that pairs children’s books with art activities\, inviting toddlers and preschool students to learn through reading\, imaginative play\, and art-making. \nThis free program welcomes parents\, grandparents\, caregivers\, and our youngest patrons to drop in and explore with us – no reservations required! \nIn this session\, we are reading One Fish Two Fish Red Fish Blue Fish  and creating tissue paper fish bowl collages. \n\nArt Start is supported by the Alice L. Walton Foundation and Walmart Spark Good. \n\n\n\n\n\n\n\n 
URL:https://arkmfa.org/event/art-start-mar-4/
CATEGORIES:Youth & Families
ATTACH;FMTTYPE=image/jpeg:https://arkmfa.org/wp-content/uploads/2025/09/one-fish-two-fish-book-cover-crop.jpg
END:VEVENT
BEGIN:VEVENT
DTSTART;TZID=America/Chicago:20250308T100000
DTEND;TZID=America/Chicago:20250308T130000
DTSTAMP:20260423T063141
CREATED:20251001T221323Z
LAST-MODIFIED:20251103T195128Z
UID:10001279-1741428000-1741438800@arkmfa.org
SUMMARY:Studio Saturday
DESCRIPTION:Stop by AMFA’s Windgate Art School where every studio will be open for you to explore and experience! \nWhether you are a skilled artist or a first-time maker\, this opportunity welcomes guests of all ages to experience a variety of artistic disciplines through free\, hands-on activities and exciting demonstrations. \nInstructors will be on hand to answer questions about upcoming art classes and help you pick out the perfect programs for you and your family. \nHere are the free art-making activities happening across each studio: \n\nCeramics Studio – Try out the potter’s wheel or experiment with handbuilding\nDrawing Studio – Sketch a draped model using charcoals\, pencils\, and pastels\nMetals Studio – Create custom wearables and jewelry\nFlex Studio – Make colorful string art inspired by Anne Lindberg’s installation passage\n\n\nStudio Saturdays are supported in part by the Windgate Foundation. \nThe Windgate Art School is generously supported in part by the Windgate Foundation with additional support from Sherry Worthen in memory of George Worthen. \nWindgate Art School’s Reduced Tuition Program is supported in part by Michael Laughter. Reduced tuition is automatically applied on all classes through 2025. \nAnne Lindberg: passage is presented by Terri and Chuck Erwin with additional support from the Lenore G. Tawney Foundation. \n 
URL:https://arkmfa.org/event/studio-saturday-mar-8/
CATEGORIES:Adults,Art School,Youth & Families
ATTACH;FMTTYPE=image/jpeg:https://arkmfa.org/wp-content/uploads/2025/09/WAS-All-Access-Fall-2024-2.jpg
END:VEVENT
BEGIN:VEVENT
DTSTART;TZID=America/Chicago:20250308T100000
DTEND;TZID=America/Chicago:20250308T130000
DTSTAMP:20260423T063141
CREATED:20251001T221307Z
LAST-MODIFIED:20251001T221307Z
UID:10001244-1741428000-1741438800@arkmfa.org
SUMMARY:Family Fest: Artists in Action
DESCRIPTION:Inspired by AMFA’s multi-colored thread installation passage by Anne Lindberg\, this special family festival invites you to unleash your imagination and create your own passage-inspired art – alongside the artist herself. \nFind inspiration by experiencing the installation in person and learning more about Lindberg’s approach to color\, line\, and composition. Families can also explore some incredible works already created by over 100 schools and organizations this year as part of AMFA’s Community Created program. \n\nFamily Fest: Artists in Action is supported in part by the Alice L. Walton Foundation. \nAnne Lindberg: passage is presented by Terri and Chuck Erwin with additional support from the Lenore G. Tawney Foundation. \nImage courtesy of Jason Masters.
URL:https://arkmfa.org/event/family-fest-artists-in-action/
CATEGORIES:Youth & Families
ATTACH;FMTTYPE=image/jpeg:https://arkmfa.org/wp-content/uploads/2025/09/Family-Fest-Artists-in-Action-4x3-1.jpg
END:VEVENT
END:VCALENDAR