BEGIN:VCALENDAR
VERSION:2.0
PRODID:-//Arkansas Museum of Fine Arts - ECPv6.15.20//NONSGML v1.0//EN
CALSCALE:GREGORIAN
METHOD:PUBLISH
X-ORIGINAL-URL:https://arkmfa.org
X-WR-CALDESC:Events for Arkansas Museum of Fine Arts
REFRESH-INTERVAL;VALUE=DURATION:PT1H
X-Robots-Tag:noindex
X-PUBLISHED-TTL:PT1H
BEGIN:VTIMEZONE
TZID:America/Chicago
BEGIN:DAYLIGHT
TZOFFSETFROM:-0600
TZOFFSETTO:-0500
TZNAME:CDT
DTSTART:20240310T080000
END:DAYLIGHT
BEGIN:STANDARD
TZOFFSETFROM:-0500
TZOFFSETTO:-0600
TZNAME:CST
DTSTART:20241103T070000
END:STANDARD
BEGIN:DAYLIGHT
TZOFFSETFROM:-0600
TZOFFSETTO:-0500
TZNAME:CDT
DTSTART:20250309T080000
END:DAYLIGHT
BEGIN:STANDARD
TZOFFSETFROM:-0500
TZOFFSETTO:-0600
TZNAME:CST
DTSTART:20251102T070000
END:STANDARD
BEGIN:DAYLIGHT
TZOFFSETFROM:-0600
TZOFFSETTO:-0500
TZNAME:CDT
DTSTART:20260308T080000
END:DAYLIGHT
BEGIN:STANDARD
TZOFFSETFROM:-0500
TZOFFSETTO:-0600
TZNAME:CST
DTSTART:20261101T070000
END:STANDARD
END:VTIMEZONE
BEGIN:VEVENT
DTSTART;TZID=America/Chicago:20250218T103000
DTEND;TZID=America/Chicago:20250218T113000
DTSTAMP:20260425T194010
CREATED:20251001T221249Z
LAST-MODIFIED:20251030T160636Z
UID:10001206-1739874600-1739878200@arkmfa.org
SUMMARY:Art Start
DESCRIPTION:Art Start is an early reader program that pairs children’s books with art activities\, inviting toddlers and preschool students to learn through reading\, imaginative play\, and art-making. \nThis free program welcomes parents\, grandparents\, caregivers\, and our youngest patrons to drop in and explore with us – no reservations required! \nIn this session\, we are reading Diego and using pastels to create art like Diego does in the story. \n\nArt Start is supported by the Alice L. Walton Foundation and Walmart Spark Good. \n\n\n\n\n\n\n\n 
URL:https://arkmfa.org/event/art-start-feb-18/
CATEGORIES:Youth & Families
ATTACH;FMTTYPE=image/jpeg:https://arkmfa.org/wp-content/uploads/2025/09/diego-childrens-book-cover-crop.jpg
END:VEVENT
BEGIN:VEVENT
DTSTART;TZID=America/Chicago:20250222T100000
DTEND;TZID=America/Chicago:20250222T130000
DTSTAMP:20260425T194010
CREATED:20251001T221257Z
LAST-MODIFIED:20251028T235408Z
UID:10001227-1740218400-1740229200@arkmfa.org
SUMMARY:Creative Saturdays
DESCRIPTION:Start your weekend with free art-making fun for all ages and skill levels in AMFA’s Windgate Art School! \nThis Creative Saturdays activity hosted by SoMa 501 invites you to prepare for SoMardi Gras on March 1 by designing and creating your own masquerade mask using a variety of materials and colors. \nAbout SoMardi Gras\nInspired by the vibrant spirit of New Orleans\, SoMardi Gras celebrates creativity and diversity in Little Rock’s SoMa district. This year’s event turns up the fun with an unforgettable disco-themed parade and street festival. \n\nCreative Saturdays are supported by the Alice L. Walton Foundation. \nThe Windgate Art School is generously supported by the Windgate Foundation with additional support from Sherry Worthen in memory of George Worthen. \nWindgate Art School’s Reduced Tuition Program is supported in part by Michael Laughter. Reduced tuition is automatically applied on all classes through 2025. \n 
URL:https://arkmfa.org/event/creative-saturdays-feb-22/
CATEGORIES:Youth & Families
ATTACH;FMTTYPE=image/jpeg:https://arkmfa.org/wp-content/uploads/2025/09/Creative-Saturdays-Fall-2024.jpg
END:VEVENT
BEGIN:VEVENT
DTSTART;TZID=America/Chicago:20250223T143000
DTEND;TZID=America/Chicago:20250223T160000
DTSTAMP:20260425T194010
CREATED:20251001T221323Z
LAST-MODIFIED:20251031T162747Z
UID:10001278-1740321000-1740326400@arkmfa.org
SUMMARY:For Your Consideration: Flow
DESCRIPTION:The nominees are in! The Arkansas Cinema Society’s For Your Consideration Series returns to the Arkansas Museum of Fine Arts to ensure you are ready for Hollywood’s biggest night\, bringing you screenings of the most talked-about Oscar-nominated films of the year. \nThis event features Flow. \nAbout Flow\nCat is a solitary animal. But as its home is devastated by a great flood\, he finds refuge on a boat populated by various species and will have to team up with them despite their differences. \n\nRunning Time: 1 hour\, 25 minutesRating: PGNominations: Best Animated Feature Film\, Best International Feature Film \n\n\n\n\nWatch the Trailer\n\n\n\n\n\n\n\n\n\n\n 
URL:https://arkmfa.org/event/for-your-consideration-flow/
CATEGORIES:Films,Youth & Families
ATTACH;FMTTYPE=image/png:https://arkmfa.org/wp-content/uploads/2025/09/FLOW-still-4x3-1.png
END:VEVENT
END:VCALENDAR