BEGIN:VCALENDAR
VERSION:2.0
PRODID:-//Arkansas Museum of Fine Arts - ECPv6.15.20//NONSGML v1.0//EN
CALSCALE:GREGORIAN
METHOD:PUBLISH
X-ORIGINAL-URL:https://arkmfa.org
X-WR-CALDESC:Events for Arkansas Museum of Fine Arts
REFRESH-INTERVAL;VALUE=DURATION:PT1H
X-Robots-Tag:noindex
X-PUBLISHED-TTL:PT1H
BEGIN:VTIMEZONE
TZID:America/Chicago
BEGIN:DAYLIGHT
TZOFFSETFROM:-0600
TZOFFSETTO:-0500
TZNAME:CDT
DTSTART:20250309T080000
END:DAYLIGHT
BEGIN:STANDARD
TZOFFSETFROM:-0500
TZOFFSETTO:-0600
TZNAME:CST
DTSTART:20251102T070000
END:STANDARD
BEGIN:DAYLIGHT
TZOFFSETFROM:-0600
TZOFFSETTO:-0500
TZNAME:CDT
DTSTART:20260308T080000
END:DAYLIGHT
BEGIN:STANDARD
TZOFFSETFROM:-0500
TZOFFSETTO:-0600
TZNAME:CST
DTSTART:20261101T070000
END:STANDARD
BEGIN:DAYLIGHT
TZOFFSETFROM:-0600
TZOFFSETTO:-0500
TZNAME:CDT
DTSTART:20270314T080000
END:DAYLIGHT
BEGIN:STANDARD
TZOFFSETFROM:-0500
TZOFFSETTO:-0600
TZNAME:CST
DTSTART:20271107T070000
END:STANDARD
END:VTIMEZONE
BEGIN:VEVENT
DTSTART;TZID=America/Chicago:20260530T100000
DTEND;TZID=America/Chicago:20260530T170000
DTSTAMP:20260422T132943
CREATED:20251210T224301Z
LAST-MODIFIED:20260330T203010Z
UID:10004088-1780135200-1780160400@arkmfa.org
SUMMARY:Creative Saturdays: All Day! with Laura Tanner
DESCRIPTION:Contribute to a large-scale collaborative drawing by adding your favorite dish to a shared\, table-themed artwork. Inspired by Laura Tanner\, AMFA’s visiting artist-in-residence\, this project celebrates community and creativity through food-centered art. Tanner will work on her own artwork in the space\, inviting families to stop by and see the creative process in action. \nAt Creative Saturdays\, guests of all ages and abilities are welcome. Just drop in and enjoy a free\, family-friendly art-making activity in AMFA’s Windgate Art School—no registration required! \n\nCreative Saturdays: All Day! with Laura Tanner is supported in part by the John and Robyn Horn Foundation and Art Bridges. \n \nThe Windgate Art School is generously supported by the Windgate Foundation with additional support from Sherry Worthen in memory of George Worthen. \nThe Windgate Art School’s Reduced Tuition Program is supported in part by Michael Laughter. Reduced tuition is automatically applied on all classes through 2026. \nImage courtesy of Jason Masters.
URL:https://arkmfa.org/event/creative-saturdays-all-day-with-laura-tanner/
CATEGORIES:Youth & Families
ATTACH;FMTTYPE=image/jpeg:https://arkmfa.org/wp-content/uploads/2025/09/creative-saturdays-summer-2025-v2.jpg
END:VEVENT
BEGIN:VEVENT
DTSTART;TZID=America/Chicago:20260603T103000
DTEND;TZID=America/Chicago:20260603T113000
DTSTAMP:20260422T132943
CREATED:20260416T154517Z
LAST-MODIFIED:20260421T193318Z
UID:10004310-1780482600-1780486200@arkmfa.org
SUMMARY:Art Start
DESCRIPTION:Nurture your early learner’s creativity through art\, music\, movement\, and play! Art Start invites toddlers and preschoolers to explore in a welcoming environment that encourages curiosity\, imagination\, and growth. Each session features a story\, song\, and art-making activity\, plus a special letter or instrument of the day to spark hands-on discovery for families and caregivers to enjoy together. \nDrop by on this day to experience the story Monsters Love Colors by Mike Austin\, a playful story about colorful monsters and creativity. Then\, create a squish sensory painting influenced by the art on view in The 65th Young Arkansas Artists exhibition. \n\nThe 65th Young Arkansas Artists Exhibition and awards are supported in part by Arkansas Children’s Hospital\, Delaware North and the Jacobs Family\, Simmons First Foundation\, Mid-Southern Watercolorists\, and Blick Art Materials. \nThis exhibition is organized by the Arkansas Museum of Fine Arts. \nImage courtesy of Jason Masters
URL:https://arkmfa.org/event/art-start-2/
CATEGORIES:Youth & Families
ATTACH;FMTTYPE=image/jpeg:https://arkmfa.org/wp-content/uploads/2025/10/Art-Start-January-2026.jpg
END:VEVENT
END:VCALENDAR