BEGIN:VCALENDAR
VERSION:2.0
PRODID:-//Arkansas Museum of Fine Arts - ECPv6.15.20//NONSGML v1.0//EN
CALSCALE:GREGORIAN
METHOD:PUBLISH
X-WR-CALNAME:Arkansas Museum of Fine Arts
X-ORIGINAL-URL:https://arkmfa.org
X-WR-CALDESC:Events for Arkansas Museum of Fine Arts
REFRESH-INTERVAL;VALUE=DURATION:PT1H
X-Robots-Tag:noindex
X-PUBLISHED-TTL:PT1H
BEGIN:VTIMEZONE
TZID:America/Chicago
BEGIN:DAYLIGHT
TZOFFSETFROM:-0600
TZOFFSETTO:-0500
TZNAME:CDT
DTSTART:20250309T080000
END:DAYLIGHT
BEGIN:STANDARD
TZOFFSETFROM:-0500
TZOFFSETTO:-0600
TZNAME:CST
DTSTART:20251102T070000
END:STANDARD
BEGIN:DAYLIGHT
TZOFFSETFROM:-0600
TZOFFSETTO:-0500
TZNAME:CDT
DTSTART:20260308T080000
END:DAYLIGHT
BEGIN:STANDARD
TZOFFSETFROM:-0500
TZOFFSETTO:-0600
TZNAME:CST
DTSTART:20261101T070000
END:STANDARD
BEGIN:DAYLIGHT
TZOFFSETFROM:-0600
TZOFFSETTO:-0500
TZNAME:CDT
DTSTART:20270314T080000
END:DAYLIGHT
BEGIN:STANDARD
TZOFFSETFROM:-0500
TZOFFSETTO:-0600
TZNAME:CST
DTSTART:20271107T070000
END:STANDARD
END:VTIMEZONE
BEGIN:VEVENT
DTSTART;TZID=America/Chicago:20260429T103000
DTEND;TZID=America/Chicago:20260429T113000
DTSTAMP:20260421T183440
CREATED:20251230T194929Z
LAST-MODIFIED:20260121T165750Z
UID:10004222-1777458600-1777462200@arkmfa.org
SUMMARY:Art Start
DESCRIPTION:Nurture your early learner’s creativity through art\, music\, movement\, and play! Art Start invites toddlers and preschoolers to explore in a welcoming environment that encourages curiosity\, imagination\, and growth. Each session features a story\, song\, and art-making activity\, plus a special letter or instrument of the day to spark hands-on discovery for families and caregivers to enjoy together. \nDrop by on this day to experience the story My Friend Earth by Patricia MacLachlan\, a story celebrating our planet and the ways we can care for it. Then\, create an earth collage inspired by the AMFA exhibition Lori Larusso: A Paradox of Plenty. \n\nLori Larusso: A Paradox of Plenty is supported in part by The Brown Foundation\, Inc. of Houston. \nThis exhibition is organized by the Arkansas Museum of Fine Arts. \nImage courtesy of Jason Masters
URL:https://arkmfa.org/event/art-start-april-29-26/
CATEGORIES:Youth & Families
ATTACH;FMTTYPE=image/jpeg:https://arkmfa.org/wp-content/uploads/2025/10/Art-Start-January-2026.jpg
END:VEVENT
END:VCALENDAR