BEGIN:VCALENDAR
VERSION:2.0
PRODID:-//Arkansas Museum of Fine Arts - ECPv6.15.20//NONSGML v1.0//EN
CALSCALE:GREGORIAN
METHOD:PUBLISH
X-WR-CALNAME:Arkansas Museum of Fine Arts
X-ORIGINAL-URL:https://arkmfa.org
X-WR-CALDESC:Events for Arkansas Museum of Fine Arts
REFRESH-INTERVAL;VALUE=DURATION:PT1H
X-Robots-Tag:noindex
X-PUBLISHED-TTL:PT1H
BEGIN:VTIMEZONE
TZID:America/Chicago
BEGIN:DAYLIGHT
TZOFFSETFROM:-0600
TZOFFSETTO:-0500
TZNAME:CDT
DTSTART:20240310T080000
END:DAYLIGHT
BEGIN:STANDARD
TZOFFSETFROM:-0500
TZOFFSETTO:-0600
TZNAME:CST
DTSTART:20241103T070000
END:STANDARD
BEGIN:DAYLIGHT
TZOFFSETFROM:-0600
TZOFFSETTO:-0500
TZNAME:CDT
DTSTART:20250309T080000
END:DAYLIGHT
BEGIN:STANDARD
TZOFFSETFROM:-0500
TZOFFSETTO:-0600
TZNAME:CST
DTSTART:20251102T070000
END:STANDARD
BEGIN:DAYLIGHT
TZOFFSETFROM:-0600
TZOFFSETTO:-0500
TZNAME:CDT
DTSTART:20260308T080000
END:DAYLIGHT
BEGIN:STANDARD
TZOFFSETFROM:-0500
TZOFFSETTO:-0600
TZNAME:CST
DTSTART:20261101T070000
END:STANDARD
END:VTIMEZONE
BEGIN:VEVENT
DTSTART;TZID=America/Chicago:20250708T103000
DTEND;TZID=America/Chicago:20250708T113000
DTSTAMP:20260420T164022
CREATED:20251001T221408Z
LAST-MODIFIED:20251030T155812Z
UID:10001414-1751970600-1751974200@arkmfa.org
SUMMARY:Art Start
DESCRIPTION:Explore the hidden connections between nature and daily life with a reading of Outside In\, a poetic story about the ever-present outdoors. Inspired by AMFA’s exhibition The Long View: From Conservation to Sustainability\, this session invites children to construct a recycled 3D landscape project\, using repurposed materials to recreate nature through art. \nArt Start is an early reader program that pairs children’s books with art activities\, inviting toddlers and preschool students to learn through reading\, imaginative play\, and art-making. \nThis free program welcomes parents\, grandparents\, caregivers\, and our youngest patrons to drop in and explore with us – no reservations required! \n\nArt Start is supported in part by the Alice L. Walton Foundation and Walmart Spark Good. \nThe Long View: From Conservation to Sustainability: Works from the Bank of America Collection is presented by Bank of America. \n \nAdditional support is provided by Anne and Merritt Dyke. \nThis exhibition has been loaned through the Bank of America Art in our Communities® program. \n\n\n\n\n\n\n\n 
URL:https://arkmfa.org/event/art-start-jul-8/
CATEGORIES:Youth & Families
ATTACH;FMTTYPE=image/jpeg:https://arkmfa.org/wp-content/uploads/2025/09/outside-in-book-cover-cropped.jpg
END:VEVENT
END:VCALENDAR