BEGIN:VCALENDAR
VERSION:2.0
PRODID:-//Arkansas Museum of Fine Arts - ECPv6.15.20//NONSGML v1.0//EN
CALSCALE:GREGORIAN
METHOD:PUBLISH
X-WR-CALNAME:Arkansas Museum of Fine Arts
X-ORIGINAL-URL:https://arkmfa.org
X-WR-CALDESC:Events for Arkansas Museum of Fine Arts
REFRESH-INTERVAL;VALUE=DURATION:PT1H
X-Robots-Tag:noindex
X-PUBLISHED-TTL:PT1H
BEGIN:VTIMEZONE
TZID:America/Chicago
BEGIN:DAYLIGHT
TZOFFSETFROM:-0600
TZOFFSETTO:-0500
TZNAME:CDT
DTSTART:20240310T080000
END:DAYLIGHT
BEGIN:STANDARD
TZOFFSETFROM:-0500
TZOFFSETTO:-0600
TZNAME:CST
DTSTART:20241103T070000
END:STANDARD
BEGIN:DAYLIGHT
TZOFFSETFROM:-0600
TZOFFSETTO:-0500
TZNAME:CDT
DTSTART:20250309T080000
END:DAYLIGHT
BEGIN:STANDARD
TZOFFSETFROM:-0500
TZOFFSETTO:-0600
TZNAME:CST
DTSTART:20251102T070000
END:STANDARD
BEGIN:DAYLIGHT
TZOFFSETFROM:-0600
TZOFFSETTO:-0500
TZNAME:CDT
DTSTART:20260308T080000
END:DAYLIGHT
BEGIN:STANDARD
TZOFFSETFROM:-0500
TZOFFSETTO:-0600
TZNAME:CST
DTSTART:20261101T070000
END:STANDARD
END:VTIMEZONE
BEGIN:VEVENT
DTSTART;TZID=America/Chicago:20250604T103000
DTEND;TZID=America/Chicago:20250604T113000
DTSTAMP:20260420T141436
CREATED:20251001T221337Z
LAST-MODIFIED:20251030T155845Z
UID:10001325-1749033000-1749036600@arkmfa.org
SUMMARY:Art Start
DESCRIPTION:Art and Max begins as a simple question – “What should I paint?” – and quickly becomes a wild adventure that transforms two lizard friends inside and out. \nJoin us for storytime as we celebrate artistic experimentation and the joy of unexpected discoveries. After the reading\, young artists will use string to create a vibrant artwork inspired by the playful painting mishaps in the book. \nArt Start is an early reader program that pairs children’s books with art activities\, inviting toddlers and preschool students to learn through reading\, imaginative play\, and art-making. \nThis free program welcomes parents\, grandparents\, caregivers\, and our youngest patrons to drop in and explore with us – no reservations required! \nArt Start is supported in part by the Alice L. Walton Foundation and Walmart Spark Good. \n 
URL:https://arkmfa.org/event/art-start-jun-4/
CATEGORIES:Youth & Families
ATTACH;FMTTYPE=image/jpeg:https://arkmfa.org/wp-content/uploads/2025/09/art-and-max-book-cover.jpg
END:VEVENT
BEGIN:VEVENT
DTSTART;TZID=America/Chicago:20250606T170000
DTEND;TZID=America/Chicago:20250606T200000
DTSTAMP:20260420T141436
CREATED:20251001T221337Z
LAST-MODIFIED:20251028T175511Z
UID:10001321-1749229200-1749240000@arkmfa.org
SUMMARY:Fridays on the Lawn
DESCRIPTION:Kick off your weekend with sunshine\, lawn games\, cold drinks\, and endless fun for everyone! \nGet competitive over games like baggo or bocce ball\, sketch your surroundings at a drawing easel\, or pick up a refreshing snow cone – both non-alcoholic and boozy are available. You can even order drinks and dinner at Park Grill while enjoying the beautiful outdoor dining views (reservations are recommended)! \nAs a special surprise for our youngest adventurers\, AMFA’s pink puppet dog Flurffy will lead a colorful quest to find his missing fairy friends. Kiddos can create their own personalized binoculars to assist in Flurffy’s search\, and enjoy a unique art-making activity when they find the fairy village. \nCoolers\, outside food or drinks\, and large bags are not permitted. Pets\, blankets\, and lawn chairs are welcome. \n\nFridays on the Lawn is supported in part by the Alice L. Walton Foundation. \nImage courtesy of Jason Masters. \n 
URL:https://arkmfa.org/event/fridays-on-the-lawn/
CATEGORIES:Adults,Youth & Families
ATTACH;FMTTYPE=image/jpeg:https://arkmfa.org/wp-content/uploads/2025/09/Fridays-on-the-Lawn-Games-4x3-1-scaled-FlXsrM.tmp_.jpg
END:VEVENT
BEGIN:VEVENT
DTSTART;TZID=America/Chicago:20250607T100000
DTEND;TZID=America/Chicago:20250607T130000
DTSTAMP:20260420T141436
CREATED:20251001T221416Z
LAST-MODIFIED:20251028T235219Z
UID:10001424-1749290400-1749301200@arkmfa.org
SUMMARY:Creative Saturdays
DESCRIPTION:In celebration of the 64th Youth Arkansas Artists exhibition\, delve into the art of sculpting with air dry clay. Drawing inspiration from the floral works in the exhibition\, use your hands to explore form and texture and craft unique clay flowers. \nAt Creative Saturdays\, guests of all ages and abilities are welcome. Just drop in and enjoy a free\, family-friendly art-making activity in AMFA’s Windgate Art School – no registration required! \n\nCreative Saturdays are supported in part by the Alice L. Walton Foundation. \nThe 64th Young Arkansas Artists exhibition and awards are supported in part by the Alice L. Walton Foundation\, Arkansas Children’s Hospital\, and Delaware North and the Jacobs Family\, with additional support from Mid-Southern Watercolorists. \nRedeemable coupons awarded to the 64th Young Arkansas Artists exhibition honorable mention and best-in-class winners are provided by Blick Art Materials. \nThe Windgate Art School is generously supported by the Windgate Foundation with additional support from Sherry Worthen in memory of George Worthen. \nWindgate Art School’s Reduced Tuition Program is supported in part by Michael Laughter. Reduced tuition is automatically applied on all classes through 2025. \n 
URL:https://arkmfa.org/event/creative-saturdays-jun-7/
CATEGORIES:Youth & Families
ATTACH;FMTTYPE=image/jpeg:https://arkmfa.org/wp-content/uploads/2025/09/creative-saturdays-summer-2025-v2.jpg
END:VEVENT
BEGIN:VEVENT
DTSTART;TZID=America/Chicago:20250610T103000
DTEND;TZID=America/Chicago:20250610T113000
DTSTAMP:20260420T141436
CREATED:20251001T221337Z
LAST-MODIFIED:20251030T155838Z
UID:10001328-1749551400-1749555000@arkmfa.org
SUMMARY:Art Start
DESCRIPTION:Art and Max begins as a simple question – “What should I paint?” – and quickly becomes a wild adventure that transforms two lizard friends inside and out. \nJoin us for storytime as we celebrate artistic experimentation and the joy of unexpected discoveries. After the reading\, young artists will use string to create a vibrant artwork inspired by the playful painting mishaps in the book. \nArt Start is an early reader program that pairs children’s books with art activities\, inviting toddlers and preschool students to learn through reading\, imaginative play\, and art-making. \nThis free program welcomes parents\, grandparents\, caregivers\, and our youngest patrons to drop in and explore with us – no reservations required! \nArt Start is supported in part by the Alice L. Walton Foundation and Walmart Spark Good. \n 
URL:https://arkmfa.org/event/art-start-jun-10/
CATEGORIES:Youth & Families
ATTACH;FMTTYPE=image/jpeg:https://arkmfa.org/wp-content/uploads/2025/09/art-and-max-book-cover.jpg
END:VEVENT
BEGIN:VEVENT
DTSTART;TZID=America/Chicago:20250613T170000
DTEND;TZID=America/Chicago:20250613T200000
DTSTAMP:20260420T141436
CREATED:20251001T221337Z
LAST-MODIFIED:20251028T175504Z
UID:10001322-1749834000-1749844800@arkmfa.org
SUMMARY:Fridays on the Lawn
DESCRIPTION:Kick off your weekend with sunshine\, lawn games\, cold drinks\, and endless fun for everyone! \nGet competitive over games like baggo or bocce ball\, sketch your surroundings at a drawing easel\, or pick up a refreshing snow cone – both non-alcoholic and boozy are available. You can even order drinks and dinner at Park Grill while enjoying the beautiful outdoor dining views (reservations are recommended)! \nAs a special surprise for our youngest adventurers\, AMFA’s pink puppet dog Flurffy will lead a colorful quest to find his missing fairy friends. Kiddos can create their own personalized binoculars to assist in Flurffy’s search\, and enjoy a unique art-making activity when they find the fairy village. \nCoolers\, outside food or drinks\, and large bags are not permitted. Pets\, blankets\, and lawn chairs are welcome. \n\nFridays on the Lawn is supported in part by the Alice L. Walton Foundation. \nImage courtesy of Jason Masters. \n 
URL:https://arkmfa.org/event/fridays-on-the-lawn-jun-13/
CATEGORIES:Adults,Youth & Families
ATTACH;FMTTYPE=image/jpeg:https://arkmfa.org/wp-content/uploads/2025/09/Fridays-on-the-Lawn-Games-4x3-1-scaled-FlXsrM.tmp_.jpg
END:VEVENT
BEGIN:VEVENT
DTSTART;TZID=America/Chicago:20250614T100000
DTEND;TZID=America/Chicago:20250614T130000
DTSTAMP:20260420T141436
CREATED:20251001T221337Z
LAST-MODIFIED:20251031T152316Z
UID:10001331-1749895200-1749906000@arkmfa.org
SUMMARY:Family Fest: Into the Wild
DESCRIPTION:Experience nature’s wonders through interactive artmaking\, outdoor adventures\, and hands-on activities across AMFA’s building and grounds as we celebrate the opening weekend of The Long View: From Conservation to Sustainability: Works from the Bank of America Collection. \nOUTSIDE\nVisit the Event Lawn to meet fascinating animals from the Little Rock Zoo\, create nature-inspired leaf prints with the Arkansas Game and Fish Commission\, enjoy fly fishing games with Arkansas Fly Fishers\, join interactive demonstrations on hiking and biking with Pinnacle Mountain State Park\, and pose with the Pebbles van from the Little Rock Convention & Visitors Bureau. \nStop by the concession stand and water station for snacks and refreshments! \nINSIDE\nMake textured nature drawings in the Atrium\, fish prints in the Flex Studio\, and animal sketches in the Drawing Studio. Head to the 1937 Lobby at 10:30 a.m. to start a guided tour of The Long View exhibition or explore AMFA’s outdoor sculptures and landscaping. At 11:00 a.m. and 12:00 p.m.\, catch a free performance of Flurffy’s Secret Garden in the Performing Arts Theater. \nNeed a break from the action? AMFA Members are invited to relax and enjoy complimentary snacks in an exclusive lounge area. \n\nFamily Fest: Into the Wild is supported in part by the Alice L. Walton Foundation. \nThe Long View: From Conservation to Sustainability: Works from the Bank of America Collection is presented by Bank of America. \n \nAdditional support is provided by Anne and Merritt Dyke. \nThis exhibition has been loaned through the Bank of America Art in our Communities® program. \nThe Windgate Art School is generously supported in part by the Windgate Foundation with additional support from Sherry Worthen in memory of George Worthen. \nWindgate Art School’s Reduced Tuition Program is supported by Michael Laughter. Reduced tuition is automatically applied to all classes through 2025. \nARTWORK: John James Audubon (Les Cayes\, Haiti\, 1785 – 1851\, New York\, New York)\, Printed by John T. Brown (England\, 1801 – 1856\, Philadelphia\, Pennsylvania)\, American Bison from The Viviparous Quadrupeds of North America\, 1845 – 1848\, hand-colored lithograph on paper\, 35 1/4 x 39 1/2 in. On loan from the Bank of America Collection. \n 
URL:https://arkmfa.org/event/family-fest-into-the-wild/
CATEGORIES:Youth & Families
ATTACH;FMTTYPE=image/jpeg:https://arkmfa.org/wp-content/uploads/2025/09/Audubon_Bison-Quadrupeds-4x3-1.jpg
END:VEVENT
BEGIN:VEVENT
DTSTART;TZID=America/Chicago:20250614T100000
DTEND;TZID=America/Chicago:20250614T130000
DTSTAMP:20260420T141436
CREATED:20251001T221337Z
LAST-MODIFIED:20251028T163205Z
UID:10001332-1749895200-1749906000@arkmfa.org
SUMMARY:Member Lounge: "The Long View"
DESCRIPTION:AMFA Members are invited to relax and enjoy complimentary drinks and snacks in an exclusive\, members-only lounge. \nWhile the adults unwind\, little hands can enjoy a special art-making activity inspired by AMFA’s new exhibition The Long View: From Conservation to Sustainability: Works from the Bank of America Collection! \nNot an AMFA Member? Join today for access to this event. \n\nThe Long View: From Conservation to Sustainability: Works from the Bank of America Collection is presented by Bank of America. \n \nAdditional support is provided by Anne and Merritt Dyke. \nThis exhibition has been loaned through the Bank of America Art in our Communities® program. \nImage courtesy of Jason Masters. \n 
URL:https://arkmfa.org/event/member-lounge-the-long-view/
CATEGORIES:Members,Youth & Families
ATTACH;FMTTYPE=image/jpeg:https://arkmfa.org/wp-content/uploads/2025/09/member-lounge-the-long-view-4x3-1.jpg
END:VEVENT
BEGIN:VEVENT
DTSTART;TZID=America/Chicago:20250614T110000
DTEND;TZID=America/Chicago:20250614T123000
DTSTAMP:20260420T141436
CREATED:20251001T221337Z
LAST-MODIFIED:20251028T181003Z
UID:10001330-1749898800-1749904200@arkmfa.org
SUMMARY:Flurffy's Secret Garden
DESCRIPTION:When a shy little girl arrives in town\, Flurffy and his friends plan a delightful garden party to welcome her. But will the mysterious Dr. Craven ruin their plans by keeping them out of the enchanted garden? \nCelebrate the start of summertime with Flurffy\, AMFA’s beloved pink puppet dog\, in this original production inspired by the art on view in The Long View: From Conservation to Sustainability: Works from the Bank of America Collection. \nThis imaginative show – featuring AMFA-crafted puppets\, repurposed props\, and recycled set pieces – promises a sweet theatrical treat filled with original songs and interactive play. \nThe show runtime is approximately 30 minutes\, with showtimes starting at 11:00 a.m. and 12:00 p.m. \n\nFlurffy’s Secret Garden is supported in part by the Alice L. Walton Foundation. \nThe Long View: From Conservation to Sustainability: Works from the Bank of America Collection is presented by Bank of America. \n \nAdditional support is provided by Anne and Merritt Dyke. \nThis exhibition has been loaned through the Bank of America Art in our Communities® program. \nImage courtesy of Jason Masters. \n 
URL:https://arkmfa.org/event/flurffys-secret-garden/
CATEGORIES:Children's Theatre,Youth & Families
ATTACH;FMTTYPE=image/jpeg:https://arkmfa.org/wp-content/uploads/2025/09/Flurffys-Secret-Garden-4x3-1.jpg
END:VEVENT
BEGIN:VEVENT
DTSTART;TZID=America/Chicago:20250615T130000
DTEND;TZID=America/Chicago:20250615T160000
DTSTAMP:20260420T141436
CREATED:20251001T221345Z
LAST-MODIFIED:20251001T221345Z
UID:10001348-1749992400-1750003200@arkmfa.org
SUMMARY:Making Together: Hand Building a Birdhouse
DESCRIPTION:Celebrate Father’s Day with this hands-on ceramics workshop for one adult and one child\, where you will design and build a clay birdhouse together. Learn the fundamentals of working in clay and how to make your sculptures functional and decorative by creating a thoughtful artwork together. \nAll ages and skill levels are welcome\, and no prior experience is required.
URL:https://arkmfa.org/event/making-together-hand-building-a-birdhouse/
CATEGORIES:Art School,Youth & Families
ATTACH;FMTTYPE=image/jpeg:https://arkmfa.org/wp-content/uploads/2025/09/family-metals-4x3-1.jpg
END:VEVENT
BEGIN:VEVENT
DTSTART;TZID=America/Chicago:20250615T130000
DTEND;TZID=America/Chicago:20250615T160000
DTSTAMP:20260420T141436
CREATED:20251001T221359Z
LAST-MODIFIED:20251001T221359Z
UID:10001386-1749992400-1750003200@arkmfa.org
SUMMARY:Making Together: Camp Chair
DESCRIPTION:Work together with your teenager to build a simple\, durable camp chair in this fun\, hands-on workshop. \nLearn basic woodworking skills and how to work safely in the wood shop while designing a practical object for your camping trips. It’s a great way to spend time together\, and no experience is required! \n\nThe Windgate Art School is generously supported by the Windgate Foundation with additional support from Sherry Worthen in memory of George Worthen. \nWindgate Art School’s Reduced Tuition Program is supported by Michael Laughter. Reduced tuition is automatically applied to all classes through 2025. \nImage courtesy of Jason Masters.
URL:https://arkmfa.org/event/making-together-camp-chair/
CATEGORIES:Art School,Youth & Families
ATTACH;FMTTYPE=image/jpeg:https://arkmfa.org/wp-content/uploads/2025/09/youth-woodworking-power-tools-4x3-1.jpg
END:VEVENT
BEGIN:VEVENT
DTSTART;TZID=America/Chicago:20250618T103000
DTEND;TZID=America/Chicago:20250618T113000
DTSTAMP:20260420T141436
CREATED:20251001T221345Z
LAST-MODIFIED:20251030T155831Z
UID:10001336-1750242600-1750246200@arkmfa.org
SUMMARY:Art Start
DESCRIPTION:Celebrate Juneteenth with a joyful reading of I Am Enough by Grace Byers\, a heartfelt book about self-worth\, love\, and embracing who you are. After storytime\, young artists will create a drawing that highlights what makes them unique and decorate a frame to proudly display their new creation. \nArt Start is an early reader program that pairs children’s books with art activities\, inviting toddlers and preschool students to learn through reading\, imaginative play\, and art-making. \nThis free program welcomes parents\, grandparents\, caregivers\, and our youngest patrons to drop in and explore with us – no reservations required! \nArt Start is supported in part by the Alice L. Walton Foundation and Walmart Spark Good. \n\n\n\n\n\n\n\n 
URL:https://arkmfa.org/event/art-start-jun-18/
CATEGORIES:Youth & Families
ATTACH;FMTTYPE=image/jpeg:https://arkmfa.org/wp-content/uploads/2025/09/i-am-enough-book-cover-cropped.jpg
END:VEVENT
BEGIN:VEVENT
DTSTART;TZID=America/Chicago:20250619T100000
DTEND;TZID=America/Chicago:20250619T130000
DTSTAMP:20260420T141436
CREATED:20251001T221416Z
LAST-MODIFIED:20251001T221416Z
UID:10001430-1750327200-1750338000@arkmfa.org
SUMMARY:Juneteenth Creative Morning
DESCRIPTION:Honor Juneteenth through creativity\, reflection\, and connection during a family-friendly\, drop-in artmaking activity presented in collaboration with the Mosaic Templars Cultural Center’s Juneteenth in the Rock celebration. \nExplore themes of resilience\, freedom\, and community by creating a personal keepsake using photographs of you and your family taken and printed at the Museum. Customize your image using materials of your choice or incorporate it into a sketchbook journal as a lasting memory of this significant day in US history. \n\nJuneteenth Creative Morning is supported in part by the Alice L. Walton Foundation. \nThis is an official Juneteenth in Da Rock Affiliate event. \n \nImage courtesy of Jason Masters.
URL:https://arkmfa.org/event/juneteenth-creative-morning/
CATEGORIES:Youth & Families
ATTACH;FMTTYPE=image/jpeg:https://arkmfa.org/wp-content/uploads/2025/09/four-kids-artmaking-activity-4x3-1.jpg
END:VEVENT
BEGIN:VEVENT
DTSTART;TZID=America/Chicago:20250621T100000
DTEND;TZID=America/Chicago:20250621T130000
DTSTAMP:20260420T141436
CREATED:20251001T221416Z
LAST-MODIFIED:20251028T235208Z
UID:10001422-1750500000-1750510800@arkmfa.org
SUMMARY:Creative Saturdays
DESCRIPTION:Celebrate Juneteenth with a hands-on bookmaking activity that highlights self-expression and individuality! Create accordion-style books and decorate the covers with colors\, symbols\, and designs that reflect a unique voice and story. \nAt Creative Saturdays\, guests of all ages and abilities are welcome. Just drop in and enjoy a free\, family-friendly art-making activity in AMFA’s Windgate Art School – no registration required! \n\nCreative Saturdays are supported in part by the Alice L. Walton Foundation. \nThe Windgate Art School is generously supported by the Windgate Foundation with additional support from Sherry Worthen in memory of George Worthen. \nWindgate Art School’s Reduced Tuition Program is supported in part by Michael Laughter. Reduced tuition is automatically applied on all classes through 2025. \n 
URL:https://arkmfa.org/event/creative-saturdays-jun-21/
CATEGORIES:Youth & Families
ATTACH;FMTTYPE=image/jpeg:https://arkmfa.org/wp-content/uploads/2025/09/creative-saturdays-summer-2025-v2.jpg
END:VEVENT
BEGIN:VEVENT
DTSTART;TZID=America/Chicago:20250621T110000
DTEND;TZID=America/Chicago:20250621T123000
DTSTAMP:20260420T141436
CREATED:20251001T221359Z
LAST-MODIFIED:20251028T180949Z
UID:10001392-1750503600-1750509000@arkmfa.org
SUMMARY:Flurffy's Secret Garden
DESCRIPTION:When a shy little girl arrives in town\, Flurffy and his friends plan a delightful garden party to welcome her. But will the mysterious Dr. Craven ruin their plans by keeping them out of the enchanted garden? \nCelebrate the start of summertime with Flurffy\, AMFA’s beloved pink puppet dog\, in this original production inspired by the art on view in The Long View: From Conservation to Sustainability: Works from the Bank of America Collection. \nThis imaginative show – featuring AMFA-crafted puppets\, repurposed props\, and recycled set pieces – promises a sweet theatrical treat filled with original songs and interactive play. \nThe show runtime is approximately 30 minutes\, with showtimes starting at 11:00 a.m. and 12:00 p.m. \n\nFlurffy’s Secret Garden is supported in part by the Alice L. Walton Foundation. \nThe Long View: From Conservation to Sustainability: Works from the Bank of America Collection is presented by Bank of America. \n \nAdditional support is provided by Anne and Merritt Dyke. \nThis exhibition has been loaned through the Bank of America Art in our Communities® program. \nImage courtesy of Jason Masters. \n 
URL:https://arkmfa.org/event/flurffys-secret-garden-jun-21/
CATEGORIES:Children's Theatre,Youth & Families
ATTACH;FMTTYPE=image/jpeg:https://arkmfa.org/wp-content/uploads/2025/09/Flurffys-Secret-Garden-4x3-1.jpg
END:VEVENT
BEGIN:VEVENT
DTSTART;TZID=America/Chicago:20250624T103000
DTEND;TZID=America/Chicago:20250624T113000
DTSTAMP:20260420T141436
CREATED:20251001T221408Z
LAST-MODIFIED:20251030T155824Z
UID:10001412-1750761000-1750764600@arkmfa.org
SUMMARY:Art Start
DESCRIPTION:Inspired by AMFA’s exhibition The Long View: From Conservation to Sustainability\, this session will focus on the wonders of the animal world with a reading of What Do You Do With a Tail Like This? by Steve Jenkins and Robin Page. \nAfter story time\, children will dive into a hands-on activity\, creating their own watercolor animal paintings inspired by the creatures they learned about – perfect for curious minds who love animals\, art\, and adventure! \nArt Start is an early reader program that pairs children’s books with art activities\, inviting toddlers and preschool students to learn through reading\, imaginative play\, and art-making. \nThis free program welcomes parents\, grandparents\, caregivers\, and our youngest patrons to drop in and explore with us – no reservations required! \n\nArt Start is supported in part by the Alice L. Walton Foundation and Walmart Spark Good. \nThe Long View: From Conservation to Sustainability: Works from the Bank of America Collection is presented by Bank of America. \n \nAdditional support is provided by Anne and Merritt Dyke. \nThis exhibition has been loaned through the Bank of America Art in our Communities® program. \n\n\n\n\n\n\n\n 
URL:https://arkmfa.org/event/art-start-jun-24/
CATEGORIES:Youth & Families
ATTACH;FMTTYPE=image/jpeg:https://arkmfa.org/wp-content/uploads/2025/09/tail-like-this-4x3-1.jpg
END:VEVENT
BEGIN:VEVENT
DTSTART;TZID=America/Chicago:20250628T100000
DTEND;TZID=America/Chicago:20250628T130000
DTSTAMP:20260420T141436
CREATED:20251001T221424Z
LAST-MODIFIED:20251031T134838Z
UID:10001435-1751104800-1751115600@arkmfa.org
SUMMARY:Delta Voices Creative Saturdays with David Andree
DESCRIPTION:Create alongside Delta Voices artist David Andree during this special edition of Creative Saturdays\, where guests are invited to design their own artworks using hand-cut stencils inspired by natural forms\, patterns\, and ideas of camouflage and abstraction. \nTogether with Andree\, experiment with layering the stencils to build a large\, collaborative artwork that invites unexpected connections and surprising outcomes. \n\nAbout David Andree\n\nDavid Andree is an artist whose work explores landscape as a subject of flux through painting\, drawing\, sculpture\, and sound. Attracted to moments of tension between what was\, what is\, and what will be\, David’s work strives to create meaningful abstractions through perpetually chasing the qualities of the fleeting present.  \n\n\n\nA Minnesota native\, David maintains tribal affiliation with the Red Lake Nation of Ojibwe. David holds a Master of Fine Arts from the State University of New York (SUNY)\, received his Bachelor of Fine Arts from the Minneapolis College of Art and Design (MCAD)\, and currently holds the position of Assistant Professor at the School of Art in Fayetteville\, AR where he resides in the Ozarks.  \n\n\n\nHe has had work exhibited at the Shirley Fiterman Art Center\, Gallery MC and BWAC Gallery in New York City\, Rochester Contemporary Art Center\, Hallwalls\, the Big Orbit Gallery\, Exhibit-A and the Burchfield Nature and Art Center in upstate New York\, The Masur Museum of Art (Monroe\, LA)\, Plains Art Museum (Fargo\, ND)\, Manifest Creative Research Gallery (Cincinnati\, OH)\, in addition to numerous venues around Minneapolis\, Minnesota including the Anderson Center\, SooVac\, Rochester Art Center\, Minnesota Museum of American Art\, and the Weisman Art Museum.  \n\n\n\nHis work has been included in publications from Friend of the Artist\, Manifest Creative Research Gallery (USA)\, with published works from Sunshine LTD (USA)\, Dauw (Belgium)\, Eilean Rec. (France)\, Herhalen (Scotland) and Touched Music (UK).  \n\n\n\nDavid has been invited as Artist in Residence at MacDowell (Peterborough\, NH)\, the Studios at MASS MoCA (North Adams\, MA)\, UCross Foundation (Ucross\, WY)\, Wassaic Project (Wassaic\, NY)\, Joshua Tree Highlands Artist Residency (Joshua Tree\, CA)\, Works on Water / Underwater New York (New York\, NY)\, I-Park (East Haddam\, CT)\, Hambidge Center (Rabun Gap\, GA)\, Grand Marais Art Colony (Grand Marais\, MN)\, Anderson Center (Red Wing\, MN)\, amongst others.  \n\n\n\nHe is the recipient of an Artist 360 Project Grant from the Mid-America Arts Alliance\, an Artist Initiative Grant from the Minnesota State Arts Board\, a Creative Climate Award from the Human Impacts Institute\, a Juror Award from Ylinka Barotto\, Assistant Curator\, Guggenheim Museum\, and his work is collected by Target Corporation\, including private collections throughout Minneapolis\, Chicago\, New York\, and the United Kingdom.  \n\n\n\nDelta Voices Creative Saturdays with David Andree is supported in part by the Alice L. Walton Foundation. \n\n\n\n\n\n\n\n\n\n 
URL:https://arkmfa.org/event/delta-voices-creative-saturdays-with-david-andree/
CATEGORIES:Youth & Families
ATTACH;FMTTYPE=image/jpeg:https://arkmfa.org/wp-content/uploads/2025/09/creative-saturdays-with-david-andree-small.jpg
END:VEVENT
BEGIN:VEVENT
DTSTART;TZID=America/Chicago:20250628T110000
DTEND;TZID=America/Chicago:20250628T123000
DTSTAMP:20260420T141436
CREATED:20251001T221359Z
LAST-MODIFIED:20251028T180943Z
UID:10001393-1751108400-1751113800@arkmfa.org
SUMMARY:Flurffy's Secret Garden
DESCRIPTION:When a shy little girl arrives in town\, Flurffy and his friends plan a delightful garden party to welcome her. But will the mysterious Dr. Craven ruin their plans by keeping them out of the enchanted garden? \nCelebrate the start of summertime with Flurffy\, AMFA’s beloved pink puppet dog\, in this original production inspired by the art on view in The Long View: From Conservation to Sustainability: Works from the Bank of America Collection. \nThis imaginative show – featuring AMFA-crafted puppets\, repurposed props\, and recycled set pieces – promises a sweet theatrical treat filled with original songs and interactive play. \nThe show runtime is approximately 30 minutes\, with showtimes starting at 11:00 a.m. and 12:00 p.m. \n\nFlurffy’s Secret Garden is supported in part by the Alice L. Walton Foundation. \nThe Long View: From Conservation to Sustainability: Works from the Bank of America Collection is presented by Bank of America. \n \nAdditional support is provided by Anne and Merritt Dyke. \nThis exhibition has been loaned through the Bank of America Art in our Communities® program. \nImage courtesy of Jason Masters. \n 
URL:https://arkmfa.org/event/flurffys-secret-garden-jun-28/
CATEGORIES:Children's Theatre,Youth & Families
ATTACH;FMTTYPE=image/jpeg:https://arkmfa.org/wp-content/uploads/2025/09/Flurffys-Secret-Garden-4x3-1.jpg
END:VEVENT
END:VCALENDAR