BEGIN:VCALENDAR
VERSION:2.0
PRODID:-//Arkansas Museum of Fine Arts - ECPv6.15.20//NONSGML v1.0//EN
CALSCALE:GREGORIAN
METHOD:PUBLISH
X-WR-CALNAME:Arkansas Museum of Fine Arts
X-ORIGINAL-URL:https://arkmfa.org
X-WR-CALDESC:Events for Arkansas Museum of Fine Arts
REFRESH-INTERVAL;VALUE=DURATION:PT1H
X-Robots-Tag:noindex
X-PUBLISHED-TTL:PT1H
BEGIN:VTIMEZONE
TZID:America/Chicago
BEGIN:DAYLIGHT
TZOFFSETFROM:-0600
TZOFFSETTO:-0500
TZNAME:CDT
DTSTART:20230312T080000
END:DAYLIGHT
BEGIN:STANDARD
TZOFFSETFROM:-0500
TZOFFSETTO:-0600
TZNAME:CST
DTSTART:20231105T070000
END:STANDARD
BEGIN:DAYLIGHT
TZOFFSETFROM:-0600
TZOFFSETTO:-0500
TZNAME:CDT
DTSTART:20240310T080000
END:DAYLIGHT
BEGIN:STANDARD
TZOFFSETFROM:-0500
TZOFFSETTO:-0600
TZNAME:CST
DTSTART:20241103T070000
END:STANDARD
BEGIN:DAYLIGHT
TZOFFSETFROM:-0600
TZOFFSETTO:-0500
TZNAME:CDT
DTSTART:20250309T080000
END:DAYLIGHT
BEGIN:STANDARD
TZOFFSETFROM:-0500
TZOFFSETTO:-0600
TZNAME:CST
DTSTART:20251102T070000
END:STANDARD
END:VTIMEZONE
BEGIN:VEVENT
DTSTART;TZID=America/Chicago:20241102T110000
DTEND;TZID=America/Chicago:20241102T124500
DTSTAMP:20260424T180402
CREATED:20251001T221120Z
LAST-MODIFIED:20251028T181010Z
UID:10001010-1730545200-1730551500@arkmfa.org
SUMMARY:The Legend of Sleepy Flurffy
DESCRIPTION:Spooky season is upon us\, and Flurffy and his friends are preparing to put on their annual fall play. But will their mysterious director\, Mr. Crane\, prove to be a pain in the neck? Can Flurffy and the gang battle their stage fright\, or will they balk under pressure to produce the perfect show? \nNew songs and interactive storytelling combine to delight little ones and families alike! The program runs about 30 minutes\, with showtimes starting at 11:00 a.m. and 12:00 p.m. \n\nThe Legend of Sleepy Flurffy is supported by the Alice L. Walton Foundation. \n 
URL:https://arkmfa.org/event/the-legend-of-sleepy-flurffy-nov-2/
CATEGORIES:Children's Theatre,Youth & Families
ATTACH;FMTTYPE=image/jpeg:https://arkmfa.org/wp-content/uploads/2025/09/flurffy-on-yellow-4x3-1.jpg
END:VEVENT
BEGIN:VEVENT
DTSTART;TZID=America/Chicago:20241109T130000
DTEND;TZID=America/Chicago:20241109T143000
DTSTAMP:20260424T180402
CREATED:20251001T221153Z
LAST-MODIFIED:20251001T221153Z
UID:10001080-1731157200-1731162600@arkmfa.org
SUMMARY:Family Theatre Games
DESCRIPTION:Unplug and connect for a night of family fun! Explore classic parlor games from charades to the laughing game – there is something for the whole family to enjoy.
URL:https://arkmfa.org/event/family-theatre-games/
CATEGORIES:Youth & Families
ATTACH;FMTTYPE=image/jpeg:https://arkmfa.org/wp-content/uploads/2025/09/Family-Member-Mingle-4x3-1.jpg
END:VEVENT
BEGIN:VEVENT
DTSTART;TZID=America/Chicago:20241110T140000
DTEND;TZID=America/Chicago:20241110T160000
DTSTAMP:20260424T180402
CREATED:20251001T221153Z
LAST-MODIFIED:20251001T221153Z
UID:10001081-1731247200-1731254400@arkmfa.org
SUMMARY:Making Together: Fall Botanical Watercolor Painting
DESCRIPTION:Experiment with watercolors while you and your little one paint side-by-side to create a vibrant botanical painting using leaves\, flowers\, and other natural materials.
URL:https://arkmfa.org/event/making-together-fall-botanical-watercolor-painting/
CATEGORIES:Art School,Youth & Families
ATTACH;FMTTYPE=image/jpeg:https://arkmfa.org/wp-content/uploads/2025/09/Family-Painting-4x3-1.jpg
END:VEVENT
BEGIN:VEVENT
DTSTART;TZID=America/Chicago:20241115T180000
DTEND;TZID=America/Chicago:20241115T193000
DTSTAMP:20260424T180402
CREATED:20251001T221153Z
LAST-MODIFIED:20251103T200741Z
UID:10001085-1731693600-1731699000@arkmfa.org
SUMMARY:Family Theatre Games
DESCRIPTION:Unplug and connect for a night of family fun! Explore classic parlor games from charades to the laughing game – there is something for the whole family to enjoy. \n 
URL:https://arkmfa.org/event/family-theatre-games-nov-15/
CATEGORIES:Youth & Families
ATTACH;FMTTYPE=image/jpeg:https://arkmfa.org/wp-content/uploads/2025/09/Family-Member-Mingle-4x3-1.jpg
END:VEVENT
BEGIN:VEVENT
DTSTART;TZID=America/Chicago:20241116T140000
DTEND;TZID=America/Chicago:20241116T160000
DTSTAMP:20260424T180402
CREATED:20251001T221201Z
LAST-MODIFIED:20251001T221201Z
UID:10001107-1731765600-1731772800@arkmfa.org
SUMMARY:Making Together: Embellished Holiday Cards
DESCRIPTION:Work side-by-side with your little one while learning how to emboss paper with the printing press\, experiment with pop-ups\, and explore collage techniques to create embellished holiday cards for everyone on your mailing list.
URL:https://arkmfa.org/event/making-together-embellished-holiday-cards/
CATEGORIES:Art School,Holiday,Youth & Families
ATTACH;FMTTYPE=image/jpeg:https://arkmfa.org/wp-content/uploads/2025/09/mother-daughter-paper-artmaking-4x3-1.jpg
END:VEVENT
BEGIN:VEVENT
DTSTART;TZID=America/Chicago:20241123T140000
DTEND;TZID=America/Chicago:20241123T160000
DTSTAMP:20260424T180402
CREATED:20251001T221201Z
LAST-MODIFIED:20251001T221201Z
UID:10001108-1732370400-1732377600@arkmfa.org
SUMMARY:Making Together: Paper Snowflake Garlands
DESCRIPTION:Explore paper as a medium for three-dimensional art with your little one while creating beautifully designed and crafted snowflakes that will be added to a garland for display during the holiday season.
URL:https://arkmfa.org/event/making-together-paper-snowflake-garlands/
CATEGORIES:Art School,Holiday,Youth & Families
ATTACH;FMTTYPE=image/jpeg:https://arkmfa.org/wp-content/uploads/2025/09/AMFA-Giving-Day-4x3-small.jpg
END:VEVENT
BEGIN:VEVENT
DTSTART;TZID=America/Chicago:20241130T100000
DTEND;TZID=America/Chicago:20241130T130000
DTSTAMP:20260424T180402
CREATED:20251001T221223Z
LAST-MODIFIED:20251028T235739Z
UID:10001154-1732960800-1732971600@arkmfa.org
SUMMARY:Creative Saturdays
DESCRIPTION:This Creative Saturdays is hosted by the Little Rock Convention & Visitors Bureau! Stop by the Windgate Art School to create a sculpture or bowl using air dry clay and texture making tools. \nExpand this special experience by discovering what the rest of the Museum has to offer you: \n\nGrab a family-friendly Treasure Map and start an adventure that ends with a prize.\nEnjoy a coffee or tea and browse the books in the Cultural Living Room.\nExplore the galleries and ask our docents questions about the art on view.\nRelax over brunch with incredible views and a locally inspired menu at Park Grill.\n\n\nCreative Saturdays are supported by Garver and the Alice L. Walton Foundation. \nThe Windgate Art School is generously supported by the Windgate Foundation with additional support from Sherry Worthen in memory of George Worthen. \nThe Treasure Map is supported by the Alice L. Walton Foundation. \nPhoto by Jason Masters. \n 
URL:https://arkmfa.org/event/creative-saturdays-nov-30/
CATEGORIES:Youth & Families
ATTACH;FMTTYPE=image/jpeg:https://arkmfa.org/wp-content/uploads/2025/09/Creative-Saturdays-Fall-2024.jpg
END:VEVENT
BEGIN:VEVENT
DTSTART;TZID=America/Chicago:20241130T130000
DTEND;TZID=America/Chicago:20241130T160000
DTSTAMP:20260424T180402
CREATED:20251001T221153Z
LAST-MODIFIED:20251001T221153Z
UID:10001093-1732971600-1732982400@arkmfa.org
SUMMARY:Making Together: Hot Chocolate Mugs (SOLD OUT)
DESCRIPTION:Create wonderful memories with your little one while working side-by-side to make a hot chocolate mug you can enjoy over the holidays. \nAfter your mugs have been fired in the kiln\, you will be contacted to return to AMFA and pick up your new creations. \n\n\nMug by Jacqueline Currie.
URL:https://arkmfa.org/event/making-together-hot-chocolate-mugs/
CATEGORIES:Art School,Holiday,Youth & Families
ATTACH;FMTTYPE=image/jpeg:https://arkmfa.org/wp-content/uploads/2025/09/Hot-Chocolate-Mugs-4x3-1-scaled-o3Ywd3.tmp_-e1727808210451-gHbFGL.tmp_.jpg
END:VEVENT
END:VCALENDAR