BEGIN:VCALENDAR
VERSION:2.0
PRODID:-//Arkansas Museum of Fine Arts - ECPv6.15.20//NONSGML v1.0//EN
CALSCALE:GREGORIAN
METHOD:PUBLISH
X-WR-CALNAME:Arkansas Museum of Fine Arts
X-ORIGINAL-URL:https://arkmfa.org
X-WR-CALDESC:Events for Arkansas Museum of Fine Arts
REFRESH-INTERVAL;VALUE=DURATION:PT1H
X-Robots-Tag:noindex
X-PUBLISHED-TTL:PT1H
BEGIN:VTIMEZONE
TZID:America/Chicago
BEGIN:DAYLIGHT
TZOFFSETFROM:-0600
TZOFFSETTO:-0500
TZNAME:CDT
DTSTART:20240310T080000
END:DAYLIGHT
BEGIN:STANDARD
TZOFFSETFROM:-0500
TZOFFSETTO:-0600
TZNAME:CST
DTSTART:20241103T070000
END:STANDARD
BEGIN:DAYLIGHT
TZOFFSETFROM:-0600
TZOFFSETTO:-0500
TZNAME:CDT
DTSTART:20250309T080000
END:DAYLIGHT
BEGIN:STANDARD
TZOFFSETFROM:-0500
TZOFFSETTO:-0600
TZNAME:CST
DTSTART:20251102T070000
END:STANDARD
BEGIN:DAYLIGHT
TZOFFSETFROM:-0600
TZOFFSETTO:-0500
TZNAME:CDT
DTSTART:20260308T080000
END:DAYLIGHT
BEGIN:STANDARD
TZOFFSETFROM:-0500
TZOFFSETTO:-0600
TZNAME:CST
DTSTART:20261101T070000
END:STANDARD
END:VTIMEZONE
BEGIN:VEVENT
DTSTART;TZID=America/Chicago:20250503T103000
DTEND;TZID=America/Chicago:20250503T113000
DTSTAMP:20260425T071555
CREATED:20251001T221307Z
LAST-MODIFIED:20251103T174934Z
UID:10001255-1746268200-1746271800@arkmfa.org
SUMMARY:Gallery Tour
DESCRIPTION:Drop in and discover AMFA with a free docent-led tour through the galleries! \nWith this fun\, engaging\, and memorable experience\, guests of all ages are invited to explore the art on view while learning how to interpret and appreciate works of art in various media. \n\nPhoto by Jason Masters. \n 
URL:https://arkmfa.org/event/gallery-tour-may-3/
CATEGORIES:Tours
ATTACH;FMTTYPE=image/jpeg:https://arkmfa.org/wp-content/uploads/2025/09/Museum-Tour-Spring-2024-4x3-2.jpg
END:VEVENT
BEGIN:VEVENT
DTSTART;TZID=America/Chicago:20250510T103000
DTEND;TZID=America/Chicago:20250510T113000
DTSTAMP:20260425T071555
CREATED:20251001T221257Z
LAST-MODIFIED:20251028T165420Z
UID:10001221-1746873000-1746876600@arkmfa.org
SUMMARY:Art Together with ASL Interpretation
DESCRIPTION:For guests who are Deaf or Hard of Hearing\, drop in and discover the Arkansas Museum of Fine Arts with a docent-led gallery tour accompanied by an American Sign Language (ASL) interpreter. \nThis fun\, engaging\, and memorable tour provides all guests the opportunity to explore the art on view while learning how to appreciate works of art. \n\nArt Together with ASL Interpretation is supported in part by Judy C Thompson Rev. Trust. \nPhoto: Iwan Baan \n 
URL:https://arkmfa.org/event/art-together-with-asl-interpretation-may-10/
CATEGORIES:Accessible,Tours
ATTACH;FMTTYPE=image/jpeg:https://arkmfa.org/wp-content/uploads/2025/09/Inspiring-Installations-4x3-1-e1746472459603.jpg
END:VEVENT
BEGIN:VEVENT
DTSTART;TZID=America/Chicago:20250510T103000
DTEND;TZID=America/Chicago:20250510T113000
DTSTAMP:20260425T071555
CREATED:20251001T221307Z
LAST-MODIFIED:20251103T174821Z
UID:10001256-1746873000-1746876600@arkmfa.org
SUMMARY:Gallery Tour
DESCRIPTION:Drop in and discover AMFA with a free docent-led tour through the galleries! \nWith this fun\, engaging\, and memorable experience\, guests of all ages are invited to explore the art on view while learning how to interpret and appreciate works of art in various media. \n\nPhoto by Jason Masters. \n 
URL:https://arkmfa.org/event/gallery-tour-may-10/
CATEGORIES:Tours
ATTACH;FMTTYPE=image/jpeg:https://arkmfa.org/wp-content/uploads/2025/09/Museum-Tour-Spring-2024-4x3-2.jpg
END:VEVENT
BEGIN:VEVENT
DTSTART;TZID=America/Chicago:20250517T103000
DTEND;TZID=America/Chicago:20250517T113000
DTSTAMP:20260425T071555
CREATED:20251001T221223Z
LAST-MODIFIED:20251031T140137Z
UID:10001158-1747477800-1747481400@arkmfa.org
SUMMARY:Exhibition Tour: Rivera's Paris
DESCRIPTION:Discover Rivera’s Paris through a docent-led exhibition tour! \nTake a guided look at several carefully selected works on view and leave with a new understanding and appreciation of Diego Rivera’s life as an artist in the early 20th century. \n\nRivera’s Paris is supported in part by the Arkansas Museum of Fine Arts Foundation with additional support from the Robert Lehman Foundation. \nThis exhibition is organized by the Arkansas Museum of Fine Arts. \nImage courtesy of Jason Masters. \n 
URL:https://arkmfa.org/event/exhibition-tour-riveras-paris-may-17/
CATEGORIES:Tours
ATTACH;FMTTYPE=image/jpeg:https://arkmfa.org/wp-content/uploads/2025/09/Dos-Mujeres-gallery-shot-tour-4x3-1.jpg
END:VEVENT
BEGIN:VEVENT
DTSTART;TZID=America/Chicago:20250517T103000
DTEND;TZID=America/Chicago:20250517T113000
DTSTAMP:20260425T071555
CREATED:20251001T221233Z
LAST-MODIFIED:20251031T140013Z
UID:10001161-1747477800-1747481400@arkmfa.org
SUMMARY:Exhibition Tour in Spanish: Rivera's Paris
DESCRIPTION:Discover Rivera’s Paris through an exhibition tour led by a Spanish-speaking docent! \nTake a guided look at several carefully selected works on view and leave with a new understanding and appreciation of Diego Rivera’s life as an artist in the early 20th century. \n\nRivera’s Paris is supported in part by the Arkansas Museum of Fine Arts Foundation with additional support from the Robert Lehman Foundation. \nThis exhibition is organized by the Arkansas Museum of Fine Arts. \nImage courtesy of Jason Masters. \n 
URL:https://arkmfa.org/event/exhibition-tour-in-spanish-riveras-paris-may-17/
CATEGORIES:Tours
ATTACH;FMTTYPE=image/jpeg:https://arkmfa.org/wp-content/uploads/2025/09/Dos-Mujeres-gallery-shot-tour-4x3-1.jpg
END:VEVENT
BEGIN:VEVENT
DTSTART;TZID=America/Chicago:20250524T103000
DTEND;TZID=America/Chicago:20250524T113000
DTSTAMP:20260425T071555
CREATED:20251001T221307Z
LAST-MODIFIED:20251103T174503Z
UID:10001257-1748082600-1748086200@arkmfa.org
SUMMARY:Gallery Tour
DESCRIPTION:Drop in and discover AMFA with a free docent-led tour through the galleries! \nWith this fun\, engaging\, and memorable experience\, guests of all ages are invited to explore the art on view while learning how to interpret and appreciate works of art in various media. \n\nPhoto by Jason Masters. \n 
URL:https://arkmfa.org/event/gallery-tour-may-24/
CATEGORIES:Tours
ATTACH;FMTTYPE=image/jpeg:https://arkmfa.org/wp-content/uploads/2025/09/Museum-Tour-Spring-2024-4x3-2.jpg
END:VEVENT
BEGIN:VEVENT
DTSTART;TZID=America/Chicago:20250531T103000
DTEND;TZID=America/Chicago:20250531T113000
DTSTAMP:20260425T071555
CREATED:20251001T221307Z
LAST-MODIFIED:20251103T174425Z
UID:10001258-1748687400-1748691000@arkmfa.org
SUMMARY:Gallery Tour
DESCRIPTION:Drop in and discover AMFA with a free docent-led tour through the galleries! \nWith this fun\, engaging\, and memorable experience\, guests of all ages are invited to explore the art on view while learning how to interpret and appreciate works of art in various media. \n\nPhoto by Jason Masters. \n 
URL:https://arkmfa.org/event/gallery-tour-may-31/
CATEGORIES:Tours
ATTACH;FMTTYPE=image/jpeg:https://arkmfa.org/wp-content/uploads/2025/09/Museum-Tour-Spring-2024-4x3-2.jpg
END:VEVENT
END:VCALENDAR