BEGIN:VCALENDAR
VERSION:2.0
PRODID:-//Arkansas Museum of Fine Arts - ECPv6.15.20//NONSGML v1.0//EN
CALSCALE:GREGORIAN
METHOD:PUBLISH
X-WR-CALNAME:Arkansas Museum of Fine Arts
X-ORIGINAL-URL:https://arkmfa.org
X-WR-CALDESC:Events for Arkansas Museum of Fine Arts
REFRESH-INTERVAL;VALUE=DURATION:PT1H
X-Robots-Tag:noindex
X-PUBLISHED-TTL:PT1H
BEGIN:VTIMEZONE
TZID:America/Chicago
BEGIN:DAYLIGHT
TZOFFSETFROM:-0600
TZOFFSETTO:-0500
TZNAME:CDT
DTSTART:20250309T080000
END:DAYLIGHT
BEGIN:STANDARD
TZOFFSETFROM:-0500
TZOFFSETTO:-0600
TZNAME:CST
DTSTART:20251102T070000
END:STANDARD
BEGIN:DAYLIGHT
TZOFFSETFROM:-0600
TZOFFSETTO:-0500
TZNAME:CDT
DTSTART:20260308T080000
END:DAYLIGHT
BEGIN:STANDARD
TZOFFSETFROM:-0500
TZOFFSETTO:-0600
TZNAME:CST
DTSTART:20261101T070000
END:STANDARD
BEGIN:DAYLIGHT
TZOFFSETFROM:-0600
TZOFFSETTO:-0500
TZNAME:CDT
DTSTART:20270314T080000
END:DAYLIGHT
BEGIN:STANDARD
TZOFFSETFROM:-0500
TZOFFSETTO:-0600
TZNAME:CST
DTSTART:20271107T070000
END:STANDARD
END:VTIMEZONE
BEGIN:VEVENT
DTSTART;TZID=America/Chicago:20260312T113000
DTEND;TZID=America/Chicago:20260312T130000
DTSTAMP:20260420T195110
CREATED:20260212T213133Z
LAST-MODIFIED:20260311T214427Z
UID:10004246-1773315000-1773320400@arkmfa.org
SUMMARY:Dillard's Spring Fashion Presentation (SOLD OUT)
DESCRIPTION:Dillard’s presents the best Spring 2026 fashions at AMFA — Little Rock’s most stylish destination. \nAlexandra Dillard\, Vice President of Merchandising at Dillard’s\, will lead an engaging conversation and fashion presentation with designers Mollie Burch (Crosby by Mollie Burch)\, Abbey Glass (Abbey Glass)\, Morgan Hutchinson (Buru)\, and Lyndsey Zorich (Mason’s Daughter)\, all from Dillard’s exclusive Coterie Shop. \nEnjoy a beautiful lunch from AMFA’s Park Grill as the panel discusses the inspiration behind their newest collections and offers insight on celebrating personal style. Each designer will present looks from their latest collections\, giving guests the opportunity to see the designs walk the runway. \nDoors open at 11:00 a.m. After the event concludes\, shop a selection from each designer’s collection – 10% of proceeds will support the Arkansas Museum of Fine Arts. \n\nSpring Fashion Presentation is presented by Dillard’s and supported in part by Dora Jane Flesher and Pat Wilson. \nAll images courtesy of Dillard’s.
URL:https://arkmfa.org/event/dillards-spring-fashion-presentation/
CATEGORIES:Special Events
ATTACH;FMTTYPE=image/jpeg:https://arkmfa.org/wp-content/uploads/2026/02/Dillards-Fashion-Show-11x7-1.jpg
END:VEVENT
END:VCALENDAR