BEGIN:VCALENDAR
VERSION:2.0
PRODID:-//Arkansas Museum of Fine Arts - ECPv6.15.20//NONSGML v1.0//EN
CALSCALE:GREGORIAN
METHOD:PUBLISH
X-ORIGINAL-URL:https://arkmfa.org
X-WR-CALDESC:Events for Arkansas Museum of Fine Arts
REFRESH-INTERVAL;VALUE=DURATION:PT1H
X-Robots-Tag:noindex
X-PUBLISHED-TTL:PT1H
BEGIN:VTIMEZONE
TZID:America/Chicago
BEGIN:DAYLIGHT
TZOFFSETFROM:-0600
TZOFFSETTO:-0500
TZNAME:CDT
DTSTART:20230312T080000
END:DAYLIGHT
BEGIN:STANDARD
TZOFFSETFROM:-0500
TZOFFSETTO:-0600
TZNAME:CST
DTSTART:20231105T070000
END:STANDARD
BEGIN:DAYLIGHT
TZOFFSETFROM:-0600
TZOFFSETTO:-0500
TZNAME:CDT
DTSTART:20240310T080000
END:DAYLIGHT
BEGIN:STANDARD
TZOFFSETFROM:-0500
TZOFFSETTO:-0600
TZNAME:CST
DTSTART:20241103T070000
END:STANDARD
BEGIN:DAYLIGHT
TZOFFSETFROM:-0600
TZOFFSETTO:-0500
TZNAME:CDT
DTSTART:20250309T080000
END:DAYLIGHT
BEGIN:STANDARD
TZOFFSETFROM:-0500
TZOFFSETTO:-0600
TZNAME:CST
DTSTART:20251102T070000
END:STANDARD
END:VTIMEZONE
BEGIN:VEVENT
DTSTART;TZID=America/Chicago:20240821T170000
DTEND;TZID=America/Chicago:20240821T190000
DTSTAMP:20260420T140304
CREATED:20251001T220958Z
LAST-MODIFIED:20251001T220958Z
UID:10000847-1724259600-1724266800@arkmfa.org
SUMMARY:Happy Hour with Glyneisha Johnson
DESCRIPTION:Kick off Glyneisha Johnson’s artist residency at AMFA with a social hour featuring a specialty cocktail inspired by her favorite drink. \nGuests will have the opportunity to visit with Glyneisha\, ask questions about her artistic practice\, and learn more about the work she plans to create during her time at the Museum. \nGlyneshia Johnson is an Artist-in-Residence at AMFA from August 12\, 2024\, to September 1\, 2024. \nAbout Glyneisha Johnson\nGlyneisha is a poly-disciplinary artist\, educator\, and community caretaker archiving the inherent healing nature of matrilineal Blackness through processes of ethical collaboration informed by Black feminist scholarship. She organizes workshops\, spaces for communal reflection\, produces publications\, living archives\, installation and exhibition work examining the public and private experiential nature of the Black Interior as a source of refuge\, healing\, and imagination. \nShe is co-founder of Strange Fruit Femmes\, a Black and Brown femme lead collective that provides free programming for youth and adults centering transformative healing through the arts. Glyneisha is a 2020 Charlotte St Award Fellow and recipient of the 2020 Byron C. Cohen Award. She has exhibited\, presented\, and been in residence at Art Omi\, Bemis Center for Contemporary Art\, Juanita J. Craft residency\, The Nerman Museum for Contemporary Art\, SCAD Museum of Art\, Springfield Museum of Art\, Springfield Museum of Art\, and more. \n\nThe Artist-in-Residence program is supported by the John and Robyn Horn Foundation.
URL:https://arkmfa.org/event/happy-hour-with-glyneisha-johnson/
CATEGORIES:Adults,Special Events
ATTACH;FMTTYPE=image/jpeg:https://arkmfa.org/wp-content/uploads/2025/09/glyneisha-johnson-4x3-1.jpg
END:VEVENT
END:VCALENDAR