BEGIN:VCALENDAR
VERSION:2.0
PRODID:-//Arkansas Museum of Fine Arts - ECPv6.15.20//NONSGML v1.0//EN
CALSCALE:GREGORIAN
METHOD:PUBLISH
X-WR-CALNAME:Arkansas Museum of Fine Arts
X-ORIGINAL-URL:https://arkmfa.org
X-WR-CALDESC:Events for Arkansas Museum of Fine Arts
REFRESH-INTERVAL;VALUE=DURATION:PT1H
X-Robots-Tag:noindex
X-PUBLISHED-TTL:PT1H
BEGIN:VTIMEZONE
TZID:America/Chicago
BEGIN:DAYLIGHT
TZOFFSETFROM:-0600
TZOFFSETTO:-0500
TZNAME:CDT
DTSTART:20240310T080000
END:DAYLIGHT
BEGIN:STANDARD
TZOFFSETFROM:-0500
TZOFFSETTO:-0600
TZNAME:CST
DTSTART:20241103T070000
END:STANDARD
BEGIN:DAYLIGHT
TZOFFSETFROM:-0600
TZOFFSETTO:-0500
TZNAME:CDT
DTSTART:20250309T080000
END:DAYLIGHT
BEGIN:STANDARD
TZOFFSETFROM:-0500
TZOFFSETTO:-0600
TZNAME:CST
DTSTART:20251102T070000
END:STANDARD
BEGIN:DAYLIGHT
TZOFFSETFROM:-0600
TZOFFSETTO:-0500
TZNAME:CDT
DTSTART:20260308T080000
END:DAYLIGHT
BEGIN:STANDARD
TZOFFSETFROM:-0500
TZOFFSETTO:-0600
TZNAME:CST
DTSTART:20261101T070000
END:STANDARD
END:VTIMEZONE
BEGIN:VEVENT
DTSTART;TZID=America/Chicago:20251213T151500
DTEND;TZID=America/Chicago:20251213T160000
DTSTAMP:20260421T162056
CREATED:20251001T221523Z
LAST-MODIFIED:20251028T135007Z
UID:10001610-1765638900-1765641600@arkmfa.org
SUMMARY:Member Mingle: Junie B. in Jingle Bells\, Batman Smells!
DESCRIPTION:Meet the stars\, explore the stage\, and experience the magic of live theatre up close! \nAfter the curtain falls on the lively 2:00 p.m. performance of Junie B. in Jingle Bells\, Batman Smells!\, join Junie B. Jones and Mr. Scary on stage for an exclusive behind-the-scenes tour. \nNot an AMFA Member? Join today to access tickets for this event\, or call 501.396.0322 for more information. \n\nJunie B. in Jingle Bells\, Batman Smells! is supported in part by Arkansas Blue Cross and Blue Shield and Cindy and Greg Feltus. \nChildren’s Theatre and Performing Arts programs are supported in part by the Shubert Foundation and the Alice L. Walton Foundation. \nImage courtesy of Jason Masters. \n 
URL:https://arkmfa.org/event/member-mingle-junie-b-in-jingle-bells-batman-smells/
CATEGORIES:Holiday,Members,Special Events
ATTACH;FMTTYPE=image/jpeg:https://arkmfa.org/wp-content/uploads/2025/09/Theater-with-Color-Wash-Jason-Masters-4x3-1.jpg
END:VEVENT
END:VCALENDAR