BEGIN:VCALENDAR
VERSION:2.0
PRODID:-//Arkansas Museum of Fine Arts - ECPv6.15.20//NONSGML v1.0//EN
CALSCALE:GREGORIAN
METHOD:PUBLISH
X-ORIGINAL-URL:https://arkmfa.org
X-WR-CALDESC:Events for Arkansas Museum of Fine Arts
REFRESH-INTERVAL;VALUE=DURATION:PT1H
X-Robots-Tag:noindex
X-PUBLISHED-TTL:PT1H
BEGIN:VTIMEZONE
TZID:America/Chicago
BEGIN:DAYLIGHT
TZOFFSETFROM:-0600
TZOFFSETTO:-0500
TZNAME:CDT
DTSTART:20240310T080000
END:DAYLIGHT
BEGIN:STANDARD
TZOFFSETFROM:-0500
TZOFFSETTO:-0600
TZNAME:CST
DTSTART:20241103T070000
END:STANDARD
BEGIN:DAYLIGHT
TZOFFSETFROM:-0600
TZOFFSETTO:-0500
TZNAME:CDT
DTSTART:20250309T080000
END:DAYLIGHT
BEGIN:STANDARD
TZOFFSETFROM:-0500
TZOFFSETTO:-0600
TZNAME:CST
DTSTART:20251102T070000
END:STANDARD
BEGIN:DAYLIGHT
TZOFFSETFROM:-0600
TZOFFSETTO:-0500
TZNAME:CDT
DTSTART:20260308T080000
END:DAYLIGHT
BEGIN:STANDARD
TZOFFSETFROM:-0500
TZOFFSETTO:-0600
TZNAME:CST
DTSTART:20261101T070000
END:STANDARD
END:VTIMEZONE
BEGIN:VEVENT
DTSTART;TZID=America/Chicago:20251002T170000
DTEND;TZID=America/Chicago:20251002T200000
DTSTAMP:20260419T222156
CREATED:20251001T221516Z
LAST-MODIFIED:20251028T140811Z
UID:10001578-1759424400-1759435200@arkmfa.org
SUMMARY:Architects of Being Preview Night
DESCRIPTION:Mark the opening of AMFA’s groundbreaking new exhibition – Architects of Being: Louise Nevelson and Esphyr Slobodkina – at this Member-exclusive event that everyone will be talking about for years to come. \nFor the very first time\, Architects of Being presents the work of these two pioneering midcentury female artists in dialogue alongside key pieces from their iconic wardrobes. The exhibition introduces new research about each artist\, offering a unique viewpoint into the intersections of two women who lived both remarkably parallel and wholly opposite artistic lives. \nSecure your tickets now to see the exhibition before it opens to the public and prepare to enjoy beverages and bites that celebrate the style and star power of Nevelson and Slobodkina. Chic\, black attire is encouraged! \nNot an AMFA Member? Join today to access tickets for this event\, or call 501.396.0322 for more information. \n\nArchitects of Being: Louise Nevelson and Esphyr Slobodkina is supported in part by the Arkansas Museum of Fine Arts Foundation\, National Endowment for the Arts\, Alan Dubois Fund for Contemporary Craft\, Ellsworth Kelly Foundation\, Anita Davis\, and the Jewish Federation of Arkansas. \nThe catalog for Architects of Being: Louise Nevelson and Esphyr Slobodkina is supported in part by the Wyeth Foundation for American Art. \n \nThis exhibition is organized by the Arkansas Museum of Fine Arts. \nIn-Kind support provided by Moon Distributors Inc. and O’Connor Distributing. \nPhoto credit: Cecil Beaton\, Vogue\, @Condé Nast (left); Archival photo from the Slobodkina Foundation (right). \n 
URL:https://arkmfa.org/event/architects-of-being-preview-night/
CATEGORIES:Members
ATTACH;FMTTYPE=image/jpeg:https://arkmfa.org/wp-content/uploads/2025/09/Architects-Member-Preview-Night-v2.jpg
END:VEVENT
END:VCALENDAR