BEGIN:VCALENDAR
VERSION:2.0
PRODID:-//Arkansas Museum of Fine Arts - ECPv6.15.20//NONSGML v1.0//EN
CALSCALE:GREGORIAN
METHOD:PUBLISH
X-WR-CALNAME:Arkansas Museum of Fine Arts
X-ORIGINAL-URL:https://arkmfa.org
X-WR-CALDESC:Events for Arkansas Museum of Fine Arts
REFRESH-INTERVAL;VALUE=DURATION:PT1H
X-Robots-Tag:noindex
X-PUBLISHED-TTL:PT1H
BEGIN:VTIMEZONE
TZID:America/Chicago
BEGIN:DAYLIGHT
TZOFFSETFROM:-0600
TZOFFSETTO:-0500
TZNAME:CDT
DTSTART:20230312T080000
END:DAYLIGHT
BEGIN:STANDARD
TZOFFSETFROM:-0500
TZOFFSETTO:-0600
TZNAME:CST
DTSTART:20231105T070000
END:STANDARD
BEGIN:DAYLIGHT
TZOFFSETFROM:-0600
TZOFFSETTO:-0500
TZNAME:CDT
DTSTART:20240310T080000
END:DAYLIGHT
BEGIN:STANDARD
TZOFFSETFROM:-0500
TZOFFSETTO:-0600
TZNAME:CST
DTSTART:20241103T070000
END:STANDARD
BEGIN:DAYLIGHT
TZOFFSETFROM:-0600
TZOFFSETTO:-0500
TZNAME:CDT
DTSTART:20250309T080000
END:DAYLIGHT
BEGIN:STANDARD
TZOFFSETFROM:-0500
TZOFFSETTO:-0600
TZNAME:CST
DTSTART:20251102T070000
END:STANDARD
END:VTIMEZONE
BEGIN:VEVENT
DTSTART;TZID=America/Chicago:20241201T130000
DTEND;TZID=America/Chicago:20241201T160000
DTSTAMP:20260424T180157
CREATED:20251001T221153Z
LAST-MODIFIED:20251001T221153Z
UID:10001094-1733058000-1733068800@arkmfa.org
SUMMARY:Five "Golden" Rings Workshop
DESCRIPTION:Make a wearable stack of five “golden” rings in brass inspired by the holiday classic Twelve Days of Christmas. Learn to custom size\, shape\, and solder brass wire to complete your golden-toned set. \nAll skill levels are welcome. Ages 16+ \n\n\nRings by Erin House.
URL:https://arkmfa.org/event/five-golden-rings-workshop/
CATEGORIES:Adults,Art School,Holiday
ATTACH;FMTTYPE=image/jpeg:https://arkmfa.org/wp-content/uploads/2025/09/Five-Golden-Rings-Erin-House-4x3-1.jpg
END:VEVENT
BEGIN:VEVENT
DTSTART;TZID=America/Chicago:20241204T170000
DTEND;TZID=America/Chicago:20241204T200000
DTSTAMP:20260424T180157
CREATED:20251001T221128Z
LAST-MODIFIED:20251028T173030Z
UID:10001032-1733331600-1733342400@arkmfa.org
SUMMARY:Bright Nights
DESCRIPTION:Spend the holiday season at AMFA enjoying a night of live jazz and festive vibes. Immerse yourself in the glowing ambiance of the Cultural Living Room\, where the melodies meld perfectly with a glass of bubbly champagne and gourmet snacks. \nThis experience extends into the galleries\, where our docents will elevate your evening with an illuminating conversation about the art on view. Wrap up the night (and maybe a few gifts) with a shopping trip to the Museum Store. \nDrinks and music start at 5:00 p.m. in the Cultural Living Room. Gallery engagements start at 6:30 p.m. in the Galleries. \n\nBright Nights is supported by Stella Boyle Smith Trust\, Catherine and Michael Mayton\, Trustees. \n 
URL:https://arkmfa.org/event/bright-nights-dec-4/
CATEGORIES:Adults,Holiday
ATTACH;FMTTYPE=image/jpeg:https://arkmfa.org/wp-content/uploads/2025/09/Bright-Nights-2024-People.jpg
END:VEVENT
BEGIN:VEVENT
DTSTART;TZID=America/Chicago:20241207T090000
DTEND;TZID=America/Chicago:20241207T120000
DTSTAMP:20260424T180157
CREATED:20251001T221153Z
LAST-MODIFIED:20251103T200459Z
UID:10001096-1733562000-1733572800@arkmfa.org
SUMMARY:Embossed Metal Ornament Workshop
DESCRIPTION:Design an ornament or another dangling work of art to brighten the season during this one-day workshop. Using silver-colored tooling metal\, emboss your design using hand tools. Finish it off with a hook for hanging and\, if you wish\, sparkly bead accents. \nAll skill levels are welcome! \n\nOrnament by Sharon Landon. \n\n\n\n\n\n\n\n\n\n 
URL:https://arkmfa.org/event/embossed-metal-ornament-workshop-dec-7/
CATEGORIES:Adults,Art School,Holiday
ATTACH;FMTTYPE=image/jpeg:https://arkmfa.org/wp-content/uploads/2025/09/Embossed-Metal-Ornament-v2-4x3-1-e1727808271970-FESs4k.tmp_.jpg
END:VEVENT
BEGIN:VEVENT
DTSTART;TZID=America/Chicago:20241207T103000
DTEND;TZID=America/Chicago:20241207T113000
DTSTAMP:20260424T180157
CREATED:20251001T221128Z
LAST-MODIFIED:20251031T141253Z
UID:10001033-1733567400-1733571000@arkmfa.org
SUMMARY:Madeline's Christmas
DESCRIPTION:Between visits to the Eiffel Tower and the Paris Zoo\, Madeline and her friends embark on a high-flying journey across Paris in this charming holiday production of Madeline’s Christmas. \n“Sometimes the most wonderful things can happen. Especially at Christmastime.” \nWith an enchanting story\, beautiful music\, and a sprinkle of theatre magic\, this musical is perfect for family audiences. Experience the joy and magic of the holiday season with the musical adaptation of Ludwig Bemelmans’s classic tale\, Madeline’s Christmas. \nRunning Time: 60 minutesRecommended Age: 5 and up \n\nProduced by special arrangement with DRAMATIC PUBLISHING\, Woodstock\, Illinois. \nMadeline’s Christmas is supported by Arkansas Democrat-Gazette\, Stephanie and Kenny Gunderman\, Arkansas Blue Cross and Blue Shield\, Hodge Orthodontics\, Rebsamen Fund\, and Dr. Loren Bartole\, ‘Family Foot Care.’ \nChildren’s Theatre and Performing Arts programs are supported by The Shubert Foundation and the Alice L. Walton Foundation. \n\n\nVIEW THE PLAY GUIDE\n\n\n\n\n\n\n\n\n\n\n 
URL:https://arkmfa.org/event/madelines-christmas/
CATEGORIES:Children's Theatre,Holiday,Youth & Families
ATTACH;FMTTYPE=image/jpeg:https://arkmfa.org/wp-content/uploads/2025/09/Madelines-Christmas-Title-Card-Draft-v2-e1730238389912.jpg
END:VEVENT
BEGIN:VEVENT
DTSTART;TZID=America/Chicago:20241207T140000
DTEND;TZID=America/Chicago:20241207T150000
DTSTAMP:20260424T180157
CREATED:20251001T221128Z
LAST-MODIFIED:20251103T200422Z
UID:10001037-1733580000-1733583600@arkmfa.org
SUMMARY:Madeline's Christmas
DESCRIPTION:Between visits to the Eiffel Tower and the Paris Zoo\, Madeline and her friends embark on a high-flying journey across Paris in this charming holiday production of Madeline’s Christmas. \n“Sometimes the most wonderful things can happen. Especially at Christmastime.” \nWith an enchanting story\, beautiful music\, and a sprinkle of theatre magic\, this musical is perfect for family audiences. Experience the joy and magic of the holiday season with the musical adaptation of Ludwig Bemelmans’s classic tale\, Madeline’s Christmas. \nRunning Time: 60 minutesRecommended Age: 5 and up \n\nProduced by special arrangement with DRAMATIC PUBLISHING\, Woodstock\, Illinois. \nMadeline’s Christmas is supported by Arkansas Democrat-Gazette\, Stephanie and Kenny Gunderman\, Arkansas Blue Cross and Blue Shield\, Hodge Orthodontics\, Rebsamen Fund\, and Dr. Loren Bartole\, ‘Family Foot Care.’ \nChildren’s Theatre and Performing Arts programs are supported by The Shubert Foundation and the Alice L. Walton Foundation. \n\n\nVIEW THE PLAY GUIDE\n\n\n\n\n\n\n\n\n\n\n 
URL:https://arkmfa.org/event/madelines-christmas-dec-7/
CATEGORIES:Children's Theatre,Holiday,Youth & Families
ATTACH;FMTTYPE=image/jpeg:https://arkmfa.org/wp-content/uploads/2025/09/Madelines-Christmas-Title-Card-Draft-v2-e1730238389912.jpg
END:VEVENT
BEGIN:VEVENT
DTSTART;TZID=America/Chicago:20241207T150000
DTEND;TZID=America/Chicago:20241207T170000
DTSTAMP:20260424T180157
CREATED:20251001T221128Z
LAST-MODIFIED:20251031T141245Z
UID:10001036-1733583600-1733590800@arkmfa.org
SUMMARY:Member Mingle: Madeline's Christmas
DESCRIPTION:Take a peek behind the magical curtain of Madeline’s Christmas! After the 2:00 p.m. performance concludes\, Members are invited to meet the cast and crew during an exclusive backstage tour. \nEntry is free with proof of ticket purchase and AMFA membership. \nNot an AMFA Member? Join today for access to this event. \n\nMadeline’s Christmas is supported by Arkansas Democrat-Gazette\, Stephanie and Kenny Gunderman\, Arkansas Blue Cross and Blue Shield\, Hodge Orthodontics\, Rebsamen Fund\, and Dr. Loren Bartole\, ‘Family Foot Care.’ \nChildren’s Theatre and Performing Arts programs are supported by The Shubert Foundation and the Alice L. Walton Foundation. \nImage courtesy of Jason Masters. \n 
URL:https://arkmfa.org/event/member-mingle-madelines-christmas/
CATEGORIES:Holiday,Members,Youth & Families
ATTACH;FMTTYPE=image/jpeg:https://arkmfa.org/wp-content/uploads/2025/09/Family-Member-Mingle-4x3-1.jpg
END:VEVENT
BEGIN:VEVENT
DTSTART;TZID=America/Chicago:20241208T133000
DTEND;TZID=America/Chicago:20241208T163000
DTSTAMP:20260424T180157
CREATED:20251001T221153Z
LAST-MODIFIED:20251001T221153Z
UID:10001097-1733664600-1733675400@arkmfa.org
SUMMARY:Winter Wonderland Paint Along Workshop
DESCRIPTION:Children in grades K-5 are invited to learn basic acrylic painting skills and create a winter wonderland painting on canvas during this step-by-step painting experience. \n\n\nPainting by Lauren Crutchfield.
URL:https://arkmfa.org/event/winter-wonderland-paint-along-workshop/
CATEGORIES:Art School,Holiday,Youth & Families
ATTACH;FMTTYPE=image/jpeg:https://arkmfa.org/wp-content/uploads/2025/09/Winter-Wonderland-Paint-Along-4x3-1.jpg
END:VEVENT
BEGIN:VEVENT
DTSTART;TZID=America/Chicago:20241208T140000
DTEND;TZID=America/Chicago:20241208T150000
DTSTAMP:20260424T180157
CREATED:20251001T221128Z
LAST-MODIFIED:20251031T141239Z
UID:10001039-1733666400-1733670000@arkmfa.org
SUMMARY:Madeline's Christmas: Bring Your Book Day
DESCRIPTION:Between visits to the Eiffel Tower and the Paris Zoo\, Madeline and her friends embark on a high-flying journey across Paris in this charming holiday production of Madeline’s Christmas. \n“Sometimes the most wonderful things can happen. Especially at Christmastime.” \nWith an enchanting story\, beautiful music\, and a sprinkle of theatre magic\, this musical is perfect for family audiences. Experience the joy and magic of the holiday season with the musical adaptation of Ludwig Bemelmans’s classic tale\, Madeline’s Christmas. \nAt this performance\, we are celebrating reading and literacy with our partners at CALS. Bring your favorite Madeline book\, or purchase one in the Museum Store\, to get it signed by the cast after the show! \nRunning Time: 60 minutesRecommended Age: 5 and up \n\nProduced by special arrangement with DRAMATIC PUBLISHING\, Woodstock\, Illinois. \nMadeline’s Christmas is supported by Arkansas Democrat-Gazette\, Stephanie and Kenny Gunderman\, Arkansas Blue Cross and Blue Shield\, Hodge Orthodontics\, Rebsamen Fund\, and Dr. Loren Bartole\, ‘Family Foot Care.’ \nChildren’s Theatre and Performing Arts programs are supported by The Shubert Foundation and the Alice L. Walton Foundation. \n\n\nVIEW THE PLAY GUIDE\n\n\n\n\n\n\n\n\n\n\n 
URL:https://arkmfa.org/event/madelines-christmas-literacy-day/
CATEGORIES:Children's Theatre,Holiday,Youth & Families
ATTACH;FMTTYPE=image/jpeg:https://arkmfa.org/wp-content/uploads/2025/09/Madelines-Christmas-Title-Card-Draft-v2-e1730238389912.jpg
END:VEVENT
BEGIN:VEVENT
DTSTART;TZID=America/Chicago:20241211T170000
DTEND;TZID=America/Chicago:20241211T200000
DTSTAMP:20260424T180157
CREATED:20251001T221128Z
LAST-MODIFIED:20251028T173021Z
UID:10001040-1733936400-1733947200@arkmfa.org
SUMMARY:Bright Nights
DESCRIPTION:Spend the holiday season at AMFA enjoying a night of live jazz and festive vibes. Immerse yourself in the glowing ambiance of the Cultural Living Room\, where the melodies meld perfectly with a glass of bubbly champagne and gourmet snacks. \nThis experience extends into the galleries\, where our docents will elevate your evening with an illuminating conversation about the art on view. Wrap up the night (and maybe a few gifts) with a shopping trip to the Museum Store. \nDrinks and music start at 5:00 p.m. in the Cultural Living Room. Gallery engagements start at 6:30 p.m. in the Galleries. \n\nBright Nights is supported by Stella Boyle Smith Trust\, Catherine and Michael Mayton\, Trustees. \n 
URL:https://arkmfa.org/event/bright-nights-dec-11/
CATEGORIES:Adults,Holiday
ATTACH;FMTTYPE=image/jpeg:https://arkmfa.org/wp-content/uploads/2025/09/Bright-Nights-2024-People.jpg
END:VEVENT
BEGIN:VEVENT
DTSTART;TZID=America/Chicago:20241211T183000
DTEND;TZID=America/Chicago:20241211T203000
DTSTAMP:20260424T180157
CREATED:20251001T221144Z
LAST-MODIFIED:20251028T172547Z
UID:10001074-1733941800-1733949000@arkmfa.org
SUMMARY:Movies at the Museum: The Family Stone (2005)
DESCRIPTION:Grab your popcorn and prepare to laugh: hilarity ensues in this holiday movie centering around a unique family gathering at Christmastime. \nIn The Family Stone\, Everett Stone (Dermot Mulroney) wants to bring his girlfriend\, Meredith Morton (Sarah Jessica Parker)\, home to meet his bohemian Connecticut family. Straitlaced Meredith\, feeling she needs backup\, asks her sister Julie (Claire Danes) to come along. \nHoping to win the approval of her boyfriend’s parents Sybil (Diane Keaton) and Kelly (Craig T. Nelson) and the rest of the family\, Meredith instead succeeds only in highlighting her uptight personality and making Everett doubt his intentions. \nRunning Time: 1 hour\, 43 minutesRating: PG-13 \nThis screening is presented in partnership with the Arkansas Cinema Society. \n\n\nWatch the Trailer\n\n\n\n\n\n\n\n\n\n\n 
URL:https://arkmfa.org/event/movies-at-the-museum-the-family-stone-2005-dec-11/
CATEGORIES:Films,Holiday
ATTACH;FMTTYPE=image/jpeg:https://arkmfa.org/wp-content/uploads/2025/09/family-stone-4x3-1.jpg
END:VEVENT
BEGIN:VEVENT
DTSTART;TZID=America/Chicago:20241214T103000
DTEND;TZID=America/Chicago:20241214T113000
DTSTAMP:20260424T180157
CREATED:20251001T221136Z
LAST-MODIFIED:20251031T141231Z
UID:10001043-1734172200-1734175800@arkmfa.org
SUMMARY:Madeline's Christmas
DESCRIPTION:Between visits to the Eiffel Tower and the Paris Zoo\, Madeline and her friends embark on a high-flying journey across Paris in this charming holiday production of Madeline’s Christmas. \n“Sometimes the most wonderful things can happen. Especially at Christmastime.” \nWith an enchanting story\, beautiful music\, and a sprinkle of theatre magic\, this musical is perfect for family audiences. Experience the joy and magic of the holiday season with the musical adaptation of Ludwig Bemelmans’s classic tale\, Madeline’s Christmas. \nThis performance features audio description. \nRunning Time: 60 minutesRecommended Age: 5 and up \n\nProduced by special arrangement with DRAMATIC PUBLISHING\, Woodstock\, Illinois. \nMadeline’s Christmas is supported by Arkansas Democrat-Gazette\, Stephanie and Kenny Gunderman\, Arkansas Blue Cross and Blue Shield\, Hodge Orthodontics\, Rebsamen Fund\, and Dr. Loren Bartole\, ‘Family Foot Care.’ \nChildren’s Theatre and Performing Arts programs are supported by The Shubert Foundation and the Alice L. Walton Foundation. \n\n\nVIEW THE PLAY GUIDE\n\n\n\n\n\n\n\n\n\n\n 
URL:https://arkmfa.org/event/madelines-christmas-dec-14/
CATEGORIES:Accessible,Children's Theatre,Holiday,Youth & Families
ATTACH;FMTTYPE=image/jpeg:https://arkmfa.org/wp-content/uploads/2025/09/Madelines-Christmas-Title-Card-Draft-v2-e1730238389912.jpg
END:VEVENT
BEGIN:VEVENT
DTSTART;TZID=America/Chicago:20241214T140000
DTEND;TZID=America/Chicago:20241214T150000
DTSTAMP:20260424T180157
CREATED:20251001T221136Z
LAST-MODIFIED:20251031T141225Z
UID:10001044-1734184800-1734188400@arkmfa.org
SUMMARY:Madeline's Christmas: Art-Making Day
DESCRIPTION:Between visits to the Eiffel Tower and the Paris Zoo\, Madeline and her friends embark on a high-flying journey across Paris in this charming holiday production of Madeline’s Christmas. \n“Sometimes the most wonderful things can happen. Especially at Christmastime.” \nWith an enchanting story\, beautiful music\, and a sprinkle of theatre magic\, this musical is perfect for family audiences. Experience the joy and magic of the holiday season with the musical adaptation of Ludwig Bemelmans’s classic tale\, Madeline’s Christmas. \nThis performance features ASL interpretation. \nAfter the performance\, audiences are invited to be creative with a free\, Madeline-inspired art activity and meet the cast in the Amerine/Calhoun Glass Box. \nRunning Time: 60 minutesRecommended Age: 5 and up \n\nProduced by special arrangement with DRAMATIC PUBLISHING\, Woodstock\, Illinois. \nMadeline’s Christmas is supported by Arkansas Democrat-Gazette\, Stephanie and Kenny Gunderman\, Arkansas Blue Cross and Blue Shield\, Hodge Orthodontics\, Rebsamen Fund\, and Dr. Loren Bartole\, ‘Family Foot Care.’ \nChildren’s Theatre and Performing Arts programs are supported by The Shubert Foundation and the Alice L. Walton Foundation. \n\n\nDOWNLOAD THE PLAY GUIDE\n\n\n\n\n\n\n\n\n\n\n 
URL:https://arkmfa.org/event/madelines-christmas-craft-day/
CATEGORIES:Accessible,Children's Theatre,Holiday,Youth & Families
ATTACH;FMTTYPE=image/jpeg:https://arkmfa.org/wp-content/uploads/2025/09/Madelines-Christmas-Title-Card-Draft-v2-e1730238389912.jpg
END:VEVENT
BEGIN:VEVENT
DTSTART;TZID=America/Chicago:20241215T130000
DTEND;TZID=America/Chicago:20241215T160000
DTSTAMP:20260424T180157
CREATED:20251001T221201Z
LAST-MODIFIED:20251103T200212Z
UID:10001100-1734267600-1734278400@arkmfa.org
SUMMARY:Reusable Gift Tag Workshop
DESCRIPTION:Create reusable gift tags from versatile polymer clay in this one-day workshop. Applying a resin coating will allow your gift tags to be wiped clean with alcohol and used again and again. \nOpen to all skill levels. Ages 16+ \n\nArtwork by Danya Golden. \n\n\n\n\n\n\n\n\n\n 
URL:https://arkmfa.org/event/reusable-gift-tag-workshop/
CATEGORIES:Adults,Art School,Holiday
ATTACH;FMTTYPE=image/jpeg:https://arkmfa.org/wp-content/uploads/2025/09/Reusable-Gift-Tags-Danya-4x3-1.jpg
END:VEVENT
BEGIN:VEVENT
DTSTART;TZID=America/Chicago:20241215T130000
DTEND;TZID=America/Chicago:20241215T160000
DTSTAMP:20260424T180157
CREATED:20251001T221201Z
LAST-MODIFIED:20251001T221201Z
UID:10001102-1734267600-1734278400@arkmfa.org
SUMMARY:Making Together: Hand-Printed Holiday Cards
DESCRIPTION:Discover the joy of printmaking with your little one and create two sets of hand-printed holiday cards. Learn about printmaking without using a press\, a skill you can take home and keep doing outside the studio. \n\n\nPrint by Kristin Andrews-Karr.
URL:https://arkmfa.org/event/making-together-hand-printed-holiday-cards/
CATEGORIES:Art School,Holiday,Youth & Families
ATTACH;FMTTYPE=image/jpeg:https://arkmfa.org/wp-content/uploads/2025/09/Hand-Stamped-Holiday-Cards.jpg
END:VEVENT
BEGIN:VEVENT
DTSTART;TZID=America/Chicago:20241215T140000
DTEND;TZID=America/Chicago:20241215T150000
DTSTAMP:20260424T180157
CREATED:20251001T221136Z
LAST-MODIFIED:20251103T200158Z
UID:10001047-1734271200-1734274800@arkmfa.org
SUMMARY:Madeline's Christmas
DESCRIPTION:Between visits to the Eiffel Tower and the Paris Zoo\, Madeline and her friends embark on a high-flying journey across Paris in this charming holiday production of Madeline’s Christmas. \n“Sometimes the most wonderful things can happen. Especially at Christmastime.” \nWith an enchanting story\, beautiful music\, and a sprinkle of theatre magic\, this musical is perfect for family audiences. Experience the joy and magic of the holiday season with the musical adaptation of Ludwig Bemelmans’s classic tale\, Madeline’s Christmas. \nThis is a sensory-friendly performance. \nFor less stimulation\, the show will feature ambient lighting and reduced sound levels. Sensory bags and weighted blankets are available to check out at the Guest Services Desk. If you need a quiet area to relax and recharge during the performance\, the Governor Winthrop Rockefeller Lecture Hall next to the Theater will be open and live streaming the show so you do not miss a moment of magic! \nRunning Time: 60 minutesRecommended Age: 5 and up \n\nProduced by special arrangement with DRAMATIC PUBLISHING\, Woodstock\, Illinois. \nMadeline’s Christmas is supported by Arkansas Democrat-Gazette\, Stephanie and Kenny Gunderman\, Arkansas Blue Cross and Blue Shield\, Hodge Orthodontics\, Rebsamen Fund\, and Dr. Loren Bartole\, ‘Family Foot Care.’ \nChildren’s Theatre and Performing Arts programs are supported by The Shubert Foundation and the Alice L. Walton Foundation. \n\n\nDOWNLOAD THE PLAY GUIDE\n\n\n\n\n\n\n\n\n\n\n 
URL:https://arkmfa.org/event/madelines-christmas-dec-15/
CATEGORIES:Accessible,Children's Theatre,Holiday,Youth & Families
ATTACH;FMTTYPE=image/jpeg:https://arkmfa.org/wp-content/uploads/2025/09/Madelines-Christmas-Title-Card-Draft-v2-e1730238389912.jpg
END:VEVENT
BEGIN:VEVENT
DTSTART;TZID=America/Chicago:20241216T090000
DTEND;TZID=America/Chicago:20241216T160000
DTSTAMP:20260424T180157
CREATED:20251001T221201Z
LAST-MODIFIED:20251103T200153Z
UID:10001103-1734339600-1734364800@arkmfa.org
SUMMARY:Pet Portrait Workshop
DESCRIPTION:Make gifts for friends and family by learning how to make a painting of your pet from the ground up in this exciting one-day workshop. Work from photographs of your pet to get a timeless image of your favorite friend. \n\nPainting by Sarah Lassiter. \n\n\n\n\n\n\n\n\n\n 
URL:https://arkmfa.org/event/pet-portrait-workshop/
CATEGORIES:Adults,Art School,Holiday
ATTACH;FMTTYPE=image/jpeg:https://arkmfa.org/wp-content/uploads/2025/09/Pet-Portraits-in-Watercolor-4x3-1.jpg
END:VEVENT
BEGIN:VEVENT
DTSTART;TZID=America/Chicago:20241218T170000
DTEND;TZID=America/Chicago:20241218T200000
DTSTAMP:20260424T180157
CREATED:20251001T221136Z
LAST-MODIFIED:20251028T173011Z
UID:10001048-1734541200-1734552000@arkmfa.org
SUMMARY:Bright Nights
DESCRIPTION:Spend the holiday season at AMFA enjoying a night of live jazz and festive vibes. Immerse yourself in the glowing ambiance of the Cultural Living Room\, where the melodies meld perfectly with a glass of bubbly champagne and gourmet snacks. \nThis experience extends into the galleries\, where our docents will elevate your evening with an illuminating conversation about the art on view. Wrap up the night (and maybe a few gifts) with a shopping trip to the Museum Store. \nDrinks and music start at 5:00 p.m. in the Cultural Living Room. Gallery engagements start at 6:30 p.m. in the Galleries. \n\nBright Nights is supported by Stella Boyle Smith Trust\, Catherine and Michael Mayton\, Trustees. \n 
URL:https://arkmfa.org/event/bright-nights-dec-18/
CATEGORIES:Adults,Holiday
ATTACH;FMTTYPE=image/jpeg:https://arkmfa.org/wp-content/uploads/2025/09/Bright-Nights-2024-People.jpg
END:VEVENT
BEGIN:VEVENT
DTSTART;TZID=America/Chicago:20241218T183000
DTEND;TZID=America/Chicago:20241218T200000
DTSTAMP:20260424T180157
CREATED:20251001T221144Z
LAST-MODIFIED:20251028T172539Z
UID:10001075-1734546600-1734552000@arkmfa.org
SUMMARY:Movies at the Museum: The Muppet Christmas Carol (1992)
DESCRIPTION:Gather the whole family for this heartwarming film featuring everyone’s favorite comedy crew: The Muppets! \nIn this classic Dickens holiday tale\, Kermit the Frog plays family man Bob Cratchit and Sir Michael Caine plays the stingy Ebenezer Scrooge. \nOther Muppets – like Miss Piggy\, Gonzo\, Fozzie Bear\, and Sam the Eagle – weave in and out of the story as Scrooge receives visits from spirits of three Christmases: past\, present and future. They show him the error of his self-serving ways\, but the miserable old man seems to be past any hope of redemption and happiness. \nWatch Scrooge change his outlook on life (and Christmas!) as The Muppets perform a slew of original songs.  \nRunning Time: 1 hour\, 25 minutesRating: G \nThis screening is presented in partnership with the Arkansas Cinema Society. \n\n\nWatch the Trailer\n\n\n\n\n\n\n\n\n\n\n 
URL:https://arkmfa.org/event/movies-at-the-museum-the-muppet-christmas-carol-1992-dec-18/
CATEGORIES:Films,Holiday,Youth & Families
ATTACH;FMTTYPE=image/jpeg:https://arkmfa.org/wp-content/uploads/2025/09/muppet-christmas-carol-4x3-1.jpg
END:VEVENT
BEGIN:VEVENT
DTSTART;TZID=America/Chicago:20241219T180000
DTEND;TZID=America/Chicago:20241219T210000
DTSTAMP:20260424T180157
CREATED:20251001T221201Z
LAST-MODIFIED:20251103T200052Z
UID:10001105-1734631200-1734642000@arkmfa.org
SUMMARY:Embossed Metal Ornament Workshop
DESCRIPTION:Design an ornament or another dangling work of art to brighten the season during this one-day workshop. Using silver-colored tooling metal\, emboss your design using hand tools. Finish it off with a hook for hanging and\, if you wish\, sparkly bead accents. \nAll skill levels are welcome! \n\nOrnament by Sharon Landon. \n\n\n\n\n\n\n\n\n\n 
URL:https://arkmfa.org/event/embossed-metal-ornament-workshop-dec-19/
CATEGORIES:Adults,Art School,Holiday
ATTACH;FMTTYPE=image/jpeg:https://arkmfa.org/wp-content/uploads/2025/09/Embossed-Metal-Ornament-v2-4x3-1-e1727808271970-FESs4k.tmp_.jpg
END:VEVENT
BEGIN:VEVENT
DTSTART;TZID=America/Chicago:20241221T103000
DTEND;TZID=America/Chicago:20241221T113000
DTSTAMP:20260424T180157
CREATED:20251001T221136Z
LAST-MODIFIED:20251031T141220Z
UID:10001049-1734777000-1734780600@arkmfa.org
SUMMARY:Madeline's Christmas (SOLD OUT)
DESCRIPTION:Between visits to the Eiffel Tower and the Paris Zoo\, Madeline and her friends embark on a high-flying journey across Paris in this charming holiday production of Madeline’s Christmas. \n“Sometimes the most wonderful things can happen. Especially at Christmastime.” \nWith an enchanting story\, beautiful music\, and a sprinkle of theatre magic\, this musical is perfect for family audiences. Experience the joy and magic of the holiday season with the musical adaptation of Ludwig Bemelmans’s classic tale\, Madeline’s Christmas. \nRunning Time: 60 minutesRecommended Age: 5 and up \n\nProduced by special arrangement with DRAMATIC PUBLISHING\, Woodstock\, Illinois. \nMadeline’s Christmas is supported by Arkansas Democrat-Gazette\, Stephanie and Kenny Gunderman\, Arkansas Blue Cross and Blue Shield\, Hodge Orthodontics\, Rebsamen Fund\, and Dr. Loren Bartole\, ‘Family Foot Care.’ \nChildren’s Theatre and Performing Arts programs are supported by The Shubert Foundation and the Alice L. Walton Foundation. \n\n\nDOWNLOAD THE PLAY GUIDE\n\n\n\n\n\n\n\n\n\n\n 
URL:https://arkmfa.org/event/madelines-christmas-sold-out-dec-21/
CATEGORIES:Children's Theatre,Holiday,Youth & Families
ATTACH;FMTTYPE=image/jpeg:https://arkmfa.org/wp-content/uploads/2025/09/Madelines-Christmas-Title-Card-Draft-v2-e1730238389912.jpg
END:VEVENT
BEGIN:VEVENT
DTSTART;TZID=America/Chicago:20241221T140000
DTEND;TZID=America/Chicago:20241221T150000
DTSTAMP:20260424T180157
CREATED:20251001T221136Z
LAST-MODIFIED:20251031T141212Z
UID:10001051-1734789600-1734793200@arkmfa.org
SUMMARY:Madeline's Christmas: Art-Making Day (SOLD OUT)
DESCRIPTION:Between visits to the Eiffel Tower and the Paris Zoo\, Madeline and her friends embark on a high-flying journey across Paris in this charming holiday production of Madeline’s Christmas. \n“Sometimes the most wonderful things can happen. Especially at Christmastime.” \nWith an enchanting story\, beautiful music\, and a sprinkle of theatre magic\, this musical is perfect for family audiences. Experience the joy and magic of the holiday season with the musical adaptation of Ludwig Bemelmans’s classic tale\, Madeline’s Christmas. \nAfter the performance\, audiences are invited to be creative with a free\, Madeline-inspired art activity and meet the cast in the Windgate Art School. \nRunning Time: 60 minutesRecommended Age: 5 and up \n\nProduced by special arrangement with DRAMATIC PUBLISHING\, Woodstock\, Illinois. \nMadeline’s Christmas is supported by Arkansas Democrat-Gazette\, Stephanie and Kenny Gunderman\, Arkansas Blue Cross and Blue Shield\, Hodge Orthodontics\, Rebsamen Fund\, and Dr. Loren Bartole\, ‘Family Foot Care.’ \nChildren’s Theatre and Performing Arts programs are supported by The Shubert Foundation and the Alice L. Walton Foundation. \n\n\nDOWNLOAD THE PLAY GUIDE\n\n\n\n\n\n\n\n\n\n\n 
URL:https://arkmfa.org/event/madelines-christmas-art-making-day-sold-out-dec-21/
CATEGORIES:Children's Theatre,Holiday,Youth & Families
ATTACH;FMTTYPE=image/jpeg:https://arkmfa.org/wp-content/uploads/2025/09/Madelines-Christmas-Title-Card-Draft-v2-e1730238389912.jpg
END:VEVENT
BEGIN:VEVENT
DTSTART;TZID=America/Chicago:20241222T160000
DTEND;TZID=America/Chicago:20241222T170000
DTSTAMP:20260424T180157
CREATED:20251001T221241Z
LAST-MODIFIED:20251031T141156Z
UID:10001184-1734883200-1734886800@arkmfa.org
SUMMARY:Madeline's Christmas
DESCRIPTION:Between visits to the Eiffel Tower and the Paris Zoo\, Madeline and her friends embark on a high-flying journey across Paris in this charming holiday production of Madeline’s Christmas. \n“Sometimes the most wonderful things can happen. Especially at Christmastime.” \nWith an enchanting story\, beautiful music\, and a sprinkle of theatre magic\, this musical is perfect for family audiences. Experience the joy and magic of the holiday season with the musical adaptation of Ludwig Bemelmans’s classic tale\, Madeline’s Christmas. \nRunning Time: 60 minutesRecommended Age: 5 and up \n\nProduced by special arrangement with DRAMATIC PUBLISHING\, Woodstock\, Illinois. \nMadeline’s Christmas is supported by Arkansas Democrat-Gazette\, Stephanie and Kenny Gunderman\, Arkansas Blue Cross and Blue Shield\, Hodge Orthodontics\, Rebsamen Fund\, and Dr. Loren Bartole\, ‘Family Foot Care.’ \nChildren’s Theatre and Performing Arts programs are supported by The Shubert Foundation and the Alice L. Walton Foundation. \n\n\nDOWNLOAD THE PLAY GUIDE\n\n\n\n\n\n\n\n\n\n\n 
URL:https://arkmfa.org/event/madelines-christmas-dec-22/
CATEGORIES:Children's Theatre,Holiday,Youth & Families
ATTACH;FMTTYPE=image/jpeg:https://arkmfa.org/wp-content/uploads/2025/09/Madelines-Christmas-Title-Card-Draft-v2-e1730238389912.jpg
END:VEVENT
END:VCALENDAR