BEGIN:VCALENDAR
VERSION:2.0
PRODID:-//Arkansas Museum of Fine Arts - ECPv6.15.20//NONSGML v1.0//EN
CALSCALE:GREGORIAN
METHOD:PUBLISH
X-ORIGINAL-URL:https://arkmfa.org
X-WR-CALDESC:Events for Arkansas Museum of Fine Arts
REFRESH-INTERVAL;VALUE=DURATION:PT1H
X-Robots-Tag:noindex
X-PUBLISHED-TTL:PT1H
BEGIN:VTIMEZONE
TZID:America/Chicago
BEGIN:DAYLIGHT
TZOFFSETFROM:-0600
TZOFFSETTO:-0500
TZNAME:CDT
DTSTART:20240310T080000
END:DAYLIGHT
BEGIN:STANDARD
TZOFFSETFROM:-0500
TZOFFSETTO:-0600
TZNAME:CST
DTSTART:20241103T070000
END:STANDARD
BEGIN:DAYLIGHT
TZOFFSETFROM:-0600
TZOFFSETTO:-0500
TZNAME:CDT
DTSTART:20250309T080000
END:DAYLIGHT
BEGIN:STANDARD
TZOFFSETFROM:-0500
TZOFFSETTO:-0600
TZNAME:CST
DTSTART:20251102T070000
END:STANDARD
BEGIN:DAYLIGHT
TZOFFSETFROM:-0600
TZOFFSETTO:-0500
TZNAME:CDT
DTSTART:20260308T080000
END:DAYLIGHT
BEGIN:STANDARD
TZOFFSETFROM:-0500
TZOFFSETTO:-0600
TZNAME:CST
DTSTART:20261101T070000
END:STANDARD
END:VTIMEZONE
BEGIN:VEVENT
DTSTART;TZID=America/Chicago:20250124T160000
DTEND;TZID=America/Chicago:20250124T170000
DTSTAMP:20260421T142619
CREATED:20251001T221315Z
LAST-MODIFIED:20251028T175822Z
UID:10001273-1737734400-1737738000@arkmfa.org
SUMMARY:Filmland: Arkansas Showcase – Student Shorts
DESCRIPTION:AMFA and the Arkansas Cinema Society are proud to present a selection of short films from Filmland: Arkansas 2024. \nLineup\n \n\n\nLimbo by Sophie Barnes\n\n\n\nAmerican Heterosexual Story by Victor Keas\n\n\n\nStargazer by KJ Hatch\n\n\n\nPerséfone by Nathaly M Moreno\n\n\n\nRide Share by Samuel Forst\n\n\n\nSecond Childhood by Charles Bane\n\n\n\n\n \n\n\n\n  \nThis screening is presented in partnership with the Arkansas Cinema Society. \n\n\n\n\n\n\n\n\n\n 
URL:https://arkmfa.org/event/filmland-arkansas-showcase-student-shorts/
CATEGORIES:Films
ATTACH;FMTTYPE=image/jpeg:https://arkmfa.org/wp-content/uploads/2025/09/American-Heterosexual-Story-still.jpg
END:VEVENT
BEGIN:VEVENT
DTSTART;TZID=America/Chicago:20250124T173000
DTEND;TZID=America/Chicago:20250124T193000
DTSTAMP:20260421T142619
CREATED:20251001T221315Z
LAST-MODIFIED:20251028T175815Z
UID:10001272-1737739800-1737747000@arkmfa.org
SUMMARY:Filmland: Arkansas Showcase – Professional Shorts
DESCRIPTION:AMFA and the Arkansas Cinema Society are proud to present a selection of short films from Filmland: Arkansas 2024. \nLineup\n \n\n\n(I’m Not) Your Negroni by Antonio Terrell\n\n\n\nBanana Triangle Six by Marc Crandall\n\n\n\nHow Do I Tell You This by Lara Hill\n\n\n\nDoom and Despair by Jonathan Childs\n\n\n\nSelf Tape by Eric White\, Terrell Case\n\n\n\nWhere is It? by Brady C Ness\n\n\n\nMom.ent of Peace by Raelyn Munneke\n\n\n\n\n \n\n\n\n  \nThis screening is presented in partnership with the Arkansas Cinema Society. \n\n\n\n\n\n\n\n\n\n 
URL:https://arkmfa.org/event/filmland-arkansas-showcase-professional-shorts/
CATEGORIES:Films
ATTACH;FMTTYPE=image/jpeg:https://arkmfa.org/wp-content/uploads/2025/09/Self-Tape-still.jpg
END:VEVENT
BEGIN:VEVENT
DTSTART;TZID=America/Chicago:20250125T103000
DTEND;TZID=America/Chicago:20250125T120000
DTSTAMP:20260421T142619
CREATED:20251001T221315Z
LAST-MODIFIED:20251028T175755Z
UID:10001270-1737801000-1737806400@arkmfa.org
SUMMARY:Filmland: Arkansas Showcase – All Happy Families
DESCRIPTION:Catch a screening of All Happy Families co-written by Arkansas native Coburn Goss\, directed by Haroula Rose\, and executive produced by Michael Shannon. \nAbout the Film\n\nHaroula Rose’s charming dramedy stars How I Met Your Mother‘s Josh Radnor as Graham\, an actor and writer in a slump and still waiting for his big break while his hugely successful brother Will (Rob Huebel) stars in his own sitcom. On the weekend before new tenant Dana (Chandra Russell) is due to move into their childhood home\, the siblings and their parents find themselves unexpectedly under the same roof again\, where every corner reveals secrets and surprises and the family airs out long-held resentments. \nThis slice-of-life film features a terrific ensemble cast\, including the pitch-perfect Becky Ann Baker as Sue\, the matriarch who’s tired of having to hold everything together and John Ashton as Roy\, a grump who needs to change his ways but doesn’t seem capable of doing so. \nRose delicately weaves a deeply relatable portrait of family dysfunction with all of its delightfully entertaining mess coming to the surface over the course of one eventful and unforgettable weekend. \n\nRun Time: 90 minutes \n\n\nWATCH THE TRAILER\n\n\n\n\n  \nThis screening is presented in partnership with the Arkansas Cinema Society. \n\n\n\n\n\n\n\n\n\n 
URL:https://arkmfa.org/event/filmland-arkansas-showcase-all-happy-families/
CATEGORIES:Films
ATTACH;FMTTYPE=image/jpeg:https://arkmfa.org/wp-content/uploads/2025/09/All-Happy-Families-still-1.jpg
END:VEVENT
BEGIN:VEVENT
DTSTART;TZID=America/Chicago:20250125T130000
DTEND;TZID=America/Chicago:20250125T150000
DTSTAMP:20260421T142619
CREATED:20251001T221315Z
LAST-MODIFIED:20251001T221315Z
UID:10001271-1737810000-1737817200@arkmfa.org
SUMMARY:Screenwriting Workshop with Coburn Goss
DESCRIPTION:Learn storytelling essentials from Arkansas native Coburn Goss and hear highlights from his career in film.  \n\n\n\nAbout Coburn Goss\n\n\n\nCoburn Goss is a Chicago-based actor\, writer and producer\, originally from North Little Rock\, Arkansas.  \n\n\n\nFilm credits include Widows\, Man of Steel\, Batman v. Superman\, The Lucky Ones\, Once upon a River and the upcoming Adult Children. Television credits include: Chicago Med\, Chicago Fire\, The Red Line\, Empire\, Boss and E/R. \n\n\n\nHe has performed off-Broadway and regionally with Steppenwolf Theater\, Goodman Theater\, Asolo Rep\, Seattle Rep\, and Arkansas Rep. His play Marked Tree received the American Theater Critics’ Osborn Award. He co-wrote and produced the film All Happy Families.
URL:https://arkmfa.org/event/screenwriting-workshop-with-coburn-goss/
CATEGORIES:Adults,Films
ATTACH;FMTTYPE=image/jpeg:https://arkmfa.org/wp-content/uploads/2025/09/Coburn-Goss-head-shot-cropped.jpg
END:VEVENT
END:VCALENDAR