BEGIN:VCALENDAR
VERSION:2.0
PRODID:-//Arkansas Museum of Fine Arts - ECPv6.15.20//NONSGML v1.0//EN
CALSCALE:GREGORIAN
METHOD:PUBLISH
X-WR-CALNAME:Arkansas Museum of Fine Arts
X-ORIGINAL-URL:https://arkmfa.org
X-WR-CALDESC:Events for Arkansas Museum of Fine Arts
REFRESH-INTERVAL;VALUE=DURATION:PT1H
X-Robots-Tag:noindex
X-PUBLISHED-TTL:PT1H
BEGIN:VTIMEZONE
TZID:America/Chicago
BEGIN:DAYLIGHT
TZOFFSETFROM:-0600
TZOFFSETTO:-0500
TZNAME:CDT
DTSTART:20230312T080000
END:DAYLIGHT
BEGIN:STANDARD
TZOFFSETFROM:-0500
TZOFFSETTO:-0600
TZNAME:CST
DTSTART:20231105T070000
END:STANDARD
BEGIN:DAYLIGHT
TZOFFSETFROM:-0600
TZOFFSETTO:-0500
TZNAME:CDT
DTSTART:20240310T080000
END:DAYLIGHT
BEGIN:STANDARD
TZOFFSETFROM:-0500
TZOFFSETTO:-0600
TZNAME:CST
DTSTART:20241103T070000
END:STANDARD
BEGIN:DAYLIGHT
TZOFFSETFROM:-0600
TZOFFSETTO:-0500
TZNAME:CDT
DTSTART:20250309T080000
END:DAYLIGHT
BEGIN:STANDARD
TZOFFSETFROM:-0500
TZOFFSETTO:-0600
TZNAME:CST
DTSTART:20251102T070000
END:STANDARD
END:VTIMEZONE
BEGIN:VEVENT
DTSTART;TZID=America/Chicago:20241211T183000
DTEND;TZID=America/Chicago:20241211T203000
DTSTAMP:20260421T044709
CREATED:20251001T221144Z
LAST-MODIFIED:20251028T172547Z
UID:10001074-1733941800-1733949000@arkmfa.org
SUMMARY:Movies at the Museum: The Family Stone (2005)
DESCRIPTION:Grab your popcorn and prepare to laugh: hilarity ensues in this holiday movie centering around a unique family gathering at Christmastime. \nIn The Family Stone\, Everett Stone (Dermot Mulroney) wants to bring his girlfriend\, Meredith Morton (Sarah Jessica Parker)\, home to meet his bohemian Connecticut family. Straitlaced Meredith\, feeling she needs backup\, asks her sister Julie (Claire Danes) to come along. \nHoping to win the approval of her boyfriend’s parents Sybil (Diane Keaton) and Kelly (Craig T. Nelson) and the rest of the family\, Meredith instead succeeds only in highlighting her uptight personality and making Everett doubt his intentions. \nRunning Time: 1 hour\, 43 minutesRating: PG-13 \nThis screening is presented in partnership with the Arkansas Cinema Society. \n\n\nWatch the Trailer\n\n\n\n\n\n\n\n\n\n\n 
URL:https://arkmfa.org/event/movies-at-the-museum-the-family-stone-2005-dec-11/
CATEGORIES:Films,Holiday
ATTACH;FMTTYPE=image/jpeg:https://arkmfa.org/wp-content/uploads/2025/09/family-stone-4x3-1.jpg
END:VEVENT
END:VCALENDAR