BEGIN:VCALENDAR
VERSION:2.0
PRODID:-//Arkansas Museum of Fine Arts - ECPv6.15.20//NONSGML v1.0//EN
CALSCALE:GREGORIAN
METHOD:PUBLISH
X-WR-CALNAME:Arkansas Museum of Fine Arts
X-ORIGINAL-URL:https://arkmfa.org
X-WR-CALDESC:Events for Arkansas Museum of Fine Arts
REFRESH-INTERVAL;VALUE=DURATION:PT1H
X-Robots-Tag:noindex
X-PUBLISHED-TTL:PT1H
BEGIN:VTIMEZONE
TZID:America/Chicago
BEGIN:DAYLIGHT
TZOFFSETFROM:-0600
TZOFFSETTO:-0500
TZNAME:CDT
DTSTART:20240310T080000
END:DAYLIGHT
BEGIN:STANDARD
TZOFFSETFROM:-0500
TZOFFSETTO:-0600
TZNAME:CST
DTSTART:20241103T070000
END:STANDARD
BEGIN:DAYLIGHT
TZOFFSETFROM:-0600
TZOFFSETTO:-0500
TZNAME:CDT
DTSTART:20250309T080000
END:DAYLIGHT
BEGIN:STANDARD
TZOFFSETFROM:-0500
TZOFFSETTO:-0600
TZNAME:CST
DTSTART:20251102T070000
END:STANDARD
BEGIN:DAYLIGHT
TZOFFSETFROM:-0600
TZOFFSETTO:-0500
TZNAME:CDT
DTSTART:20260308T080000
END:DAYLIGHT
BEGIN:STANDARD
TZOFFSETFROM:-0500
TZOFFSETTO:-0600
TZNAME:CST
DTSTART:20261101T070000
END:STANDARD
BEGIN:DAYLIGHT
TZOFFSETFROM:-0600
TZOFFSETTO:-0500
TZNAME:CDT
DTSTART:20270314T080000
END:DAYLIGHT
BEGIN:STANDARD
TZOFFSETFROM:-0500
TZOFFSETTO:-0600
TZNAME:CST
DTSTART:20271107T070000
END:STANDARD
END:VTIMEZONE
BEGIN:VEVENT
DTSTART;TZID=America/Chicago:20250813T000000
DTEND;TZID=America/Chicago:20250817T235900
DTSTAMP:20260420T002137
CREATED:20251001T221424Z
LAST-MODIFIED:20251028T175802Z
UID:10000200-1755043200-1755475140@arkmfa.org
SUMMARY:Filmland 2025
DESCRIPTION:Filmland is an annual celebration of cinema\, bringing movie magic to the heart of Arkansas. \nPresented by the Arkansas Cinema Society and the Arkansas Museum of Fine Arts\, this star-studded event draws celebrities\, visionary Arkansas filmmakers\, and film lovers across the South for an unforgettable experience. \nHere are the film screenings announced so far: \n\nAmericana / August 13\, 6:30 p.m.\nMississippi River Styx / August 14\, 3:30 p.m.\nThe Threesome / August 14\, 6:30 p.m.\nAbigail Before Beatrice / August 17\, 12:00 p.m.\nand more to be announced!\n\nVisit the Arkansas Cinema Society website to learn more and reserve your tickets. \n 
URL:https://arkmfa.org/event/filmland-2025-aug-13/
CATEGORIES:Adults,Films,Special Events
ATTACH;FMTTYPE=image/jpeg:https://arkmfa.org/wp-content/uploads/2025/09/Filmland_2025_4x3-edit.jpg
END:VEVENT
BEGIN:VEVENT
DTSTART;TZID=America/Chicago:20250830T133000
DTEND;TZID=America/Chicago:20250830T160000
DTSTAMP:20260420T002137
CREATED:20251001T221509Z
LAST-MODIFIED:20251001T221509Z
UID:10001565-1756560600-1756569600@arkmfa.org
SUMMARY:48 Hour Film Project: Movie Premiere and Award Ceremony
DESCRIPTION:On July 27\, 2025\, nineteen Little Rock filmmaking teams submitted their results of a weekend packed with adrenaline\, caffeine\, and creativity. From dream to screen\, each team created a film in only 48 hours. Now it’s time to showcase their work! \n\n\n\nSupport the local film community by getting your tickets for an exciting “Roaring Reels” themed evening filled with amazing films and red carpet moments. Celebrate the creativity and talent of local filmmakers with a screening of their short films and a thrilling ceremony where the top films will be crowned.
URL:https://arkmfa.org/event/48-hour-film-project-movie-premiere-and-award-ceremony/
CATEGORIES:Adults,Films
ATTACH;FMTTYPE=image/jpeg:https://arkmfa.org/wp-content/uploads/2025/09/48-Film-Project-Logo.jpg
END:VEVENT
BEGIN:VEVENT
DTSTART;TZID=America/Chicago:20251030T183000
DTEND;TZID=America/Chicago:20251030T203000
DTSTAMP:20260420T002137
CREATED:20251022T215936Z
LAST-MODIFIED:20251022T215936Z
UID:10004060-1761849000-1761856200@arkmfa.org
SUMMARY:Sneak Series: Violet Ends
DESCRIPTION:Shot in Northwest Arkansas in the fall of 2023\, the gripping Southern thriller Violent Ends sees Arkansas native writer/director John-Michael Powell dig into tension with haunting precision\, exploring what happens when family\, morality\, and violence collide in the hills of his home state. \nThe Arkansas Cinema Society and Arkansas Museum of Fine Arts are proud to present Violet Ends in a special sneak preview screening before its theatrical release on October 31\, 2025. Powell and producer Undine Buka will be on-hand for an audience Q&A following the screening. \nAbout the Film\nSet in the Ozark Mountains\, Lucas Frost (Billy Magnussen) is an honest man brought up in a crime family whose only legacy is violence. As Lucas tries to make a peaceful life of his own with his ﬁancée\, Emma (Alexandra Shipp)\, he is suddenly pulled back into the family business when his cousin\, Eli\, perpetrates an armed robbery with brutal consequences. \nRun Time: 1 hour\, 52 minutes\nRating: R \n\nThis screening is presented in partnership with the Arkansas Cinema Society. \nFilm still courtesy of IFC.
URL:https://arkmfa.org/event/sneak-series-violet-ends/
CATEGORIES:Films
ATTACH;FMTTYPE=image/jpeg:https://arkmfa.org/wp-content/uploads/2025/10/VIOLENT-ENDS-Still-1-scaled.jpg
END:VEVENT
BEGIN:VEVENT
DTSTART;TZID=America/Chicago:20251114T183000
DTEND;TZID=America/Chicago:20251114T203000
DTSTAMP:20260420T002137
CREATED:20251110T180306Z
LAST-MODIFIED:20251118T191911Z
UID:10004064-1763145000-1763152200@arkmfa.org
SUMMARY:Sneak Series: Eternity
DESCRIPTION:The Arkansas Cinema Society and Arkansas Museum of Fine Arts are proud to present A24’s Eternity starring Elizabeth Olsen\, Miles Teller and Callum Turner at a special sneak preview screening before its theatrical release on November 26\, 2025. \nAbout the Film\nIn an afterlife where souls have one week to decide where to spend eternity\, Joan (Elizabeth Olsen) is faced with the impossible choice between the man she spent her life with (Miles Teller) and her first love (Callum Turner)\, who died young and has waited decades for her to arrive. \nRun Time: 1 hour\, 54 minutes\nRating: PG-13 \n\nThis screening is presented in partnership with the Arkansas Cinema Society. \nPhoto courtesy of Leah Gallo.
URL:https://arkmfa.org/event/sneak-series-eternity/
CATEGORIES:Films
ATTACH;FMTTYPE=image/jpeg:https://arkmfa.org/wp-content/uploads/2025/11/A24-Eternity-Film-Still-4x3-1.jpg
END:VEVENT
BEGIN:VEVENT
DTSTART;TZID=America/Chicago:20251217T183000
DTEND;TZID=America/Chicago:20251217T204500
DTSTAMP:20260420T002137
CREATED:20251211T203858Z
LAST-MODIFIED:20251211T203858Z
UID:10004089-1765996200-1766004300@arkmfa.org
SUMMARY:Movies at the Museum: The Holiday
DESCRIPTION:We could all use an escape now and then. That’s certainly true for Amanda (Cameron Diaz) and Iris (Kate Winslet)\, two strangers who connect online and temporarily swap houses as a means of escaping from the stresses of their lives. \nJoin them on a trip to discover a little holiday magic with this special screening of Nancy Meyers’ utterly charming romantic comedy\, The Holiday. \nGrab a snack\, find your seats\, then settle in for a cozy\, classic movie night courtesy of AMFA’s Partner-Company-in-Residence\, the Arkansas Cinema Society! \nRunning Time: 2 hours\, 12 minutes\nRating: PG-13
URL:https://arkmfa.org/event/movies-at-the-museum-the-holiday/
CATEGORIES:Films,Holiday
ATTACH;FMTTYPE=image/webp:https://arkmfa.org/wp-content/uploads/2025/12/the-holiday.jpg.webp
END:VEVENT
BEGIN:VEVENT
DTSTART;TZID=America/Chicago:20251218T183000
DTEND;TZID=America/Chicago:20251218T204500
DTSTAMP:20260420T002137
CREATED:20251211T211139Z
LAST-MODIFIED:20251211T214638Z
UID:10004090-1766082600-1766090700@arkmfa.org
SUMMARY:Sneak Series: Song Sung Blue
DESCRIPTION:The Arkansas Cinema Society and Arkansas Museum of Fine Arts are proud to present Song Sung Blue starring Hugh Jackman and Kate Hudson at a special sneak preview screening before its theatrical release on December 25\, 2025. \nAbout the Film\nBased on a true story\, two down-on-their-luck musicians form a joyous Neil Diamond tribute band\, proving it’s never too late to find love and follow your dreams. \nMemphis filmmaker Craig Brewer has long explored music through his films\, going back to 2005’s hit Hustle & Flow. His latest film is sure to please anyone who has ever belted out their own rendition of Sweet Caroline on karaoke night. Song Sung Blue is the story of Lightning and Thunder\, a Milwaukee husband-and-wife Neil Diamond tribute act\, who experience soaring success and devastating heartbreak in their musical journey together. \nRun Time: 2 hours\, 13 minutes\nRating: PG-13 \n\nThis screening is presented in partnership with the Arkansas Cinema Society. \nPhoto by Sarah Shatz/Focus Features © 2/Sarah Shatz/Focus Features © 2 – © 2025 Focus Features\, LLC. All Rights Reserved.
URL:https://arkmfa.org/event/sneak-series-song-sung-blue/
CATEGORIES:Films
ATTACH;FMTTYPE=image/jpeg:https://arkmfa.org/wp-content/uploads/2025/12/Song-Sung-Blue-still.jpg
END:VEVENT
BEGIN:VEVENT
DTSTART;TZID=America/Chicago:20260204T183000
DTEND;TZID=America/Chicago:20260204T203000
DTSTAMP:20260420T002137
CREATED:20260115T190708Z
LAST-MODIFIED:20260115T190708Z
UID:10004240-1770229800-1770237000@arkmfa.org
SUMMARY:Sneak Series: Pillion
DESCRIPTION:The Arkansas Cinema Society and Arkansas Museum of Fine Arts are proud to present A24’s Pillion starring Harry Melling and Alexander Skarsgård at a special sneak preview screening before its theatrical release on February 6\, 2026. \nCritics are already raving: Pillion currently holds a 100% approval rating on Rotten Tomatoes\, calling it an “unconventional romance that soars thanks to its nonjudgmental perspective and knockout performances.” \nAbout the Film\nWallflower Colin (Harry Melling) leads a humdrum existence until he meets the impossibly handsome Ray (Alexander Skarsgård)\, a mysterious biker he is soon desperately devoted to. As Colin submits to Ray and enters an exciting new world of desire\, he must decide the limits of his devotion. \nHilarious\, subversive and sexy\, Pillion is the acclaimed and surprisingly tender love story from writer-director Harry Lighton\, starring Melling and Skarsgård in fearless performances as a mild young man and his leather-clad lover. \nRun Time: 1 hour\, 47 minutes\nRating: R \n\nThis screening is presented in partnership with the Arkansas Cinema Society. \nFilm still courtesy of A24.
URL:https://arkmfa.org/event/sneak-series-pillion/
CATEGORIES:Films
ATTACH;FMTTYPE=image/jpeg:https://arkmfa.org/wp-content/uploads/2026/01/Pillion-film-still.jpg
END:VEVENT
BEGIN:VEVENT
DTSTART;TZID=America/Chicago:20260325T183000
DTEND;TZID=America/Chicago:20260325T200000
DTSTAMP:20260420T002137
CREATED:20260313T154614Z
LAST-MODIFIED:20260313T154614Z
UID:10004301-1774463400-1774468800@arkmfa.org
SUMMARY:Sneak Series: Marc by Sofia
DESCRIPTION:The Arkansas Cinema Society and Arkansas Museum of Fine Arts are proud to present A24’s Marc by Sofia at a special sneak preview screening before its theatrical release on March 27\, 2026. \nThis first documentary feature from Sofia Coppola (Lost in Translation\, Priscilla) is an intimate and unconventional portrait of American designer Marc Jacobs. \nAbout the Film\nShot while Jacobs designed his Spring 2024 ready-to-wear collection\, this film brings viewers both into the inner world of an acclaimed designer and into the longtime friendship between Coppola and Jacobs\, artists who both came into their own in the 1990s. \nRun Time: 1 hour\, 27 minutes\nRating: PG-13 \n\nThis screening is presented in partnership with the Arkansas Cinema Society. \nFilm still courtesy of A24.
URL:https://arkmfa.org/event/sneak-series-marc-by-sofia/
CATEGORIES:Films
ATTACH;FMTTYPE=image/jpeg:https://arkmfa.org/wp-content/uploads/2026/03/MARC-BY-SOFIA-still.jpg
END:VEVENT
BEGIN:VEVENT
DTSTART;TZID=America/Chicago:20260408T183000
DTEND;TZID=America/Chicago:20260408T200000
DTSTAMP:20260420T002137
CREATED:20260313T161323Z
LAST-MODIFIED:20260313T161323Z
UID:10004302-1775673000-1775678400@arkmfa.org
SUMMARY:Sneak Screening: Time and Water
DESCRIPTION:Straight from its Sundance premiere and SXSW screening\, Time and Water is a universal reflection on the power of home and what it means to be alive amid profound epochal change. Catch a sneak peek at this new documentary from Academy Award®-nominated director Sara Dosa (Fire of Love) before it hits theaters. \nAbout the Film\nFacing the death of his country’s glaciers and the loss of his beloved grandparents\, Icelandic writer Andri Snær Magnason turns his archives into a time capsule to hold what is slipping away—family\, memory\, time and water. \nRun Time: 1 hour\, 33 minutes \n\nThis screening is presented in partnership with the Arkansas Cinema Society and the Hot Springs Documentary Film Festival. \nFilm still courtesy of National Geographic.
URL:https://arkmfa.org/event/time-and-water/
CATEGORIES:Films
ATTACH;FMTTYPE=image/jpeg:https://arkmfa.org/wp-content/uploads/2026/03/TimeAndWater_UHD_07-still.jpg
END:VEVENT
BEGIN:VEVENT
DTSTART;VALUE=DATE:20260812
DTEND;VALUE=DATE:20260817
DTSTAMP:20260420T002137
CREATED:20260129T203141Z
LAST-MODIFIED:20260129T203221Z
UID:10004241-1786492800-1786924799@arkmfa.org
SUMMARY:Filmland 2026
DESCRIPTION:The Arkansas Cinema Society and the Arkansas Museum of Fine Arts are pleased to announce the return of Filmland. Much like previous years\, Filmland will showcase captivating independent films and riveting filmmaker conversations that you cannot see anywhere else. \nPast Filmland showings include Sing Sing\, The Bikeriders\, Nomadland\, Free Solo\, The Eyes of Tammy Faye and more\, appearing fresh off of their premieres at festivals like Sundance\, Telluride\, Toronto and Venice. \nOver the last few years\, Filmland has been honored to host directors Richard Linklater\, David Lowery\, Jay Duplass and Michael Shannon; producers Evan Hayes\, Kim Reynolds & Brian Kavanaugh-Jones; and actors Colman Domingo\, Margot Robbie\, Jessica Chastain\, and Oscar winner and ACS board member Mary Steenburgen. \nVisit the Arkansas Cinema Society website for the latest information.
URL:https://arkmfa.org/event/filmland-2026/
CATEGORIES:Adults,Films,Special Events
ATTACH;FMTTYPE=image/jpeg:https://arkmfa.org/wp-content/uploads/2026/01/Filmland-2026-Save-the-Date.jpg
END:VEVENT
END:VCALENDAR