BEGIN:VCALENDAR
VERSION:2.0
PRODID:-//Arkansas Museum of Fine Arts - ECPv6.15.20//NONSGML v1.0//EN
CALSCALE:GREGORIAN
METHOD:PUBLISH
X-WR-CALNAME:Arkansas Museum of Fine Arts
X-ORIGINAL-URL:https://arkmfa.org
X-WR-CALDESC:Events for Arkansas Museum of Fine Arts
REFRESH-INTERVAL;VALUE=DURATION:PT1H
X-Robots-Tag:noindex
X-PUBLISHED-TTL:PT1H
BEGIN:VTIMEZONE
TZID:America/Chicago
BEGIN:DAYLIGHT
TZOFFSETFROM:-0600
TZOFFSETTO:-0500
TZNAME:CDT
DTSTART:20240310T080000
END:DAYLIGHT
BEGIN:STANDARD
TZOFFSETFROM:-0500
TZOFFSETTO:-0600
TZNAME:CST
DTSTART:20241103T070000
END:STANDARD
BEGIN:DAYLIGHT
TZOFFSETFROM:-0600
TZOFFSETTO:-0500
TZNAME:CDT
DTSTART:20250309T080000
END:DAYLIGHT
BEGIN:STANDARD
TZOFFSETFROM:-0500
TZOFFSETTO:-0600
TZNAME:CST
DTSTART:20251102T070000
END:STANDARD
BEGIN:DAYLIGHT
TZOFFSETFROM:-0600
TZOFFSETTO:-0500
TZNAME:CDT
DTSTART:20260308T080000
END:DAYLIGHT
BEGIN:STANDARD
TZOFFSETFROM:-0500
TZOFFSETTO:-0600
TZNAME:CST
DTSTART:20261101T070000
END:STANDARD
END:VTIMEZONE
BEGIN:VEVENT
DTSTART;TZID=America/Chicago:20250221T180000
DTEND;TZID=America/Chicago:20250221T203000
DTSTAMP:20260424T230600
CREATED:20251001T221315Z
LAST-MODIFIED:20251031T162724Z
UID:10001276-1740160800-1740169800@arkmfa.org
SUMMARY:For Your Consideration: A Lien and Conclave
DESCRIPTION:The nominees are in! The Arkansas Cinema Society’s For Your Consideration Series returns to the Arkansas Museum of Fine Arts to ensure you are ready for Hollywood’s biggest night\, bringing you screenings of the most talked-about Oscar-nominated films of the year. \nThis event features A Lien and Conclave. \nAbout A Lien\nOn the day of their green card interview\, a young couple confronts a dangerous immigration process. \nRunning Time: 15 minutesNomination: Best Live Action Short Film \n\nAbout Conclave\n\n\n\nWhen Cardinal Lawrence is tasked with leading one of the world’s most secretive and ancient events\, selecting a new Pope\, he finds himself at the center of a conspiracy that could shake the very foundation of the Catholic Church. \n\n\n\nRunning Time: 2 hoursRating: PGNominations: Best Motion Picture\, Best Achievement in Directing\, Best Performance by an Actor in a Leading Role\, Best Performance by an Actress in a Supporting Role\, Best Adapted Screenplay\, Best Achievement in Film Editing\, Best Achievement in Production Design\, Best Achievement in Costume Design\, Best Original Score \n\n\n\n\nWatch the Trailer\n\n\n\n\n\n\n\n\n\n\n 
URL:https://arkmfa.org/event/for-your-consideration-a-lien-and-conclave/
CATEGORIES:Adults,Films
ATTACH;FMTTYPE=image/png:https://arkmfa.org/wp-content/uploads/2025/10/A-Lien-and-Conclave.png
END:VEVENT
END:VCALENDAR