BEGIN:VCALENDAR
VERSION:2.0
PRODID:-//Arkansas Museum of Fine Arts - ECPv6.15.20//NONSGML v1.0//EN
CALSCALE:GREGORIAN
METHOD:PUBLISH
X-ORIGINAL-URL:https://arkmfa.org
X-WR-CALDESC:Events for Arkansas Museum of Fine Arts
REFRESH-INTERVAL;VALUE=DURATION:PT1H
X-Robots-Tag:noindex
X-PUBLISHED-TTL:PT1H
BEGIN:VTIMEZONE
TZID:America/Chicago
BEGIN:DAYLIGHT
TZOFFSETFROM:-0600
TZOFFSETTO:-0500
TZNAME:CDT
DTSTART:20250309T080000
END:DAYLIGHT
BEGIN:STANDARD
TZOFFSETFROM:-0500
TZOFFSETTO:-0600
TZNAME:CST
DTSTART:20251102T070000
END:STANDARD
BEGIN:DAYLIGHT
TZOFFSETFROM:-0600
TZOFFSETTO:-0500
TZNAME:CDT
DTSTART:20260308T080000
END:DAYLIGHT
BEGIN:STANDARD
TZOFFSETFROM:-0500
TZOFFSETTO:-0600
TZNAME:CST
DTSTART:20261101T070000
END:STANDARD
BEGIN:DAYLIGHT
TZOFFSETFROM:-0600
TZOFFSETTO:-0500
TZNAME:CDT
DTSTART:20270314T080000
END:DAYLIGHT
BEGIN:STANDARD
TZOFFSETFROM:-0500
TZOFFSETTO:-0600
TZNAME:CST
DTSTART:20271107T070000
END:STANDARD
END:VTIMEZONE
BEGIN:VEVENT
DTSTART;TZID=America/Chicago:20260122T193000
DTEND;TZID=America/Chicago:20260122T210000
DTSTAMP:20260423T113244
CREATED:20251001T221337Z
LAST-MODIFIED:20260102T174840Z
UID:10001316-1769110200-1769115600@arkmfa.org
SUMMARY:Concert Series: Bette Smith
DESCRIPTION:Critically acclaimed and blessed with a voice described as “raspy\,” “sassy\,” “raunchy” and “sweet ’n soulful\,” Bette grippingly fuses the soul\, rock & roll\, funk\, blues\, and gospel music she heard in her Brooklyn youth into something all her own. \nThe young Bette Smith would have no idea that her music would take her around the world\, from shows in America headlining and supporting the likes of Kenny Wayne Shepherd and the Drive-By Truckers to spotlights in the pages of The New York Times\, Billboard\, Paste\, Bust\, and beyond; from the airwaves of NPR World Café and the top 40 of the Americana Music Radio Chart to official Spotify playlist adds and a song streamed well over a million times. \nShe traveled to the UK to make her new album Goodthing with GRAMMY Award-winning producer Jimmy Hogarth (Amy Winehouse\, James Blunt\, James Bay\, Anonhi & The Johnsons\, Sia\, Corinne Bailey Rae\, Tina Turner). Hogarth attests\, “Bette is the real deal. Her delivery is the truth and comes straight from the heart. She is able to communicate with ease with her wonderful gift of a voice and I was delighted to work on this record.” \n\nThe 2025-2026 Concert Series is supported in part by John H. Dean DDS and Mary Ann Coleman\, Mimi San Pedro\, Olivia Farrell\, and Susan Conley. \nPhoto by Shervin Lainez.
URL:https://arkmfa.org/event/concert-series-bette-smith/
CATEGORIES:Adults,Concerts
ATTACH;FMTTYPE=image/jpeg:https://arkmfa.org/wp-content/uploads/2025/09/Bette-Smith-photo-by-Shervin-Lainez-4x3-1.jpg
END:VEVENT
END:VCALENDAR