BEGIN:VCALENDAR
VERSION:2.0
PRODID:-//Arkansas Museum of Fine Arts - ECPv6.15.20//NONSGML v1.0//EN
CALSCALE:GREGORIAN
METHOD:PUBLISH
X-ORIGINAL-URL:https://arkmfa.org
X-WR-CALDESC:Events for Arkansas Museum of Fine Arts
REFRESH-INTERVAL;VALUE=DURATION:PT1H
X-Robots-Tag:noindex
X-PUBLISHED-TTL:PT1H
BEGIN:VTIMEZONE
TZID:America/Chicago
BEGIN:DAYLIGHT
TZOFFSETFROM:-0600
TZOFFSETTO:-0500
TZNAME:CDT
DTSTART:20240310T080000
END:DAYLIGHT
BEGIN:STANDARD
TZOFFSETFROM:-0500
TZOFFSETTO:-0600
TZNAME:CST
DTSTART:20241103T070000
END:STANDARD
BEGIN:DAYLIGHT
TZOFFSETFROM:-0600
TZOFFSETTO:-0500
TZNAME:CDT
DTSTART:20250309T080000
END:DAYLIGHT
BEGIN:STANDARD
TZOFFSETFROM:-0500
TZOFFSETTO:-0600
TZNAME:CST
DTSTART:20251102T070000
END:STANDARD
BEGIN:DAYLIGHT
TZOFFSETFROM:-0600
TZOFFSETTO:-0500
TZNAME:CDT
DTSTART:20260308T080000
END:DAYLIGHT
BEGIN:STANDARD
TZOFFSETFROM:-0500
TZOFFSETTO:-0600
TZNAME:CST
DTSTART:20261101T070000
END:STANDARD
END:VTIMEZONE
BEGIN:VEVENT
DTSTART;TZID=America/Chicago:20250501T193000
DTEND;TZID=America/Chicago:20250501T210000
DTSTAMP:20260425T174417
CREATED:20251001T221022Z
LAST-MODIFIED:20251001T221022Z
UID:10000897-1746127800-1746133200@arkmfa.org
SUMMARY:Concert Series: Bab L'Bluz
DESCRIPTION:Bab L’ Bluz\, meaning “The Door of the Blues\,” is a Franco-Moroccan group formed in 2018 in Marrakech when Moroccan singer/guitarist Yousra Mansour met French guitarist/producer Brice Bottin. Driven by their passion for Gnawa music\, they learned the guembri together\, creating a fusion of French and Moroccan influences that birthed a repertoire of 10 tracks. \nWith their electric guembris\, Bab L’ Bluz combines Gnawa trance rhythms\, Hassani songs from southern Morocco\, and Chaâbi polyrhythms\, infusing their music with elements of psychedelic rock and incense-filled atmospheres. Led by a female doukkalia\, the group aligns with the “Nayda” movement of Moroccan youth\, promoting local heritage and singing freedom-inspired texts in Moroccan-Arabic dialect\, darija. \nSince their inception\, the quartet has been active globally\, captivating audiences with their hypnotic riffs and mystical\, liberating performances. Bab L’ Bluz’s poetic and powerful music transcends boundaries\, expanding into a sonic territory of its own. \nIn 2020\, they gained acclaim with their album Nayda!\, earning top rankings and reviews from Mojo\, Songlines\, The New York Times\, Vogue Arabia\, BBC\, and others. The following year\, they won their first Songlines Music Award and embarked on a world tour that continues to captivate audiences. \nTheir new album Swaken was released on May 10\, 2024. \n\n\nPhoto by Samadoss Maitoul. \n\n\n\n\nINSTAGRAM\n\n\n\nFACEBOOK\n\n\n\nSPOTIFY\n\n\n\n\n\nThe 2024-2025 Concert Series is supported in part by Saracen Casino Resort.  \n\n\n\n\n\n\n\n\n\n\n\nBab L’Bluz is supported in part by 107 Liquor.
URL:https://arkmfa.org/event/concert-series-bab-lbluz/
CATEGORIES:Adults,Concerts
ATTACH;FMTTYPE=image/jpeg:https://arkmfa.org/wp-content/uploads/2025/09/Bab-L-Bluz-Photo-Credit-Samadoss-Maitoul-4x3-1.jpg
END:VEVENT
END:VCALENDAR