BEGIN:VCALENDAR
VERSION:2.0
PRODID:-//Arkansas Museum of Fine Arts - ECPv6.15.20//NONSGML v1.0//EN
CALSCALE:GREGORIAN
METHOD:PUBLISH
X-WR-CALNAME:Arkansas Museum of Fine Arts
X-ORIGINAL-URL:https://arkmfa.org
X-WR-CALDESC:Events for Arkansas Museum of Fine Arts
REFRESH-INTERVAL;VALUE=DURATION:PT1H
X-Robots-Tag:noindex
X-PUBLISHED-TTL:PT1H
BEGIN:VTIMEZONE
TZID:America/Chicago
BEGIN:DAYLIGHT
TZOFFSETFROM:-0600
TZOFFSETTO:-0500
TZNAME:CDT
DTSTART:20240310T080000
END:DAYLIGHT
BEGIN:STANDARD
TZOFFSETFROM:-0500
TZOFFSETTO:-0600
TZNAME:CST
DTSTART:20241103T070000
END:STANDARD
BEGIN:DAYLIGHT
TZOFFSETFROM:-0600
TZOFFSETTO:-0500
TZNAME:CDT
DTSTART:20250309T080000
END:DAYLIGHT
BEGIN:STANDARD
TZOFFSETFROM:-0500
TZOFFSETTO:-0600
TZNAME:CST
DTSTART:20251102T070000
END:STANDARD
BEGIN:DAYLIGHT
TZOFFSETFROM:-0600
TZOFFSETTO:-0500
TZNAME:CDT
DTSTART:20260308T080000
END:DAYLIGHT
BEGIN:STANDARD
TZOFFSETFROM:-0500
TZOFFSETTO:-0600
TZNAME:CST
DTSTART:20261101T070000
END:STANDARD
END:VTIMEZONE
BEGIN:VEVENT
DTSTART;TZID=America/Chicago:20250130T193000
DTEND;TZID=America/Chicago:20250130T210000
DTSTAMP:20260420T003946
CREATED:20251001T221022Z
LAST-MODIFIED:20251001T221022Z
UID:10000894-1738265400-1738270800@arkmfa.org
SUMMARY:Concert Series: René Marie
DESCRIPTION:René Marie\, known for her dynamic voice and versatile talent\, has left an indelible mark on the world of music over two decades. Her work\, encompassing 11 albums and numerous performances\, transcends genres\, blending jazz with elements of folk\, R&B\, classical\, and country. \nRooted in the traditions of jazz icons like Ella Fitzgerald and Dinah Washington\, Marie’s compositions explore the depths of human experience\, offering a powerful affirmation of the human spirit. \nBorn in 1955 in Warrenton\, Virginia\, Marie’s journey in music began with informal exposure to various genres during her childhood. Despite minimal formal training\, her passion for music persisted\, leading her to sing in R&B bands as a teenager. However\, she put her musical ambitions aside to fulfill familial obligations until her late thirties\, when she returned to singing. \nFacing personal challenges\, including leaving an abusive marriage\, Marie embraced music as a source of strength and healing. Since then\, she has produced numerous albums\, performed on stage\, and launched initiatives like SLAM\, offering vocal therapy sessions. \nMarie’s latest album\, Sound of Red\, showcases her insightful songwriting and sensual vocal delivery\, providing a deep emotional resonance for listeners. Through her music\, she continues to inspire and uplift audiences\, embodying the healing power of music. \n\n\nPhoto courtesy of the artist. \n\n\n\n\nWEBSITE\n\n\n\nSPOTIFY\n\n\n\n\n\nThe 2024-2025 Concert Series is supported by Saracen Casino Resort.
URL:https://arkmfa.org/event/concert-series-rene-marie/
CATEGORIES:Adults,Concerts
ATTACH;FMTTYPE=image/jpeg:https://arkmfa.org/wp-content/uploads/2025/09/Rene-Marie-4x3-1.jpg
END:VEVENT
END:VCALENDAR