BEGIN:VCALENDAR
VERSION:2.0
PRODID:-//Arkansas Museum of Fine Arts - ECPv6.15.20//NONSGML v1.0//EN
CALSCALE:GREGORIAN
METHOD:PUBLISH
X-ORIGINAL-URL:https://arkmfa.org
X-WR-CALDESC:Events for Arkansas Museum of Fine Arts
REFRESH-INTERVAL;VALUE=DURATION:PT1H
X-Robots-Tag:noindex
X-PUBLISHED-TTL:PT1H
BEGIN:VTIMEZONE
TZID:America/Chicago
BEGIN:DAYLIGHT
TZOFFSETFROM:-0600
TZOFFSETTO:-0500
TZNAME:CDT
DTSTART:20240310T080000
END:DAYLIGHT
BEGIN:STANDARD
TZOFFSETFROM:-0500
TZOFFSETTO:-0600
TZNAME:CST
DTSTART:20241103T070000
END:STANDARD
BEGIN:DAYLIGHT
TZOFFSETFROM:-0600
TZOFFSETTO:-0500
TZNAME:CDT
DTSTART:20250309T080000
END:DAYLIGHT
BEGIN:STANDARD
TZOFFSETFROM:-0500
TZOFFSETTO:-0600
TZNAME:CST
DTSTART:20251102T070000
END:STANDARD
BEGIN:DAYLIGHT
TZOFFSETFROM:-0600
TZOFFSETTO:-0500
TZNAME:CDT
DTSTART:20260308T080000
END:DAYLIGHT
BEGIN:STANDARD
TZOFFSETFROM:-0500
TZOFFSETTO:-0600
TZNAME:CST
DTSTART:20261101T070000
END:STANDARD
END:VTIMEZONE
BEGIN:VEVENT
DTSTART;TZID=America/Chicago:20250709T180000
DTEND;TZID=America/Chicago:20250709T193000
DTSTAMP:20260424T035208
CREATED:20251001T221424Z
LAST-MODIFIED:20251001T221424Z
UID:10001436-1752084000-1752089400@arkmfa.org
SUMMARY:Everyday Magic: Puppetry and Breaking Boundaries with Josh Rice
DESCRIPTION:Discover the transformative power of puppetry with Jim Henson Foundation Award winner and SHAKE Producing Artistic Director Josh Rice. Along with his talented team\, he will reveal how puppetry illuminates text\, ignites creativity\, and forges new pathways for self-expression beyond societal and linguistic boundaries. \nThis interactive discussion features industry experts\, culminating in a hands-on exploration of how everyday objects can be used as tools for puppetry\, storytelling\, and cross-cultural communication\, perfect for audiences aged 12 and up. \nAMFA Members are invited to enjoy a complimentary drink before the program begins during Member Mingle in the Cultural Living Room. \nAbout Josh Rice\nRice is the co-founder and Producing Artistic Director of Shake Productions\, as well as the founder of the New York State Puppet Festival. He is also a recipient of a 2024 Jim Henson Foundation Production Grant. \nHis current production Kayfabe\, a puppet wrestling entertainment spectacular\, explores the crossroads of traditional forms of puppetry and popular culture. \n\nEveryday Magic: Puppetry and Breaking Boundaries with Josh Rice is supported in part by the Alice L. Walton Foundation. \nChildren’s Theatre and Performing Arts programs are supported in part by the Shubert Foundation and the Alice L. Walton Foundation.
URL:https://arkmfa.org/event/everyday-magic-puppetry-and-breaking-boundaries-with-josh-rice/
CATEGORIES:Adults,Children's Theatre,Special Events,Talks & Lectures,Youth & Families
ATTACH;FMTTYPE=image/jpeg:https://arkmfa.org/wp-content/uploads/2025/09/Josh-Rice-headshot-4x3-1.jpg
END:VEVENT
BEGIN:VEVENT
DTSTART;TZID=America/Chicago:20250710T193000
DTEND;TZID=America/Chicago:20250710T210000
DTSTAMP:20260424T035208
CREATED:20251001T221424Z
LAST-MODIFIED:20251001T221424Z
UID:10001438-1752175800-1752181200@arkmfa.org
SUMMARY:"The Tempest" by William Shakespeare
DESCRIPTION:In this classic tale of a shipwreck set on a remote island filled with monsters\, fairies\, court jesters\, drunken butlers\, and young lovers\, the exiled Duke of Milan\, Prospero\, conjures a mighty storm to shipwreck his enemies. \nWill he seek revenge\, or will forgiveness prove the greater power? This fast-paced\, spectacle-driven adaptation by SHAKE sets out to prove that “we are such stuff as dreams are made on.” \nBlending music\, live foley\, improvisation\, puppetry\, and audience interaction\, this production delivers a Shakespearean experience like no other that will captivate audiences aged 12 and up. \n“The island is full of noises and sweet airs\, that delight\, and hurt not.” \nChildren’s Theatre and Performing Arts programs are supported in part by the Shubert Foundation and the Alice L. Walton Foundation.
URL:https://arkmfa.org/event/the-tempest-by-william-shakespeare/
CATEGORIES:Adults,Children's Theatre,Youth & Families
ATTACH;FMTTYPE=image/jpeg:https://arkmfa.org/wp-content/uploads/2025/09/The-Tempest-4x3-1.jpg
END:VEVENT
BEGIN:VEVENT
DTSTART;TZID=America/Chicago:20250711T193000
DTEND;TZID=America/Chicago:20250711T210000
DTSTAMP:20260424T035208
CREATED:20251001T221424Z
LAST-MODIFIED:20251103T173931Z
UID:10001439-1752262200-1752267600@arkmfa.org
SUMMARY:"The Tempest" by William Shakespeare
DESCRIPTION:In this classic tale of a shipwreck set on a remote island filled with monsters\, fairies\, court jesters\, drunken butlers\, and young lovers\, the exiled Duke of Milan\, Prospero\, conjures a mighty storm to shipwreck his enemies. \nWill he seek revenge\, or will forgiveness prove the greater power? This fast-paced\, spectacle-driven adaptation by SHAKE sets out to prove that “we are such stuff as dreams are made on.” \nBlending music\, live foley\, improvisation\, puppetry\, and audience interaction\, this production delivers a Shakespearean experience like no other that will captivate audiences aged 12 and up. \n“The island is full of noises and sweet airs\, that delight\, and hurt not.” \nChildren’s Theatre and Performing Arts programs are supported in part by the Shubert Foundation and the Alice L. Walton Foundation. \n 
URL:https://arkmfa.org/event/the-tempest-by-william-shakespeare-jul-11/
CATEGORIES:Adults,Children's Theatre,Youth & Families
ATTACH;FMTTYPE=image/jpeg:https://arkmfa.org/wp-content/uploads/2025/09/The-Tempest-4x3-1.jpg
END:VEVENT
BEGIN:VEVENT
DTSTART;TZID=America/Chicago:20250712T103000
DTEND;TZID=America/Chicago:20250712T123000
DTSTAMP:20260424T035208
CREATED:20251001T221424Z
LAST-MODIFIED:20251001T221424Z
UID:10001440-1752316200-1752323400@arkmfa.org
SUMMARY:Puppetry Masterclass with Josh Rice
DESCRIPTION:Unleash your creativity in this fun\, hands-on exploration of puppetry with Josh Rice\, a creative force in the world of contemporary puppet theatre! Aspiring puppeteers aged 16 and up will enjoy an inside look at Rice’s processes and take inspiration from his work to create something new. \nAbout Josh Rice\nRice is the co-founder and Producing Artistic Director of SHAKE\, as well as the founder of the New York State Puppet Festival. He is also a recipient of a 2024 Jim Henson Foundation Production Grant. \nHis current production Kayfabe\, a puppet wrestling entertainment spectacular\, explores the crossroads of traditional forms of puppetry and popular culture. \n\nChildren’s Theatre and Performing Arts programs are supported in part by the Shubert Foundation and the Alice L. Walton Foundation. \nPhoto by Kat Kuo.
URL:https://arkmfa.org/event/puppetry-masterclass-with-josh-rice/
CATEGORIES:Adults,Children's Theatre,Special Events,Youth & Families
ATTACH;FMTTYPE=image/jpeg:https://arkmfa.org/wp-content/uploads/2025/09/Josh-Rice-puppetry-photo-by-Kat-Kuo-4x3-1.jpg
END:VEVENT
BEGIN:VEVENT
DTSTART;TZID=America/Chicago:20250712T140000
DTEND;TZID=America/Chicago:20250712T153000
DTSTAMP:20260424T035208
CREATED:20251001T221424Z
LAST-MODIFIED:20251103T173834Z
UID:10001441-1752328800-1752334200@arkmfa.org
SUMMARY:"The Tempest" by William Shakespeare
DESCRIPTION:In this classic tale of a shipwreck set on a remote island filled with monsters\, fairies\, court jesters\, drunken butlers\, and young lovers\, the exiled Duke of Milan\, Prospero\, conjures a mighty storm to shipwreck his enemies. \nWill he seek revenge\, or will forgiveness prove the greater power? This fast-paced\, spectacle-driven adaptation by SHAKE sets out to prove that “we are such stuff as dreams are made on.” \nBlending music\, live foley\, improvisation\, puppetry\, and audience interaction\, this production delivers a Shakespearean experience like no other that will captivate audiences aged 12 and up. \n“The island is full of noises and sweet airs\, that delight\, and hurt not.” \nChildren’s Theatre and Performing Arts programs are supported in part by the Shubert Foundation and the Alice L. Walton Foundation. \n 
URL:https://arkmfa.org/event/the-tempest-by-william-shakespeare-jul-12/
CATEGORIES:Adults,Children's Theatre,Youth & Families
ATTACH;FMTTYPE=image/jpeg:https://arkmfa.org/wp-content/uploads/2025/09/The-Tempest-4x3-1.jpg
END:VEVENT
BEGIN:VEVENT
DTSTART;TZID=America/Chicago:20250713T140000
DTEND;TZID=America/Chicago:20250713T153000
DTSTAMP:20260424T035208
CREATED:20251001T221424Z
LAST-MODIFIED:20251103T173815Z
UID:10001442-1752415200-1752420600@arkmfa.org
SUMMARY:"The Tempest" by William Shakespeare
DESCRIPTION:In this classic tale of a shipwreck set on a remote island filled with monsters\, fairies\, court jesters\, drunken butlers\, and young lovers\, the exiled Duke of Milan\, Prospero\, conjures a mighty storm to shipwreck his enemies. \nWill he seek revenge\, or will forgiveness prove the greater power? This fast-paced\, spectacle-driven adaptation by SHAKE sets out to prove that “we are such stuff as dreams are made on.” \nBlending music\, live foley\, improvisation\, puppetry\, and audience interaction\, this production delivers a Shakespearean experience like no other that will captivate audiences aged 12 and up. \n“The island is full of noises and sweet airs\, that delight\, and hurt not.” \nChildren’s Theatre and Performing Arts programs are supported in part by the Shubert Foundation and the Alice L. Walton Foundation. \n\n\n\n\n\n\n\n \n\n\n\n\n\n\n\n\n\n 
URL:https://arkmfa.org/event/the-tempest-by-william-shakespeare-jul-13/
CATEGORIES:Adults,Children's Theatre,Youth & Families
ATTACH;FMTTYPE=image/jpeg:https://arkmfa.org/wp-content/uploads/2025/09/The-Tempest-4x3-1.jpg
END:VEVENT
END:VCALENDAR