BEGIN:VCALENDAR
VERSION:2.0
PRODID:-//Arkansas Museum of Fine Arts - ECPv6.15.20//NONSGML v1.0//EN
CALSCALE:GREGORIAN
METHOD:PUBLISH
X-ORIGINAL-URL:https://arkmfa.org
X-WR-CALDESC:Events for Arkansas Museum of Fine Arts
REFRESH-INTERVAL;VALUE=DURATION:PT1H
X-Robots-Tag:noindex
X-PUBLISHED-TTL:PT1H
BEGIN:VTIMEZONE
TZID:America/Chicago
BEGIN:DAYLIGHT
TZOFFSETFROM:-0600
TZOFFSETTO:-0500
TZNAME:CDT
DTSTART:20250309T080000
END:DAYLIGHT
BEGIN:STANDARD
TZOFFSETFROM:-0500
TZOFFSETTO:-0600
TZNAME:CST
DTSTART:20251102T070000
END:STANDARD
BEGIN:DAYLIGHT
TZOFFSETFROM:-0600
TZOFFSETTO:-0500
TZNAME:CDT
DTSTART:20260308T080000
END:DAYLIGHT
BEGIN:STANDARD
TZOFFSETFROM:-0500
TZOFFSETTO:-0600
TZNAME:CST
DTSTART:20261101T070000
END:STANDARD
BEGIN:DAYLIGHT
TZOFFSETFROM:-0600
TZOFFSETTO:-0500
TZNAME:CDT
DTSTART:20270314T080000
END:DAYLIGHT
BEGIN:STANDARD
TZOFFSETFROM:-0500
TZOFFSETTO:-0600
TZNAME:CST
DTSTART:20271107T070000
END:STANDARD
END:VTIMEZONE
BEGIN:VEVENT
DTSTART;TZID=America/Chicago:20260204T180000
DTEND;TZID=America/Chicago:20260204T210000
DTSTAMP:20260424T173115
CREATED:20251213T174549Z
LAST-MODIFIED:20251213T174549Z
UID:10004113-1770228000-1770238800@arkmfa.org
SUMMARY:Drop-in Figure Drawing
DESCRIPTION:Immerse yourself in a three-hour drawing session set in an untutored environment at the Windgate Art School. This dynamic experience will feature a variety of timed poses with draped and undraped models\, providing an excellent opportunity for first-time students and experienced artists alike to hone their skills. \nStudents must be 18+ to attend\, as the session may use the undraped model. An instructor will moderate the session and be available for critiques and questions upon request. \nStudents are encouraged to bring their own materials or purchase materials from the AMFA Museum Store. Recommended materials are graphite drawing pencils\, charcoals\, and a kneaded eraser. Basic drawing materials will also be available. \n\nThe Windgate Art School is generously supported by the Windgate Foundation with additional support from Sherry Worthen in memory of George Worthen. \nThe Windgate Art School’s Reduced Tuition Program is supported by Michael Laughter. Reduced tuition is automatically applied to all classes through 2026. \nPhoto: Iwan Baan.
URL:https://arkmfa.org/event/drop-in-figure-drawing-feb-4/
CATEGORIES:Adults,Art School
ATTACH;FMTTYPE=image/jpeg:https://arkmfa.org/wp-content/uploads/2025/12/Drop-In-Figure-Drawing-new-website-1.jpg
END:VEVENT
BEGIN:VEVENT
DTSTART;TZID=America/Chicago:20260204T180000
DTEND;TZID=America/Chicago:20260204T210000
DTSTAMP:20260424T173115
CREATED:20251213T181613Z
LAST-MODIFIED:20251213T181613Z
UID:10004112-1770228000-1770238800@arkmfa.org
SUMMARY:Drop-in Printmaking
DESCRIPTION:Experiment with printmaking during this three-hour drop-in experience at AMFA’s Windgate Art School. Open to beginner and experienced artists alike\, it’s a great way to learn a new art form or work independently on your own projects. \nAn instructor will moderate the session and be available for critiques and questions upon request. Students are encouraged to bring their own materials or purchase materials from the AMFA Museum Store. \nRecommended materials are a carving block\, five-piece cutters and stamp carving tool\, and high-quality paper. Basic printmaking materials will also be available. \n\nThe Windgate Art School is generously supported by the Windgate Foundation with additional support from Sherry Worthen in memory of George Worthen. \nThe Windgate Art School’s Reduced Tuition Program is supported by Michael Laughter. Reduced tuition is automatically applied to all classes through 2026. \nPhoto: Rachel Cobler.
URL:https://arkmfa.org/event/drop-in-printmaking-feb-4/
CATEGORIES:Adults,Art School
ATTACH;FMTTYPE=image/jpeg:https://arkmfa.org/wp-content/uploads/2025/12/drop-in-printmaking-new-website.jpg
END:VEVENT
BEGIN:VEVENT
DTSTART;TZID=America/Chicago:20260206T180000
DTEND;TZID=America/Chicago:20260206T210000
DTSTAMP:20260424T173115
CREATED:20251213T171751Z
LAST-MODIFIED:20260112T153858Z
UID:10004114-1770400800-1770411600@arkmfa.org
SUMMARY:Art for Two: Stacked Rings (SOLD OUT)
DESCRIPTION:Create a set of stacking rings by customizing to your size and shape\, learning to solder brass wire and complete your golden-toned set. \nArt For Two is the perfect one-night class experience for two where you each take home a finished piece. Class materials\, a charcuterie board\, and refreshments are included\, no skills required – just come ready to create\, unwind\, and add some artistic spark to your evening. \n\nThe Windgate Art School is generously supported by the Windgate Foundation with additional support from Sherry Worthen in memory of George Worthen. \nThe Windgate Art School’s Reduced Tuition Program is supported by Michael Laughter. Reduced tuition is automatically applied to all classes through 2026. \nArtwork by Erin House.
URL:https://arkmfa.org/event/art-for-two-stacked-rings/
CATEGORIES:Adults,Art School
ATTACH;FMTTYPE=image/jpeg:https://arkmfa.org/wp-content/uploads/2025/12/Stacking-Rings-new-website.jpg
END:VEVENT
BEGIN:VEVENT
DTSTART;TZID=America/Chicago:20260206T180000
DTEND;TZID=America/Chicago:20260206T210000
DTSTAMP:20260424T173115
CREATED:20251213T172017Z
LAST-MODIFIED:20251218T164022Z
UID:10004115-1770400800-1770411600@arkmfa.org
SUMMARY:Art for Two: Glass Hummingbirds (SOLD OUT)
DESCRIPTION:Create a vibrant and colorful glass hummingbird using the technique of flame-working glass over a torch flame. \nUnder the expert guidance of a skilled glass artist\, you will learn the process of sculpting a delicate hummingbird\, from shaping the beak and body to crafting the wings. You will work with a variety of colorful glass rods\, using the torch to melt and manipulate the material to form the bird’s features. \nArt For Two is the perfect one-night class experience for two where you each take home a finished piece. Class materials\, a charcuterie board\, and refreshments are included\, no skills required – just come ready to create\, unwind\, and add some artistic spark to your evening. \n\nThe Windgate Art School is generously supported by the Windgate Foundation with additional support from Sherry Worthen in memory of George Worthen. \nThe Windgate Art School’s Reduced Tuition Program is supported by Michael Laughter. Reduced tuition is automatically applied to all classes through 2026. \nImage courtesy of Jason Masters.
URL:https://arkmfa.org/event/art-for-two-glass-hummingbirds-2/
CATEGORIES:Adults,Art School
ATTACH;FMTTYPE=image/jpeg:https://arkmfa.org/wp-content/uploads/2025/12/Glass-Art-For-Two-new-website.jpg
END:VEVENT
BEGIN:VEVENT
DTSTART;TZID=America/Chicago:20260207T090000
DTEND;TZID=America/Chicago:20260207T160000
DTSTAMP:20260424T173115
CREATED:20251213T191020Z
LAST-MODIFIED:20251213T191020Z
UID:10004117-1770454800-1770480000@arkmfa.org
SUMMARY:Bead Setting Workshop
DESCRIPTION:Learn the precision and artistry of bead setting in this focused jewelry-making workshop. An expert jewelry instructor will guide you through the process of securely setting small stones using traditional bead setting techniques. \nInstruction will cover tool selection\, surface preparation\, layout\, drilling\, burr work\, and using gravers. With hands-on practice and expert guidance\, you will develop skills needed to create refined and professional settings\, adding sparkle and dimension to your metalwork. \nPlease bring your lunch for a 12:00–1:00 p.m. break. \n\nThe Windgate Art School is generously supported by the Windgate Foundation with additional support from Sherry Worthen in memory of George Worthen. \nThe Windgate Art School’s Reduced Tuition Program is supported by Michael Laughter. Reduced tuition is automatically applied to all classes through 2026. \nArtwork by Lucas Pointon.
URL:https://arkmfa.org/event/bead-setting-workshop-feb-7/
CATEGORIES:Adults,Art School
ATTACH;FMTTYPE=image/jpeg:https://arkmfa.org/wp-content/uploads/2025/12/Bead-Setting-Detail-Lucas-Pointon-new-website.jpg
END:VEVENT
BEGIN:VEVENT
DTSTART;TZID=America/Chicago:20260207T100000
DTEND;TZID=America/Chicago:20260207T160000
DTSTAMP:20260424T173115
CREATED:20251213T191404Z
LAST-MODIFIED:20251213T191404Z
UID:10004116-1770458400-1770480000@arkmfa.org
SUMMARY:Printmaking and Etching Workshop
DESCRIPTION:Create unique artworks on paper using the art of printmaking and etching. Learn and practice techniques for drawing on a copper plate\, etching the plate\, and printing with a press. \nThis workshop is designed for both beginners and experienced students\, offering an introduction to printmaking as well as the opportunity for advanced printmakers to expand their skills. Whether you are starting or refining your practice\, this workshop provides a creative space for all levels to explore and learn. \nPlease bring your lunch for a 12:00–1:00 p.m. break. \n\nThe Windgate Art School is generously supported by the Windgate Foundation with additional support from Sherry Worthen in memory of George Worthen. \nThe Windgate Art School’s Reduced Tuition Program is supported by Michael Laughter. Reduced tuition is automatically applied to all classes through 2026. \nArtwork by David Warren.
URL:https://arkmfa.org/event/printmaking-and-etching-workshop/
CATEGORIES:Adults,Art School
ATTACH;FMTTYPE=image/jpeg:https://arkmfa.org/wp-content/uploads/2025/12/Beginner-Etching-Workshop-David-Warren-new-website.jpg
END:VEVENT
BEGIN:VEVENT
DTSTART;TZID=America/Chicago:20260208T130000
DTEND;TZID=America/Chicago:20260208T160000
DTSTAMP:20260424T173115
CREATED:20251213T175924Z
LAST-MODIFIED:20251213T175924Z
UID:10004118-1770555600-1770566400@arkmfa.org
SUMMARY:Drop-in Expressive Painting with Music
DESCRIPTION:Create expressive paintings inspired by the energy and emotion of music! \nWorking with Little Rock artist\, Hamid Ebrahimifar\, practice improvisational painting that mirrors the spontaneity and flow of sound. Hamid will guide you through techniques that allow music to shape your artistic expression. A live musician will provide an immersive soundtrack that enhances the creative atmosphere. \nParticipants are encouraged to bring tempera paint\, brushes\, and a painting surface (mixed media paper\, canvas\, or board). In addition to your own materials\, you will have access to tempera paint and a handmade calligraphy brush to use during the session. \n\nThe Windgate Art School is generously supported by the Windgate Foundation with additional support from Sherry Worthen in memory of George Worthen. \nThe Windgate Art School’s Reduced Tuition Program is supported by Michael Laughter. Reduced tuition is automatically applied to all classes through 2026. \nArtwork by Hamid Ebrahimifar.
URL:https://arkmfa.org/event/drop-in-expressive-painting-with-music-feb-8/
CATEGORIES:Adults,Art School
ATTACH;FMTTYPE=image/jpeg:https://arkmfa.org/wp-content/uploads/2025/12/Expressive-Painting-with-Hamid-Ebrahimifar-new-website.jpg
END:VEVENT
END:VCALENDAR