BEGIN:VCALENDAR
VERSION:2.0
PRODID:-//Arkansas Museum of Fine Arts - ECPv6.15.20//NONSGML v1.0//EN
CALSCALE:GREGORIAN
METHOD:PUBLISH
X-WR-CALNAME:Arkansas Museum of Fine Arts
X-ORIGINAL-URL:https://arkmfa.org
X-WR-CALDESC:Events for Arkansas Museum of Fine Arts
REFRESH-INTERVAL;VALUE=DURATION:PT1H
X-Robots-Tag:noindex
X-PUBLISHED-TTL:PT1H
BEGIN:VTIMEZONE
TZID:America/Chicago
BEGIN:DAYLIGHT
TZOFFSETFROM:-0600
TZOFFSETTO:-0500
TZNAME:CDT
DTSTART:20250309T080000
END:DAYLIGHT
BEGIN:STANDARD
TZOFFSETFROM:-0500
TZOFFSETTO:-0600
TZNAME:CST
DTSTART:20251102T070000
END:STANDARD
BEGIN:DAYLIGHT
TZOFFSETFROM:-0600
TZOFFSETTO:-0500
TZNAME:CDT
DTSTART:20260308T080000
END:DAYLIGHT
BEGIN:STANDARD
TZOFFSETFROM:-0500
TZOFFSETTO:-0600
TZNAME:CST
DTSTART:20261101T070000
END:STANDARD
BEGIN:DAYLIGHT
TZOFFSETFROM:-0600
TZOFFSETTO:-0500
TZNAME:CDT
DTSTART:20270314T080000
END:DAYLIGHT
BEGIN:STANDARD
TZOFFSETFROM:-0500
TZOFFSETTO:-0600
TZNAME:CST
DTSTART:20271107T070000
END:STANDARD
END:VTIMEZONE
BEGIN:VEVENT
DTSTART;TZID=America/Chicago:20260509T090000
DTEND;TZID=America/Chicago:20260509T160000
DTSTAMP:20260424T000235
CREATED:20260305T164835Z
LAST-MODIFIED:20260306T181906Z
UID:10004264-1778317200-1778342400@arkmfa.org
SUMMARY:Folded Steel Workshop
DESCRIPTION:Translate monumental sculpture into wearable art! Inspired by work on view in AMFA’s exhibition\, A Month of Sundays: Art and the Persistence of Time\, this workshop teaches how to create geometric\, architectural jewelry using steel. \nUnder expert guidance\, you will learn the precision technique of scoring steel blanks to create crisp\, sharp folds\, which are reinforced with soldering. Learn soldering techniques and steel-finishing methods to create a modern\, sculptural pendant. \n\nThe Windgate Art School is generously supported by the Windgate Foundation with additional support from Sherry Worthen in memory of George Worthen. \nThe Windgate Art School’s Reduced Tuition Program is supported by Michael Laughter. Reduced tuition is automatically applied to all classes through 2026. \nThe Mid-South Cohort\, a multi-year\, multi-institutional exhibition partnership formed by the Memphis Brooks Museum of Art\, in collaboration with the Arkansas Museum of Fine Arts\, the Birmingham Museum of Art\, Fisk University Art Gallery\, and the Mississippi Museum of Art\, is made possible by the Art Bridges Cohort Program. This exhibition was organized by the Arkansas Museum of Fine Arts. \n \nNecklace by Myriam Saavedra.
URL:https://arkmfa.org/event/folded-steel-workshop/
CATEGORIES:Adults,Art School
ATTACH;FMTTYPE=image/jpeg:https://arkmfa.org/wp-content/uploads/2026/03/Folded-Steel-Pendant-Myriam-Saavedra-calendar.jpg
END:VEVENT
BEGIN:VEVENT
DTSTART;TZID=America/Chicago:20260509T140000
DTEND;TZID=America/Chicago:20260509T170000
DTSTAMP:20260424T000235
CREATED:20260303T213408Z
LAST-MODIFIED:20260303T213408Z
UID:10004277-1778335200-1778346000@arkmfa.org
SUMMARY:Making Together: Spring Cyanotypes
DESCRIPTION:Inspired by the colors and energy of the season\, this workshop invites families to create sun-printed cyanotypes using spring florals and natural materials. \nParticipants will explore light\, shadow\, and composition as they arrange botanical forms and then embellish their prints with decorative surface details. Along the way\, kids and adults will discover how the power of sunlight can transform simple shapes into vivid\, expressive artworks. \nMaking Together offers families an opportunity to come together and create. Register now to enjoy a day full of artmaking fun with your child! \n\nThe Windgate Art School is generously supported by the Windgate Foundation with additional support from Sherry Worthen in memory of George Worthen. \nThe Windgate Art School’s Reduced Tuition Program is supported by Michael Laughter. Reduced tuition is automatically applied to all classes through 2026. \nImage courtesy of Jason Masters.
URL:https://arkmfa.org/event/making-together-spring-cyanotypes/
CATEGORIES:Art School,Youth & Families
ATTACH;FMTTYPE=image/jpeg:https://arkmfa.org/wp-content/uploads/2025/09/cyanotype-plants-4x3-1.jpg
END:VEVENT
END:VCALENDAR