BEGIN:VCALENDAR
VERSION:2.0
PRODID:-//Arkansas Museum of Fine Arts - ECPv6.15.20//NONSGML v1.0//EN
CALSCALE:GREGORIAN
METHOD:PUBLISH
X-WR-CALNAME:Arkansas Museum of Fine Arts
X-ORIGINAL-URL:https://arkmfa.org
X-WR-CALDESC:Events for Arkansas Museum of Fine Arts
REFRESH-INTERVAL;VALUE=DURATION:PT1H
X-Robots-Tag:noindex
X-PUBLISHED-TTL:PT1H
BEGIN:VTIMEZONE
TZID:America/Chicago
BEGIN:DAYLIGHT
TZOFFSETFROM:-0600
TZOFFSETTO:-0500
TZNAME:CDT
DTSTART:20240310T080000
END:DAYLIGHT
BEGIN:STANDARD
TZOFFSETFROM:-0500
TZOFFSETTO:-0600
TZNAME:CST
DTSTART:20241103T070000
END:STANDARD
BEGIN:DAYLIGHT
TZOFFSETFROM:-0600
TZOFFSETTO:-0500
TZNAME:CDT
DTSTART:20250309T080000
END:DAYLIGHT
BEGIN:STANDARD
TZOFFSETFROM:-0500
TZOFFSETTO:-0600
TZNAME:CST
DTSTART:20251102T070000
END:STANDARD
BEGIN:DAYLIGHT
TZOFFSETFROM:-0600
TZOFFSETTO:-0500
TZNAME:CDT
DTSTART:20260308T080000
END:DAYLIGHT
BEGIN:STANDARD
TZOFFSETFROM:-0500
TZOFFSETTO:-0600
TZNAME:CST
DTSTART:20261101T070000
END:STANDARD
END:VTIMEZONE
BEGIN:VEVENT
DTSTART;TZID=America/Chicago:20251101T100000
DTEND;TZID=America/Chicago:20251101T140000
DTSTAMP:20260420T215709
CREATED:20251001T221431Z
LAST-MODIFIED:20251110T165716Z
UID:10001468-1761991200-1762005600@arkmfa.org
SUMMARY:Nevelson-Inspired Sculpture Workshop (SOLD OUT)
DESCRIPTION:Create a unique\, free-standing clay sculpture inspired by the work of Louise Nevelson on view in AMFA’s Architects of Being exhibition. Students will visit the AMFA galleries to explore artworks\, gathering ideas for incorporating shapes and form into a sculptural design. \nUsing a special black clay for this project\, ceramic artist India Childress will lead you through manipulating the clay with slabs to achieve an exciting and complete artwork. This workshop offers a unique opportunity to draw inspiration from a rich collection while learning about and developing your ceramic techniques. \n\nArchitects of Being: Louise Nevelson and Esphyr Slobodkina is supported in part by the Arkansas Museum of Fine Arts Foundation\, National Endowment for the Arts\, Alan DuBois Fund for Contemporary Craft\, Ellsworth Kelly Foundation\, Anita Davis\, and The Jewish Federation of Arkansas. \nThe catalogue for Architects of Being: Louise Nevelson and Esphyr Slobodkina is supported in part by the Wyeth Foundation for American Art. \n\n\n\n\n\n\n\n  \nThis exhibition is organized by the Arkansas Museum of Fine Arts. \nThe Windgate Art School is generously supported by the Windgate Foundation with additional support from Sherry Worthen in memory of George Worthen. \nWindgate Art School’s Reduced Tuition Program is supported by Michael Laughter. Reduced tuition is automatically applied to all classes through 2025. \nARTWORK: Louise Nevelson (Kyiv\, Ukraine (formerly Russian Empire)\, 1899 – 1988\, New York\, New York)\, Tide Garden IV\, 1964\, painted and assembled wood construction\, 91 x 140 x 10 in.\, Arkansas Museum of Fine Arts Foundation Collection: Gift of Sidney Singer\, Sr.\, Stephens Inc.\, Gerald Cramer\, Martin Oppenheimer\, Edward Rosenthal\, and John Rosenthal. 1983.030. \n\n\n\n\n\n\n\n\n\n 
URL:https://arkmfa.org/event/nevelson-inspired-sculpture-workshop/
CATEGORIES:Adults,Art School
ATTACH;FMTTYPE=image/jpeg:https://arkmfa.org/wp-content/uploads/2025/09/1983.030-Nevelson-small.jpg
END:VEVENT
END:VCALENDAR