BEGIN:VCALENDAR
VERSION:2.0
PRODID:-//Arkansas Museum of Fine Arts - ECPv6.15.20//NONSGML v1.0//EN
CALSCALE:GREGORIAN
METHOD:PUBLISH
X-WR-CALNAME:Arkansas Museum of Fine Arts
X-ORIGINAL-URL:https://arkmfa.org
X-WR-CALDESC:Events for Arkansas Museum of Fine Arts
REFRESH-INTERVAL;VALUE=DURATION:PT1H
X-Robots-Tag:noindex
X-PUBLISHED-TTL:PT1H
BEGIN:VTIMEZONE
TZID:America/Chicago
BEGIN:DAYLIGHT
TZOFFSETFROM:-0600
TZOFFSETTO:-0500
TZNAME:CDT
DTSTART:20240310T080000
END:DAYLIGHT
BEGIN:STANDARD
TZOFFSETFROM:-0500
TZOFFSETTO:-0600
TZNAME:CST
DTSTART:20241103T070000
END:STANDARD
BEGIN:DAYLIGHT
TZOFFSETFROM:-0600
TZOFFSETTO:-0500
TZNAME:CDT
DTSTART:20250309T080000
END:DAYLIGHT
BEGIN:STANDARD
TZOFFSETFROM:-0500
TZOFFSETTO:-0600
TZNAME:CST
DTSTART:20251102T070000
END:STANDARD
BEGIN:DAYLIGHT
TZOFFSETFROM:-0600
TZOFFSETTO:-0500
TZNAME:CDT
DTSTART:20260308T080000
END:DAYLIGHT
BEGIN:STANDARD
TZOFFSETFROM:-0500
TZOFFSETTO:-0600
TZNAME:CST
DTSTART:20261101T070000
END:STANDARD
END:VTIMEZONE
BEGIN:VEVENT
DTSTART;TZID=America/Chicago:20251025T100000
DTEND;TZID=America/Chicago:20251025T130000
DTSTAMP:20260420T215800
CREATED:20251001T221431Z
LAST-MODIFIED:20251027T174804Z
UID:10001472-1761386400-1761397200@arkmfa.org
SUMMARY:Experimental Drawing Workshop
DESCRIPTION:Explore drawing in new and imaginative ways with renowned artist Clark Valentine. Learn to build a strong foundation in drawing fundamentals\, such as line\, shape\, value\, and composition\, while experimenting with a wide range of materials and techniques. \nThrough mixed media approaches including ink\, charcoal\, collage\, and unconventional tools\, push the boundaries of traditional drawing. This workshop is perfect to develop your skills\, spark creativity\, and dive deep into expressive and meditative mark-making. \n\nThe Windgate Art School is generously supported by the Windgate Foundation with additional support from Sherry Worthen in memory of George Worthen. \nWindgate Art School’s Reduced Tuition Program is supported by Michael Laughter. Reduced tuition is automatically applied to all classes through 2025. \nArtwork by Clark Valentine. \n 
URL:https://arkmfa.org/event/experimental-drawing-workshop/
CATEGORIES:Adults,Art School
ATTACH;FMTTYPE=image/jpeg:https://arkmfa.org/wp-content/uploads/2025/09/Beginner-Intermediate-Drawing-Workshop-Clark-Valentine-4x3-1.jpg
END:VEVENT
BEGIN:VEVENT
DTSTART;TZID=America/Chicago:20251025T140000
DTEND;TZID=America/Chicago:20251025T170000
DTSTAMP:20260420T215800
CREATED:20251001T221509Z
LAST-MODIFIED:20251027T173806Z
UID:10001566-1761400800-1761411600@arkmfa.org
SUMMARY:Seasonal Floral Design Masterclass with Shane Connolly (SOLD OUT)
DESCRIPTION:Join royal floral designer Shane Connolly as he demonstrates his sustainable approach to floral design\, offering inspiration and guidance to help you create your own seasonal arrangements with confidence. \n\n\n\nThis programming is provided in partnership with P. Allen Smith’s Moss Mountain Farm and the Little Rock Garden Club. \n\n\n\nAbout Shane Connolly\n\n\n\n\n\n\n\nConnolly is a renowned floral designer and ambassador for sustainable floristry. His clients range from public institutions like the Victoria & Albert Museum\, the Royal Academy of Arts\, and the National Portrait Gallery in London\, to a veritable “who’s who” in British society. \n\n\n\nHe is perhaps best known for his public work for The Royal Family. His most recent commission was The Coronation of Their Majesties The King and Queen at Westminster Abbey in 2023. He also designed the flowers for their marriage at Windsor Castle in 2005 and for the wedding of The Prince and Princess of Wales in 2011. \n\n\n\nHe has been awarded the Royal Warrants of Appointment to both His Majesty The King and Her Majesty The Queen in 2024 and a Member of the Order of the British Empire (MBE) for services to sustainable floristry in 2025. He has written five books and teaches his approach to flower design all over the world\, with its roots and ethos firmly in sustainability. \n\n\n\n\n\n 
URL:https://arkmfa.org/event/seasonal-floral-design-masterclass-with-shane-connolly/
CATEGORIES:Adults,Art School,Special Events
ATTACH;FMTTYPE=image/jpeg:https://arkmfa.org/wp-content/uploads/2025/10/Shane-Connolly-demo-4x3-1.jpg
END:VEVENT
END:VCALENDAR