BEGIN:VCALENDAR
VERSION:2.0
PRODID:-//Arkansas Museum of Fine Arts - ECPv6.15.20//NONSGML v1.0//EN
CALSCALE:GREGORIAN
METHOD:PUBLISH
X-ORIGINAL-URL:https://arkmfa.org
X-WR-CALDESC:Events for Arkansas Museum of Fine Arts
REFRESH-INTERVAL;VALUE=DURATION:PT1H
X-Robots-Tag:noindex
X-PUBLISHED-TTL:PT1H
BEGIN:VTIMEZONE
TZID:America/Chicago
BEGIN:DAYLIGHT
TZOFFSETFROM:-0600
TZOFFSETTO:-0500
TZNAME:CDT
DTSTART:20240310T080000
END:DAYLIGHT
BEGIN:STANDARD
TZOFFSETFROM:-0500
TZOFFSETTO:-0600
TZNAME:CST
DTSTART:20241103T070000
END:STANDARD
BEGIN:DAYLIGHT
TZOFFSETFROM:-0600
TZOFFSETTO:-0500
TZNAME:CDT
DTSTART:20250309T080000
END:DAYLIGHT
BEGIN:STANDARD
TZOFFSETFROM:-0500
TZOFFSETTO:-0600
TZNAME:CST
DTSTART:20251102T070000
END:STANDARD
BEGIN:DAYLIGHT
TZOFFSETFROM:-0600
TZOFFSETTO:-0500
TZNAME:CDT
DTSTART:20260308T080000
END:DAYLIGHT
BEGIN:STANDARD
TZOFFSETFROM:-0500
TZOFFSETTO:-0600
TZNAME:CST
DTSTART:20261101T070000
END:STANDARD
END:VTIMEZONE
BEGIN:VEVENT
DTSTART;TZID=America/Chicago:20250928T130000
DTEND;TZID=America/Chicago:20250928T160000
DTSTAMP:20260421T145418
CREATED:20251001T221438Z
LAST-MODIFIED:20251028T160132Z
UID:10001489-1759064400-1759075200@arkmfa.org
SUMMARY:Making Together: Collage and Paint
DESCRIPTION:Inspired by Lori Larusso: Paradox of Plenty on view in the Robyn and John Horn Gallery\, this Making Together invites you to connect your personal narratives in layers through collaging. \nCollaborate to create your story through mixed media\, painting\, drawing\, and found imagery\, and learn how to build a meaningful composition together. \nMaking Together offers families an opportunity to come together and create. Register now to enjoy a day full of artmaking fun with your child! \n\nLori Larusso: A Paradox of Plenty is supported in part by The Brown Foundation\, Inc. of Houston. \nThis exhibition is organized by the Arkansas Museum of Fine Arts. \nThe Windgate Art School is generously supported by the Windgate Foundation with additional support from Sherry Worthen in memory of George Worthen. \nWindgate Art School’s Reduced Tuition Program is supported by Michael Laughter. Reduced tuition is automatically applied to all classes through 2025. \nImage courtesy of Jason Masters. \n 
URL:https://arkmfa.org/event/making-together-collage-and-paint/
CATEGORIES:Art School,Youth & Families
ATTACH;FMTTYPE=image/jpeg:https://arkmfa.org/wp-content/uploads/2025/09/father-daughter-making-together-collage-4x3-1.jpg
END:VEVENT
END:VCALENDAR