BEGIN:VCALENDAR
VERSION:2.0
PRODID:-//Arkansas Museum of Fine Arts - ECPv6.15.20//NONSGML v1.0//EN
CALSCALE:GREGORIAN
METHOD:PUBLISH
X-ORIGINAL-URL:https://arkmfa.org
X-WR-CALDESC:Events for Arkansas Museum of Fine Arts
REFRESH-INTERVAL;VALUE=DURATION:PT1H
X-Robots-Tag:noindex
X-PUBLISHED-TTL:PT1H
BEGIN:VTIMEZONE
TZID:America/Chicago
BEGIN:DAYLIGHT
TZOFFSETFROM:-0600
TZOFFSETTO:-0500
TZNAME:CDT
DTSTART:20240310T080000
END:DAYLIGHT
BEGIN:STANDARD
TZOFFSETFROM:-0500
TZOFFSETTO:-0600
TZNAME:CST
DTSTART:20241103T070000
END:STANDARD
BEGIN:DAYLIGHT
TZOFFSETFROM:-0600
TZOFFSETTO:-0500
TZNAME:CDT
DTSTART:20250309T080000
END:DAYLIGHT
BEGIN:STANDARD
TZOFFSETFROM:-0500
TZOFFSETTO:-0600
TZNAME:CST
DTSTART:20251102T070000
END:STANDARD
BEGIN:DAYLIGHT
TZOFFSETFROM:-0600
TZOFFSETTO:-0500
TZNAME:CDT
DTSTART:20260308T080000
END:DAYLIGHT
BEGIN:STANDARD
TZOFFSETFROM:-0500
TZOFFSETTO:-0600
TZNAME:CST
DTSTART:20261101T070000
END:STANDARD
END:VTIMEZONE
BEGIN:VEVENT
DTSTART;TZID=America/Chicago:20250729T180000
DTEND;TZID=America/Chicago:20250729T200000
DTSTAMP:20260419T194827
CREATED:20251001T221424Z
LAST-MODIFIED:20251028T123458Z
UID:10001446-1753812000-1753819200@arkmfa.org
SUMMARY:Wine Dinner featuring Pasqua Winery (SOLD OUT)
DESCRIPTION:Secure your seat at an exclusive evening of exceptional wines and delicious food in partnership with Pasqua Winery of Verona\, Italy. \nSavor a menu of Italian-inspired dishes prepared by Park Grill Executive Chef Noralee Bowles\, expertly paired with the wine label’s prestigious Veneto wines. \nIn celebration of their 100th anniversary\, a representative from Verona Winery will be on hand to share details on the winemaking processes they cultivated to create the perfect “sips of art.” \nMENU\nItalian Charcuterie\nItalian cheeses\, grapes\, berries\, olives\, citrus\, roasted eggplant\, peppers\, artichoke\, pesto\, olive oil\, balsamic syrup\, baguettes\, flatbread\, assorted crackers \nRosé and Sangiovese \nAntipasto: Summer Caprese\nProsciutto\, heirloom tomato\, melon\, mozzarella\, opal basil\, 25-year balsamic \nPinot Grigio \nPrimo: Porcini Lobster Tortelloni\nSalsify cream\, Arkansas oyster mushrooms\, black truffle\, Grana Padano \nPassimento \nSecondo: Costolette Brasate (Braised Short Rib)\nPolenta\, gremolata\, romanesco broccoli\, squash\, radicchio \nCantine Lui Cabernet Sauvignon \nDolce: Semifreddo\nStrawberry\, pistachio\, and chocolate frozen custard \nValpolicella Ripasso \n 
URL:https://arkmfa.org/event/wine-dinner-featuring-pasqua-winery/
CATEGORIES:Adults,Special Events
ATTACH;FMTTYPE=image/jpeg:https://arkmfa.org/wp-content/uploads/2025/09/pasqua-wines-4x3-1.jpg
END:VEVENT
BEGIN:VEVENT
DTSTART;TZID=America/Chicago:20250730T170000
DTEND;TZID=America/Chicago:20250730T200000
DTSTAMP:20260419T194827
CREATED:20251001T221408Z
LAST-MODIFIED:20251028T180119Z
UID:10001406-1753894800-1753905600@arkmfa.org
SUMMARY:Wednesday Spins
DESCRIPTION:Elevate your midweek mood at Wednesday Spins! Experience a night of art\, music\, drinks\, and socializing over beautiful views of the Museum. \nKick back with craft cocktails\, enjoy music mixed by DJ Afrosia\, pop into the galleries to explore the art on view\, and strike a pose in the photo booth with your friends. \nAMFA is the place to be every Wednesday night all summer long! \nPhoto by Roger Ho. \n 
URL:https://arkmfa.org/event/wednesday-spins-jul-30/
CATEGORIES:Adults
ATTACH;FMTTYPE=image/jpeg:https://arkmfa.org/wp-content/uploads/2025/09/DJ-Afrosia-4x3-1.jpg
END:VEVENT
BEGIN:VEVENT
DTSTART;TZID=America/Chicago:20250730T180000
DTEND;TZID=America/Chicago:20250730T210000
DTSTAMP:20260419T194828
CREATED:20251001T221352Z
LAST-MODIFIED:20251103T173612Z
UID:10001359-1753898400-1753909200@arkmfa.org
SUMMARY:Drop-in Drawing
DESCRIPTION:Immerse yourself in a three-hour drawing session set in an untutored environment at the Windgate Art School. This dynamic experience will feature a variety of timed poses with draped and undraped models\, providing an excellent opportunity for first-time students and experienced artists alike to hone their skills. \nStudents must be 18+ to attend\, as the session may use the undraped model. An instructor will moderate the session and be available for critiques and questions upon request. \nStudents are encouraged to bring their own materials or purchase materials from the AMFA Museum Store. Recommended materials are graphite drawing pencils\, charcoals\, and a kneaded eraser. Basic drawing materials will also be available. \n\nThe Windgate Art School is generously supported by the Windgate Foundation with additional support from Sherry Worthen in memory of George Worthen. \nWindgate Art School’s Reduced Tuition Program is supported by Michael Laughter. Reduced tuition is automatically applied to all classes through 2025. \nPhoto: Iwan Baan. \n 
URL:https://arkmfa.org/event/drop-in-drawing-jul-30/
CATEGORIES:Adults,Art School
ATTACH;FMTTYPE=image/png:https://arkmfa.org/wp-content/uploads/2025/09/Drop-In-Figure-Drawing-4x3-1.png
END:VEVENT
BEGIN:VEVENT
DTSTART;TZID=America/Chicago:20250801T180000
DTEND;TZID=America/Chicago:20250801T210000
DTSTAMP:20260419T194828
CREATED:20251001T221352Z
LAST-MODIFIED:20251029T213504Z
UID:10001371-1754071200-1754082000@arkmfa.org
SUMMARY:Art for Two: Simple Rings (SOLD OUT)
DESCRIPTION:Transform scrap metal like into a new fitted ring in this hands-on\, art recycling focused workshop. Learn shape\, solder\, and add texture to your ring using hammers and stamps. \nArt For Two is the perfect one-night class experience for two where you each take home a finished piece. Class materials\, a charcuterie board\, and refreshments are included\, no skills required – just come ready to create\, unwind\, and add some artistic spark to your evening. \n\nThe Windgate Art School is generously supported by the Windgate Foundation with additional support from Sherry Worthen in memory of George Worthen. \nWindgate Art School’s Reduced Tuition Program is supported by Michael Laughter. Reduced tuition is automatically applied to all classes through 2025. \nPendants by Myriam Saavedra. \n 
URL:https://arkmfa.org/event/art-for-two-simple-rings/
CATEGORIES:Adults,Art School
ATTACH;FMTTYPE=image/jpeg:https://arkmfa.org/wp-content/uploads/2025/09/Art-for-Two-Simple-Ring-Credit-Myriam-Saavedra-4x3-1.jpg
END:VEVENT
END:VCALENDAR