BEGIN:VCALENDAR
VERSION:2.0
PRODID:-//Arkansas Museum of Fine Arts - ECPv6.15.20//NONSGML v1.0//EN
CALSCALE:GREGORIAN
METHOD:PUBLISH
X-WR-CALNAME:Arkansas Museum of Fine Arts
X-ORIGINAL-URL:https://arkmfa.org
X-WR-CALDESC:Events for Arkansas Museum of Fine Arts
REFRESH-INTERVAL;VALUE=DURATION:PT1H
X-Robots-Tag:noindex
X-PUBLISHED-TTL:PT1H
BEGIN:VTIMEZONE
TZID:America/Chicago
BEGIN:DAYLIGHT
TZOFFSETFROM:-0600
TZOFFSETTO:-0500
TZNAME:CDT
DTSTART:20240310T080000
END:DAYLIGHT
BEGIN:STANDARD
TZOFFSETFROM:-0500
TZOFFSETTO:-0600
TZNAME:CST
DTSTART:20241103T070000
END:STANDARD
BEGIN:DAYLIGHT
TZOFFSETFROM:-0600
TZOFFSETTO:-0500
TZNAME:CDT
DTSTART:20250309T080000
END:DAYLIGHT
BEGIN:STANDARD
TZOFFSETFROM:-0500
TZOFFSETTO:-0600
TZNAME:CST
DTSTART:20251102T070000
END:STANDARD
BEGIN:DAYLIGHT
TZOFFSETFROM:-0600
TZOFFSETTO:-0500
TZNAME:CDT
DTSTART:20260308T080000
END:DAYLIGHT
BEGIN:STANDARD
TZOFFSETFROM:-0500
TZOFFSETTO:-0600
TZNAME:CST
DTSTART:20261101T070000
END:STANDARD
END:VTIMEZONE
BEGIN:VEVENT
DTSTART;TZID=America/Chicago:20250305T180000
DTEND;TZID=America/Chicago:20250305T210000
DTSTAMP:20260425T193436
CREATED:20251001T221214Z
LAST-MODIFIED:20251103T195201Z
UID:10001130-1741197600-1741208400@arkmfa.org
SUMMARY:Drop-in Figure Drawing
DESCRIPTION:Immerse yourself in a three-hour drawing session set in an untutored environment at the Windgate Art School. This dynamic experience will feature a variety of timed poses with draped and undraped models\, providing an excellent opportunity for first-time students and experienced artists alike to hone their skills. \nStudents must be 18+ to attend\, as the session may use the undraped model. An instructor will moderate the session and be available for critiques and questions upon request. \nStudents are encouraged to bring their own materials or purchase materials from the AMFA Museum Store. Recommended materials are graphite drawing pencils\, charcoals\, and a kneaded eraser. Basic drawing materials will also be available. \n\nPhoto: Iwan Baan. \nThe Windgate Art School is generously supported by the Windgate Foundation with additional support from Sherry Worthen in memory of George Worthen. \n 
URL:https://arkmfa.org/event/drop-in-figure-drawing-mar-5/
CATEGORIES:Adults,Art School
ATTACH;FMTTYPE=image/png:https://arkmfa.org/wp-content/uploads/2025/09/Drop-In-Figure-Drawing-4x3-1.png
END:VEVENT
BEGIN:VEVENT
DTSTART;TZID=America/Chicago:20250305T180000
DTEND;TZID=America/Chicago:20250305T210000
DTSTAMP:20260425T193436
CREATED:20251001T221223Z
LAST-MODIFIED:20251103T195158Z
UID:10001146-1741197600-1741208400@arkmfa.org
SUMMARY:Drop-in Printmaking
DESCRIPTION:Experiment with printmaking during this three-hour drop-in experience at the Windgate Art School. Open to beginner and experienced artists alike\, it’s a great way to learn a new art form or work independently on your own projects. \nAn instructor will moderate the session and be available for critiques and questions upon request. \nStudents are encouraged to bring their own materials or purchase materials from the AMFA Museum Store. Recommended materials are a carving block\, five-piece cutters and stamp carving tool\, and high-quality paper. Basic printmaking materials will also be available. \n\nPhoto by Rachel Cobler. \nThe Windgate Art School is generously supported by the Windgate Foundation with additional support from Sherry Worthen in memory of George Worthen. \n 
URL:https://arkmfa.org/event/drop-in-printmaking-mar-5/
CATEGORIES:Adults,Art School
ATTACH;FMTTYPE=image/jpeg:https://arkmfa.org/wp-content/uploads/2025/09/Drop-In-Printmaking-4x3-1.jpg
END:VEVENT
BEGIN:VEVENT
DTSTART;TZID=America/Chicago:20250307T170000
DTEND;TZID=America/Chicago:20250307T200000
DTSTAMP:20260425T193436
CREATED:20251001T221233Z
LAST-MODIFIED:20251031T140102Z
UID:10001172-1741366800-1741377600@arkmfa.org
SUMMARY:Fridays in Rivera's Paris
DESCRIPTION:Immerse yourself in the world of Rivera’s Paris! Experience a taste of Rivera’s life during the early 1900s with French dinner specials at Park Grill\, live jazz performers\, and more special surprises across the museum – perfect for a night out. \nPark Grill reservations are available at parkgrillatamfa.com. If you cannot snag a reservation\, grab a drink and relax in the Cultural Living Room. \n\nRivera’s Paris is supported in part by the Arkansas Museum of Fine Arts Foundation with additional support from the Robert Lehman Foundation. \nThis exhibition is organized by the Arkansas Museum of Fine Arts. \n 
URL:https://arkmfa.org/event/fridays-in-riveras-paris-mar-7/
CATEGORIES:Adults
ATTACH;FMTTYPE=image/jpeg:https://arkmfa.org/wp-content/uploads/2025/09/Fridays-in-Riveras-Paris.jpg
END:VEVENT
BEGIN:VEVENT
DTSTART;TZID=America/Chicago:20250307T180000
DTEND;TZID=America/Chicago:20250307T210000
DTSTAMP:20260425T193436
CREATED:20251001T221214Z
LAST-MODIFIED:20251030T200027Z
UID:10001132-1741370400-1741381200@arkmfa.org
SUMMARY:Art for Two: Stained Glass Suncatchers (SOLD OUT)
DESCRIPTION:Art For Two is the perfect one-night class experience for two where you each take home a finished piece. Class materials\, a charcuterie board\, and refreshments are included\, no skills are required – just come ready to create\, unwind\, and add some artistic spark to your evening. \nIn this session\, create a vibrant suncatcher perfect for adorning your wall or window! Learn the step-by-step process of stained glass while diving into the fundamentals as you craft this beautiful piece. \nPlease wear comfortable shoes and clothing that is washable. \n\nSuncatcher by Jennie Cooper. \n\n\n\n\n\n\n\n\n\n 
URL:https://arkmfa.org/event/art-for-two-stained-glass-suncatchers-sold-out-mar-7/
CATEGORIES:Adults,Art School
ATTACH;FMTTYPE=image/jpeg:https://arkmfa.org/wp-content/uploads/2025/09/Stained-Glass-Suncatchers-Jennie-Cooper-4x3-1.jpg
END:VEVENT
BEGIN:VEVENT
DTSTART;TZID=America/Chicago:20250307T180000
DTEND;TZID=America/Chicago:20250307T210000
DTSTAMP:20260425T193436
CREATED:20251001T221214Z
LAST-MODIFIED:20251031T175136Z
UID:10001134-1741370400-1741381200@arkmfa.org
SUMMARY:Art for Two: Coin Rings (SOLD OUT)
DESCRIPTION:Art For Two is the perfect one-night class experience for two where you each take home a finished piece. Class materials\, a charcuterie board\, and refreshments are included\, no skills are required – just come ready to create\, unwind\, and add some artistic spark to your evening. \nIn this session\, learn how to shape metal as you make a custom-sized ring from a vintage silver coin. \nPlease wear comfortable shoes and clothing that is washable. \n\nRings by Jann Greenland. \n\n\n\n\n\n\n\n\n\n 
URL:https://arkmfa.org/event/art-for-two-coin-rings-sold-out-mar-7/
CATEGORIES:Adults,Art School
ATTACH;FMTTYPE=image/jpeg:https://arkmfa.org/wp-content/uploads/2025/09/Art-For-Two-Coin-Rings-Jann-Greenland-1.jpg
END:VEVENT
BEGIN:VEVENT
DTSTART;TZID=America/Chicago:20250308T100000
DTEND;TZID=America/Chicago:20250308T130000
DTSTAMP:20260425T193436
CREATED:20251001T221323Z
LAST-MODIFIED:20251103T195128Z
UID:10001279-1741428000-1741438800@arkmfa.org
SUMMARY:Studio Saturday
DESCRIPTION:Stop by AMFA’s Windgate Art School where every studio will be open for you to explore and experience! \nWhether you are a skilled artist or a first-time maker\, this opportunity welcomes guests of all ages to experience a variety of artistic disciplines through free\, hands-on activities and exciting demonstrations. \nInstructors will be on hand to answer questions about upcoming art classes and help you pick out the perfect programs for you and your family. \nHere are the free art-making activities happening across each studio: \n\nCeramics Studio – Try out the potter’s wheel or experiment with handbuilding\nDrawing Studio – Sketch a draped model using charcoals\, pencils\, and pastels\nMetals Studio – Create custom wearables and jewelry\nFlex Studio – Make colorful string art inspired by Anne Lindberg’s installation passage\n\n\nStudio Saturdays are supported in part by the Windgate Foundation. \nThe Windgate Art School is generously supported in part by the Windgate Foundation with additional support from Sherry Worthen in memory of George Worthen. \nWindgate Art School’s Reduced Tuition Program is supported in part by Michael Laughter. Reduced tuition is automatically applied on all classes through 2025. \nAnne Lindberg: passage is presented by Terri and Chuck Erwin with additional support from the Lenore G. Tawney Foundation. \n 
URL:https://arkmfa.org/event/studio-saturday-mar-8/
CATEGORIES:Adults,Art School,Youth & Families
ATTACH;FMTTYPE=image/jpeg:https://arkmfa.org/wp-content/uploads/2025/09/WAS-All-Access-Fall-2024-2.jpg
END:VEVENT
BEGIN:VEVENT
DTSTART;TZID=America/Chicago:20250308T130000
DTEND;TZID=America/Chicago:20250308T160000
DTSTAMP:20260425T193436
CREATED:20251001T221214Z
LAST-MODIFIED:20251001T221214Z
UID:10001139-1741438800-1741449600@arkmfa.org
SUMMARY:Cubism Painting Workshop
DESCRIPTION:Explore artwork featured in AMFA’s exhibition Rivera’s Paris and learn how to create a Cubist painting. \nStudents will work with acrylic paint on canvas and construct a composition with line\, shape\, and color. \n\n\n\nImage courtesy of Jason Masters.
URL:https://arkmfa.org/event/cubism-painting-workshop/
CATEGORIES:Adults,Art School
ATTACH;FMTTYPE=image/jpeg:https://arkmfa.org/wp-content/uploads/2025/09/cubism-painting-workshop-4x3-1.jpg
END:VEVENT
END:VCALENDAR