BEGIN:VCALENDAR
VERSION:2.0
PRODID:-//Arkansas Museum of Fine Arts - ECPv6.15.20//NONSGML v1.0//EN
CALSCALE:GREGORIAN
METHOD:PUBLISH
X-ORIGINAL-URL:https://arkmfa.org
X-WR-CALDESC:Events for Arkansas Museum of Fine Arts
REFRESH-INTERVAL;VALUE=DURATION:PT1H
X-Robots-Tag:noindex
X-PUBLISHED-TTL:PT1H
BEGIN:VTIMEZONE
TZID:America/Chicago
BEGIN:DAYLIGHT
TZOFFSETFROM:-0600
TZOFFSETTO:-0500
TZNAME:CDT
DTSTART:20240310T080000
END:DAYLIGHT
BEGIN:STANDARD
TZOFFSETFROM:-0500
TZOFFSETTO:-0600
TZNAME:CST
DTSTART:20241103T070000
END:STANDARD
BEGIN:DAYLIGHT
TZOFFSETFROM:-0600
TZOFFSETTO:-0500
TZNAME:CDT
DTSTART:20250309T080000
END:DAYLIGHT
BEGIN:STANDARD
TZOFFSETFROM:-0500
TZOFFSETTO:-0600
TZNAME:CST
DTSTART:20251102T070000
END:STANDARD
BEGIN:DAYLIGHT
TZOFFSETFROM:-0600
TZOFFSETTO:-0500
TZNAME:CDT
DTSTART:20260308T080000
END:DAYLIGHT
BEGIN:STANDARD
TZOFFSETFROM:-0500
TZOFFSETTO:-0600
TZNAME:CST
DTSTART:20261101T070000
END:STANDARD
END:VTIMEZONE
BEGIN:VEVENT
DTSTART;TZID=America/Chicago:20251118T180000
DTEND;TZID=America/Chicago:20251118T210000
DTSTAMP:20260420T224839
CREATED:20251001T221438Z
LAST-MODIFIED:20251001T221438Z
UID:10001481-1763488800-1763499600@arkmfa.org
SUMMARY:Image Transfer Workshop
DESCRIPTION:Join Arkansas artist Margo DuVall for a unique and exciting hands-on workshop in the art of image transfer. Learn how to transfer an image onto wood or paper. \nThroughout the class\, students will experiment with different objects and methods to produce several finished pieces while gaining a deeper understanding of the image transfer process\, from preparation to exposure. \nThis class offers a creative and accessible way to explore alternative artmaking techniques. \n\nThe Windgate Art School is generously supported by the Windgate Foundation with additional support from Sherry Worthen in memory of George Worthen. \nWindgate Art School’s Reduced Tuition Program is supported by Michael Laughter. Reduced tuition is automatically applied to all classes through 2025. \nArtwork by Margo DuVall.
URL:https://arkmfa.org/event/image-transfer-workshop/
CATEGORIES:Adults,Art School
ATTACH;FMTTYPE=image/jpeg:https://arkmfa.org/wp-content/uploads/2025/09/Beginner-Intermediate-Image-Transfer-Margo-Duvall-4x3-1.jpg
END:VEVENT
END:VCALENDAR