BEGIN:VCALENDAR
VERSION:2.0
PRODID:-//Arkansas Museum of Fine Arts - ECPv6.15.20//NONSGML v1.0//EN
CALSCALE:GREGORIAN
METHOD:PUBLISH
X-ORIGINAL-URL:https://arkmfa.org
X-WR-CALDESC:Events for Arkansas Museum of Fine Arts
REFRESH-INTERVAL;VALUE=DURATION:PT1H
X-Robots-Tag:noindex
X-PUBLISHED-TTL:PT1H
BEGIN:VTIMEZONE
TZID:America/Chicago
BEGIN:DAYLIGHT
TZOFFSETFROM:-0600
TZOFFSETTO:-0500
TZNAME:CDT
DTSTART:20240310T080000
END:DAYLIGHT
BEGIN:STANDARD
TZOFFSETFROM:-0500
TZOFFSETTO:-0600
TZNAME:CST
DTSTART:20241103T070000
END:STANDARD
BEGIN:DAYLIGHT
TZOFFSETFROM:-0600
TZOFFSETTO:-0500
TZNAME:CDT
DTSTART:20250309T080000
END:DAYLIGHT
BEGIN:STANDARD
TZOFFSETFROM:-0500
TZOFFSETTO:-0600
TZNAME:CST
DTSTART:20251102T070000
END:STANDARD
BEGIN:DAYLIGHT
TZOFFSETFROM:-0600
TZOFFSETTO:-0500
TZNAME:CDT
DTSTART:20260308T080000
END:DAYLIGHT
BEGIN:STANDARD
TZOFFSETFROM:-0500
TZOFFSETTO:-0600
TZNAME:CST
DTSTART:20261101T070000
END:STANDARD
END:VTIMEZONE
BEGIN:VEVENT
DTSTART;TZID=America/Chicago:20251114T180000
DTEND;TZID=America/Chicago:20251114T210000
DTSTAMP:20260420T224829
CREATED:20251001T221431Z
LAST-MODIFIED:20251110T165932Z
UID:10001457-1763143200-1763154000@arkmfa.org
SUMMARY:Art For Two: Small Dishes with Natural Impressions (SOLD OUT)
DESCRIPTION:Create a set of floral themed ceramic candle votives! Learn to decorate the clay from an expert ceramic artist by pressing soft clay into a textured mold that has patterns of leaves\, stems\, and greenery. \nArt For Two is the perfect one-night class experience for two where you each take home a finished piece. Class materials\, a charcuterie board\, and refreshments are included\, no skills required – just come ready to create\, unwind\, and add some artistic spark to your evening. \nYour creations will be fired and ready for pick up approximately four weeks after the class. \n\nThe Windgate Art School is generously supported by the Windgate Foundation with additional support from Sherry Worthen in memory of George Worthen. \nWindgate Art School’s Reduced Tuition Program is supported by Michael Laughter. Reduced tuition is automatically applied to all classes through 2025. \nPottery by Kelly Edwards. \n 
URL:https://arkmfa.org/event/art-for-two-small-dishes-with-natural-impressions/
CATEGORIES:Adults,Art School
ATTACH;FMTTYPE=image/jpeg:https://arkmfa.org/wp-content/uploads/2025/09/Small-Dishes-with-Natural-Impressions-Kelly-Edwards-4x3-1.jpg
END:VEVENT
BEGIN:VEVENT
DTSTART;TZID=America/Chicago:20251114T180000
DTEND;TZID=America/Chicago:20251114T210000
DTSTAMP:20260420T224829
CREATED:20251001T221431Z
LAST-MODIFIED:20251213T004349Z
UID:10001458-1763143200-1763154000@arkmfa.org
SUMMARY:Art For Two: Pottery on the Wheel
DESCRIPTION:Learn how to throw pottery on a wheel! \nArt For Two is the perfect one-night class experience for two where you each take home a finished piece. Class materials\, a charcuterie board\, and refreshments are included\, no skills required – just come ready to create\, unwind\, and add some artistic spark to your evening. \nYour creations will be fired and ready for pick up approximately four weeks after the class. \n\nThe Windgate Art School is generously supported by the Windgate Foundation with additional support from Sherry Worthen in memory of George Worthen. \nThe Windgate Art School’s Reduced Tuition Program is supported by Michael Laughter. Reduced tuition is automatically applied to all classes through 2026.
URL:https://arkmfa.org/event/art-for-two-pottery-on-the-wheel-nov-14/
CATEGORIES:Adults,Art School
ATTACH;FMTTYPE=image/jpeg:https://arkmfa.org/wp-content/uploads/2025/09/Art-for-Two-Pottery-on-the-Wheel.jpg
END:VEVENT
END:VCALENDAR