BEGIN:VCALENDAR
VERSION:2.0
PRODID:-//Arkansas Museum of Fine Arts - ECPv6.15.20//NONSGML v1.0//EN
CALSCALE:GREGORIAN
METHOD:PUBLISH
X-ORIGINAL-URL:https://arkmfa.org
X-WR-CALDESC:Events for Arkansas Museum of Fine Arts
REFRESH-INTERVAL;VALUE=DURATION:PT1H
X-Robots-Tag:noindex
X-PUBLISHED-TTL:PT1H
BEGIN:VTIMEZONE
TZID:America/Chicago
BEGIN:DAYLIGHT
TZOFFSETFROM:-0600
TZOFFSETTO:-0500
TZNAME:CDT
DTSTART:20240310T080000
END:DAYLIGHT
BEGIN:STANDARD
TZOFFSETFROM:-0500
TZOFFSETTO:-0600
TZNAME:CST
DTSTART:20241103T070000
END:STANDARD
BEGIN:DAYLIGHT
TZOFFSETFROM:-0600
TZOFFSETTO:-0500
TZNAME:CDT
DTSTART:20250309T080000
END:DAYLIGHT
BEGIN:STANDARD
TZOFFSETFROM:-0500
TZOFFSETTO:-0600
TZNAME:CST
DTSTART:20251102T070000
END:STANDARD
BEGIN:DAYLIGHT
TZOFFSETFROM:-0600
TZOFFSETTO:-0500
TZNAME:CDT
DTSTART:20260308T080000
END:DAYLIGHT
BEGIN:STANDARD
TZOFFSETFROM:-0500
TZOFFSETTO:-0600
TZNAME:CST
DTSTART:20261101T070000
END:STANDARD
END:VTIMEZONE
BEGIN:VEVENT
DTSTART;TZID=America/Chicago:20251009T180000
DTEND;TZID=America/Chicago:20251009T210000
DTSTAMP:20260421T201417
CREATED:20251001T221438Z
LAST-MODIFIED:20251103T172725Z
UID:10001487-1760032800-1760043600@arkmfa.org
SUMMARY:Woodturned Bottlestopper Workshop
DESCRIPTION:This one-session workshop offers an excellent introduction to woodturning – perfect for beginners or those looking to try something new. \nYou will learn fundamental woodturning techniques\, including proper tool handling\, methods for shaping wood\, and essential lathe safety practices. After a brief demonstration\, students will practice these techniques hands-on before creating two unique wine bottle stoppers to take home. \nWith step-by-step guidance from an expert woodturner\, participants will gain confidence in using the lathe and exploring their creativity. \nNo prior experience is necessary\, and all materials are provided! \n\nThe Windgate Art School is generously supported by the Windgate Foundation with additional support from Sherry Worthen in memory of George Worthen. \nWindgate Art School’s Reduced Tuition Program is supported by Michael Laughter. Reduced tuition is automatically applied to all classes through 2025. \nBottle stoppers by Kim Fifer. \n 
URL:https://arkmfa.org/event/woodturned-bottlestopper-workshop-oct-9/
CATEGORIES:Adults,Art School
ATTACH;FMTTYPE=image/jpeg:https://arkmfa.org/wp-content/uploads/2025/09/Wood-Turning-Bottle-Stopper-Workshop-Credit-Kim-Fifer-4x3-1.jpg
END:VEVENT
BEGIN:VEVENT
DTSTART;TZID=America/Chicago:20251009T190000
DTEND;TZID=America/Chicago:20251009T201500
DTSTAMP:20260421T201417
CREATED:20251001T221516Z
LAST-MODIFIED:20251103T172723Z
UID:10001591-1760036400-1760040900@arkmfa.org
SUMMARY:The Legend of Sleepy Hollow
DESCRIPTION:Step into a shadowy world where superstition reigns and every rustle of autumn leaves hints at danger. With sweeping visuals\, hauntingly beautiful movement\, and a powerful score\, Sleepy Hollow transforms a timeless American ghost story into an edge-of-your-seat ballet experience. \nBallet Arkansas’s riveting adaptation of Washington Irving’s legendary tale blends bold choreography with historical drama. From the mysterious allure of the Headless Horseman to the richly atmospheric staging\, this production delivers thrills\, elegance\, and spine-tingling storytelling like no other. \n 
URL:https://arkmfa.org/event/the-legend-of-sleepy-hollow/
CATEGORIES:Adults,Ballet
ATTACH;FMTTYPE=image/jpeg:https://arkmfa.org/wp-content/uploads/2025/09/Sleepy-Hollow-800x600-1.jpg
END:VEVENT
END:VCALENDAR