BEGIN:VCALENDAR
VERSION:2.0
PRODID:-//Arkansas Museum of Fine Arts - ECPv6.15.20//NONSGML v1.0//EN
CALSCALE:GREGORIAN
METHOD:PUBLISH
X-ORIGINAL-URL:https://arkmfa.org
X-WR-CALDESC:Events for Arkansas Museum of Fine Arts
REFRESH-INTERVAL;VALUE=DURATION:PT1H
X-Robots-Tag:noindex
X-PUBLISHED-TTL:PT1H
BEGIN:VTIMEZONE
TZID:America/Chicago
BEGIN:DAYLIGHT
TZOFFSETFROM:-0600
TZOFFSETTO:-0500
TZNAME:CDT
DTSTART:20240310T080000
END:DAYLIGHT
BEGIN:STANDARD
TZOFFSETFROM:-0500
TZOFFSETTO:-0600
TZNAME:CST
DTSTART:20241103T070000
END:STANDARD
BEGIN:DAYLIGHT
TZOFFSETFROM:-0600
TZOFFSETTO:-0500
TZNAME:CDT
DTSTART:20250309T080000
END:DAYLIGHT
BEGIN:STANDARD
TZOFFSETFROM:-0500
TZOFFSETTO:-0600
TZNAME:CST
DTSTART:20251102T070000
END:STANDARD
BEGIN:DAYLIGHT
TZOFFSETFROM:-0600
TZOFFSETTO:-0500
TZNAME:CDT
DTSTART:20260308T080000
END:DAYLIGHT
BEGIN:STANDARD
TZOFFSETFROM:-0500
TZOFFSETTO:-0600
TZNAME:CST
DTSTART:20261101T070000
END:STANDARD
END:VTIMEZONE
BEGIN:VEVENT
DTSTART;TZID=America/Chicago:20250830T100000
DTEND;TZID=America/Chicago:20250830T130000
DTSTAMP:20260421T053119
CREATED:20251001T221352Z
LAST-MODIFIED:20251001T221352Z
UID:10001369-1756548000-1756558800@arkmfa.org
SUMMARY:Hot Glass Sculpture Workshop (SOLD OUT)
DESCRIPTION:Create a glass sculpture by melting and fusing glass rods over a hot torch flame. This workshop introduces you to the basics of flameworking\, including how to safely operate a gas-fueled torch and shape solid glass rods. \nYou will explore techniques for melting and forming glass while gaining a better understanding of heat control and movement\, making this workshop a great introduction for beginners and a fun skill-builder for returning students. \n\nThe Windgate Art School is generously supported by the Windgate Foundation with additional support from Sherry Worthen in memory of George Worthen. \nWindgate Art School’s Reduced Tuition Program is supported by Michael Laughter. Reduced tuition is automatically applied to all classes through 2025. \nImage courtesy of Jason Masters.
URL:https://arkmfa.org/event/hot-glass-sculpture-workshop/
CATEGORIES:Adults,Art School
ATTACH;FMTTYPE=image/jpeg:https://arkmfa.org/wp-content/uploads/2025/09/torchwork-hot-glass-sculpture-man-4x3-1.jpg
END:VEVENT
BEGIN:VEVENT
DTSTART;TZID=America/Chicago:20250830T133000
DTEND;TZID=America/Chicago:20250830T160000
DTSTAMP:20260421T053119
CREATED:20251001T221509Z
LAST-MODIFIED:20251001T221509Z
UID:10001565-1756560600-1756569600@arkmfa.org
SUMMARY:48 Hour Film Project: Movie Premiere and Award Ceremony
DESCRIPTION:On July 27\, 2025\, nineteen Little Rock filmmaking teams submitted their results of a weekend packed with adrenaline\, caffeine\, and creativity. From dream to screen\, each team created a film in only 48 hours. Now it’s time to showcase their work! \n\n\n\nSupport the local film community by getting your tickets for an exciting “Roaring Reels” themed evening filled with amazing films and red carpet moments. Celebrate the creativity and talent of local filmmakers with a screening of their short films and a thrilling ceremony where the top films will be crowned.
URL:https://arkmfa.org/event/48-hour-film-project-movie-premiere-and-award-ceremony/
CATEGORIES:Adults,Films
ATTACH;FMTTYPE=image/jpeg:https://arkmfa.org/wp-content/uploads/2025/09/48-Film-Project-Logo.jpg
END:VEVENT
END:VCALENDAR