BEGIN:VCALENDAR
VERSION:2.0
PRODID:-//Arkansas Museum of Fine Arts - ECPv6.15.20//NONSGML v1.0//EN
CALSCALE:GREGORIAN
METHOD:PUBLISH
X-ORIGINAL-URL:https://arkmfa.org
X-WR-CALDESC:Events for Arkansas Museum of Fine Arts
REFRESH-INTERVAL;VALUE=DURATION:PT1H
X-Robots-Tag:noindex
X-PUBLISHED-TTL:PT1H
BEGIN:VTIMEZONE
TZID:America/Chicago
BEGIN:DAYLIGHT
TZOFFSETFROM:-0600
TZOFFSETTO:-0500
TZNAME:CDT
DTSTART:20240310T080000
END:DAYLIGHT
BEGIN:STANDARD
TZOFFSETFROM:-0500
TZOFFSETTO:-0600
TZNAME:CST
DTSTART:20241103T070000
END:STANDARD
BEGIN:DAYLIGHT
TZOFFSETFROM:-0600
TZOFFSETTO:-0500
TZNAME:CDT
DTSTART:20250309T080000
END:DAYLIGHT
BEGIN:STANDARD
TZOFFSETFROM:-0500
TZOFFSETTO:-0600
TZNAME:CST
DTSTART:20251102T070000
END:STANDARD
BEGIN:DAYLIGHT
TZOFFSETFROM:-0600
TZOFFSETTO:-0500
TZNAME:CDT
DTSTART:20260308T080000
END:DAYLIGHT
BEGIN:STANDARD
TZOFFSETFROM:-0500
TZOFFSETTO:-0600
TZNAME:CST
DTSTART:20261101T070000
END:STANDARD
END:VTIMEZONE
BEGIN:VEVENT
DTSTART;TZID=America/Chicago:20250301T100000
DTEND;TZID=America/Chicago:20250301T140000
DTSTAMP:20260424T183319
CREATED:20251001T221214Z
LAST-MODIFIED:20251001T221214Z
UID:10001124-1740823200-1740837600@arkmfa.org
SUMMARY:Raku and Glaze Workshop (SOLD OUT)
DESCRIPTION:Decorate pottery with colorful glaze and a simple sharpie pen! Learn all about the basics of Raku firing. \nTwo pieces of pottery will be provided for students to decorate\, glaze\, and fire. Experienced students can bring two hand-sized wheel thrown or handbuilt bisqueware to glaze and fire. \nThe instructor will demonstrate proper safety\, glazing techniques\, and preparing materials. \n\n\n\nPottery by Kelly Edwards.
URL:https://arkmfa.org/event/raku-and-glaze-workshop/
CATEGORIES:Adults,Art School
ATTACH;FMTTYPE=image/jpeg:https://arkmfa.org/wp-content/uploads/2025/09/Raku-Firing-Kelly-Edwards-4x3-1.jpg
END:VEVENT
BEGIN:VEVENT
DTSTART;TZID=America/Chicago:20250301T100000
DTEND;TZID=America/Chicago:20250301T140000
DTSTAMP:20260424T183319
CREATED:20251001T221214Z
LAST-MODIFIED:20251001T221214Z
UID:10001136-1740823200-1740837600@arkmfa.org
SUMMARY:Cubist Jewelry Workshop
DESCRIPTION:Make a Cubist-inspired pendant and earrings with polymer clay. Learn how to create designs and patterns inspired by the cubist artworks in AMFA’s exhibition Rivera’s Paris. \nThis workshop includes an hour lunch break while the work is fired. All materials are provided and all skill levels are welcome. \n\n\n\nJewelry by Danya Golden.
URL:https://arkmfa.org/event/cubist-jewelry-workshop/
CATEGORIES:Adults,Art School
ATTACH;FMTTYPE=image/jpeg:https://arkmfa.org/wp-content/uploads/2025/09/CUBIST-JEWELRY-4x3-1.jpg
END:VEVENT
BEGIN:VEVENT
DTSTART;TZID=America/Chicago:20250301T130000
DTEND;TZID=America/Chicago:20250301T160000
DTSTAMP:20260424T183319
CREATED:20251001T221223Z
LAST-MODIFIED:20251001T221223Z
UID:10001148-1740834000-1740844800@arkmfa.org
SUMMARY:Block Printmaking Workshop
DESCRIPTION:Learn how to create printed compositions on paper with rubber block stamping. This workshop will provide instruction on how to carve\, ink\, and print using water soluble inks. \nParticipants will leave this workshop with a colorful completed print and several carved block stamps. \n\n\n\nImage courtesy of Jason Masters.
URL:https://arkmfa.org/event/block-printmaking-workshop/
CATEGORIES:Adults,Art School
ATTACH;FMTTYPE=image/jpeg:https://arkmfa.org/wp-content/uploads/2025/09/Printmaking-4_3-1.jpg
END:VEVENT
END:VCALENDAR