BEGIN:VCALENDAR
VERSION:2.0
PRODID:-//Arkansas Museum of Fine Arts - ECPv6.15.20//NONSGML v1.0//EN
CALSCALE:GREGORIAN
METHOD:PUBLISH
X-ORIGINAL-URL:https://arkmfa.org
X-WR-CALDESC:Events for Arkansas Museum of Fine Arts
REFRESH-INTERVAL;VALUE=DURATION:PT1H
X-Robots-Tag:noindex
X-PUBLISHED-TTL:PT1H
BEGIN:VTIMEZONE
TZID:America/Chicago
BEGIN:DAYLIGHT
TZOFFSETFROM:-0600
TZOFFSETTO:-0500
TZNAME:CDT
DTSTART:20240310T080000
END:DAYLIGHT
BEGIN:STANDARD
TZOFFSETFROM:-0500
TZOFFSETTO:-0600
TZNAME:CST
DTSTART:20241103T070000
END:STANDARD
BEGIN:DAYLIGHT
TZOFFSETFROM:-0600
TZOFFSETTO:-0500
TZNAME:CDT
DTSTART:20250309T080000
END:DAYLIGHT
BEGIN:STANDARD
TZOFFSETFROM:-0500
TZOFFSETTO:-0600
TZNAME:CST
DTSTART:20251102T070000
END:STANDARD
BEGIN:DAYLIGHT
TZOFFSETFROM:-0600
TZOFFSETTO:-0500
TZNAME:CDT
DTSTART:20260308T080000
END:DAYLIGHT
BEGIN:STANDARD
TZOFFSETFROM:-0500
TZOFFSETTO:-0600
TZNAME:CST
DTSTART:20261101T070000
END:STANDARD
END:VTIMEZONE
BEGIN:VEVENT
DTSTART;TZID=America/Chicago:20251203T170000
DTEND;TZID=America/Chicago:20251203T200000
DTSTAMP:20260420T171219
CREATED:20251001T221531Z
LAST-MODIFIED:20251110T181955Z
UID:10001615-1764781200-1764792000@arkmfa.org
SUMMARY:Bright Nights
DESCRIPTION:Spend the holiday season at AMFA enjoying a night of live jazz and festive vibes. Immerse yourself in the glowing ambiance of the Cultural Living Room\, where the melodies meld perfectly with a glass of bubbly champagne and gourmet snacks. \nThis experience extends into the galleries\, where AMFA docents will elevate your evening with an illuminating conversation about the art on view. Wrap up the night (and maybe a few gifts) with a shopping trip to the Museum Store. \nDrinks and music start at 5:00 p.m. in the Cultural Living Room. Gallery engagements start at 6:30 p.m. in the Galleries. \n\nBright Nights is supported in part by Elizabeth and Van Tilbury/East Harding Construction and Virgil L. Miller Jr. \nDocents are supported in part by Fleur S. Bresler and the Alice L. Walton Foundation. \nImage courtesy of Jason Masters
URL:https://arkmfa.org/event/bright-nights-dec-3/
CATEGORIES:Adults,Holiday
ATTACH;FMTTYPE=image/jpeg:https://arkmfa.org/wp-content/uploads/2025/09/Bright-Nights-2024-People.jpg
END:VEVENT
BEGIN:VEVENT
DTSTART;TZID=America/Chicago:20251203T180000
DTEND;TZID=America/Chicago:20251203T210000
DTSTAMP:20260420T171219
CREATED:20251001T221445Z
LAST-MODIFIED:20251027T164943Z
UID:10001507-1764784800-1764795600@arkmfa.org
SUMMARY:Drop-in Printmaking
DESCRIPTION:Experiment with printmaking during this three-hour drop-in experience at AMFA’s Windgate Art School. Open to beginner and experienced artists alike\, it’s a great way to learn a new art form or work independently on your own projects. \nAn instructor will moderate the session and be available for critiques and questions upon request. \nStudents are encouraged to bring their own materials or purchase materials from the AMFA Museum Store. Recommended materials are a carving block\, five-piece cutters and stamp carving tool\, and high-quality paper. Basic printmaking materials will also be available. \n\nThe Windgate Art School is generously supported by the Windgate Foundation with additional support from Sherry Worthen in memory of George Worthen. \nWindgate Art School’s Reduced Tuition Program is supported by Michael Laughter. Reduced tuition is automatically applied to all classes through 2025. \nPhoto by Rachel Cobler. \n 
URL:https://arkmfa.org/event/drop-in-printmaking-dec-3/
CATEGORIES:Adults,Art School
ATTACH;FMTTYPE=image/jpeg:https://arkmfa.org/wp-content/uploads/2025/09/Drop-In-Printmaking-4x3-1.jpg
END:VEVENT
BEGIN:VEVENT
DTSTART;TZID=America/Chicago:20251205T180000
DTEND;TZID=America/Chicago:20251205T210000
DTSTAMP:20260420T171219
CREATED:20251001T221431Z
LAST-MODIFIED:20251123T213404Z
UID:10001464-1764957600-1764968400@arkmfa.org
SUMMARY:Art For Two: Hammered Copper Bracelets (SOLD OUT)
DESCRIPTION:Create a hammered copper bracelet with a personalized message or design! Learn how to hammer\, bend\, and stamp designs onto a piece of heavy copper wire. \nArt For Two is the perfect one-night class experience for two where you each take home a finished piece. Class materials\, a charcuterie board\, and refreshments are included\, no skills required – just come ready to create\, unwind\, and add some artistic spark to your evening. \n\nThe Windgate Art School is generously supported by the Windgate Foundation with additional support from Sherry Worthen in memory of George Worthen. \nWindgate Art School’s Reduced Tuition Program is supported by Michael Laughter. Reduced tuition is automatically applied to all classes through 2025. \nBracelets by Myriam Saavedra. \n 
URL:https://arkmfa.org/event/art-for-two-hammered-copper-bracelets-dec-5/
CATEGORIES:Adults,Art School
ATTACH;FMTTYPE=image/jpeg:https://arkmfa.org/wp-content/uploads/2025/09/ART-FOR-TWO-BRACELETS-4x3-1.jpg
END:VEVENT
BEGIN:VEVENT
DTSTART;TZID=America/Chicago:20251206T100000
DTEND;TZID=America/Chicago:20251206T140000
DTSTAMP:20260420T171219
CREATED:20251001T221438Z
LAST-MODIFIED:20251123T213338Z
UID:10001477-1765015200-1765029600@arkmfa.org
SUMMARY:"Uncommon Threads" Inspired Jewelry Workshop (SOLD OUT)
DESCRIPTION:Make an inspired pendant and earrings with polymer clayand learn how to create designs and patterns inspired by the art on view in AMFA’s exhibition\, Uncommon Threads in Contemporary Art. \nThis workshop includes an hour lunch break while your work is fired in a kiln. \n\nThe Windgate Art School is generously supported by the Windgate Foundation with additional support from Sherry Worthen in memory of George Worthen. \nWindgate Art School’s Reduced Tuition Program is supported by Michael Laughter. Reduced tuition is automatically applied to all classes through 2025. \nEarrings by Danya Golden. \n 
URL:https://arkmfa.org/event/uncommon-threads-inspired-jewelry-workshop/
CATEGORIES:Adults,Art School
ATTACH;FMTTYPE=image/jpeg:https://arkmfa.org/wp-content/uploads/2025/09/Uncommon-Threads-Earrings-Danya-Golden-4x3-1.jpg
END:VEVENT
BEGIN:VEVENT
DTSTART;TZID=America/Chicago:20251206T100000
DTEND;TZID=America/Chicago:20251206T130000
DTSTAMP:20260420T171219
CREATED:20251001T221438Z
LAST-MODIFIED:20251001T221438Z
UID:10001475-1765015200-1765026000@arkmfa.org
SUMMARY:Glass Snowman Workshop (SOLD OUT)
DESCRIPTION:Design colorful and festive glass snowmen that will lighten up any tree or window! \nLearn the basics of glass fusing to arrange shapes and patterns in a creative way. Your completed designs will be transformed in the kiln to achieve a smooth and glossy finish. \nThis is an excellent workshop for those interested in experiencing the basics of glass fusing. \n\nThe Windgate Art School is generously supported by the Windgate Foundation with additional support from Sherry Worthen in memory of George Worthen. \nWindgate Art School’s Reduced Tuition Program is supported by Michael Laughter. Reduced tuition is automatically applied to all classes through 2025. \nGlasswork by Lola Warren.
URL:https://arkmfa.org/event/glass-snowman-workshop/
CATEGORIES:Adults,Art School,Holiday
ATTACH;FMTTYPE=image/jpeg:https://arkmfa.org/wp-content/uploads/2025/09/glass-snowman-cropped.jpg
END:VEVENT
BEGIN:VEVENT
DTSTART;TZID=America/Chicago:20251206T140000
DTEND;TZID=America/Chicago:20251206T170000
DTSTAMP:20260420T171219
CREATED:20251001T221438Z
LAST-MODIFIED:20251001T221438Z
UID:10001482-1765029600-1765040400@arkmfa.org
SUMMARY:Phone Photography Workshop
DESCRIPTION:Travel to the AMFA galleries with professional photographer Margo Duvall and artistically explore the art on display with your camera phone. \nFollowing museum guidelines\, participants will take photographs while learning about composition\, color balance\, and how to use the viewfinder. Bring your camera phone and experience the art on display through the lens of a camera! \n\nThe Windgate Art School is generously supported by the Windgate Foundation with additional support from Sherry Worthen in memory of George Worthen. \nWindgate Art School’s Reduced Tuition Program is supported by Michael Laughter. Reduced tuition is automatically applied to all classes through 2025. \nImage courtesy of Jason Masters.
URL:https://arkmfa.org/event/phone-photography-workshop/
CATEGORIES:Adults,Art School
ATTACH;FMTTYPE=image/jpeg:https://arkmfa.org/wp-content/uploads/2025/09/Bid-Adieu-4x3-Option-1.jpg
END:VEVENT
BEGIN:VEVENT
DTSTART;TZID=America/Chicago:20251210T170000
DTEND;TZID=America/Chicago:20251210T200000
DTSTAMP:20260420T171219
CREATED:20251001T221531Z
LAST-MODIFIED:20251110T181937Z
UID:10001616-1765386000-1765396800@arkmfa.org
SUMMARY:Bright Nights
DESCRIPTION:Spend the holiday season at AMFA enjoying a night of live jazz and festive vibes. Immerse yourself in the glowing ambiance of the Cultural Living Room\, where the melodies meld perfectly with a glass of bubbly champagne and gourmet snacks. \nThis experience extends into the galleries\, where AMFA docents will elevate your evening with an illuminating conversation about the art on view. Wrap up the night (and maybe a few gifts) with a shopping trip to the Museum Store. \nDrinks and music start at 5:00 p.m. in the Cultural Living Room. Gallery engagements start at 6:30 p.m. in the Galleries. \n\nBright Nights is supported in part by Elizabeth and Van Tilbury/East Harding Construction and Virgil L. Miller Jr. \nDocents are supported in part by Fleur S. Bresler and the Alice L. Walton Foundation. \nImage courtesy of Jason Masters
URL:https://arkmfa.org/event/bright-nights-dec-10/
CATEGORIES:Adults,Holiday
ATTACH;FMTTYPE=image/jpeg:https://arkmfa.org/wp-content/uploads/2025/09/Bright-Nights-2024-People.jpg
END:VEVENT
BEGIN:VEVENT
DTSTART;TZID=America/Chicago:20251210T180000
DTEND;TZID=America/Chicago:20251210T200000
DTSTAMP:20260420T171219
CREATED:20251123T214314Z
LAST-MODIFIED:20251123T214314Z
UID:10004065-1765389600-1765396800@arkmfa.org
SUMMARY:Educator Appreciation Night
DESCRIPTION:Wrap up the semester in style with a night of free drinks\, entertainment\, and camaraderie! It’s time to treat yourself to a fun night out with other educators. \nStart the evening with a short presentation about AMFA’s upcoming programs in the Terri and Chuck Erwin Collections Research Center at 6:00 p.m.\, then head upstairs to the Cultural Living Room for a complimentary drink and live music at Bright Nights. Check in with AMFA staff as soon as you arrive to enter to win raffle prizes! \n\nBright Nights is supported in part by Elizabeth and Van Tilbury/East Harding Construction and Virgil L. Miller Jr. \nIn-kind support provided by Moon Distributors Inc. \nImage courtesy of Jason Masters.
URL:https://arkmfa.org/event/educator-appreciation-night/
CATEGORIES:Adults,Special Events
ATTACH;FMTTYPE=image/jpeg:https://arkmfa.org/wp-content/uploads/2025/11/Educator-Appreciation-Night-4x3-1.jpg
END:VEVENT
BEGIN:VEVENT
DTSTART;TZID=America/Chicago:20251210T180000
DTEND;TZID=America/Chicago:20251210T210000
DTSTAMP:20260420T171219
CREATED:20251001T221445Z
LAST-MODIFIED:20251013T190147Z
UID:10001501-1765389600-1765400400@arkmfa.org
SUMMARY:Drop-in Figure Drawing
DESCRIPTION:Immerse yourself in a three-hour drawing session set in an untutored environment at the Windgate Art School. This dynamic experience will feature a variety of timed poses with draped and undraped models\, providing an excellent opportunity for first-time students and experienced artists alike to hone their skills. \nStudents must be 18+ to attend\, as the session may use the undraped model. An instructor will moderate the session and be available for critiques and questions upon request. \nStudents are encouraged to bring their own materials or purchase materials from the AMFA Museum Store. Recommended materials are graphite drawing pencils\, charcoals\, and a kneaded eraser. Basic drawing materials will also be available. \n\nThe Windgate Art School is generously supported by the Windgate Foundation with additional support from Sherry Worthen in memory of George Worthen. \nWindgate Art School’s Reduced Tuition Program is supported by Michael Laughter. Reduced tuition is automatically applied to all classes through 2025. \nPhoto: Iwan Baan. \n 
URL:https://arkmfa.org/event/drop-in-figure-drawing-dec-10/
CATEGORIES:Adults,Art School
ATTACH;FMTTYPE=image/png:https://arkmfa.org/wp-content/uploads/2025/09/Drop-In-Figure-Drawing-4x3-1.png
END:VEVENT
BEGIN:VEVENT
DTSTART;TZID=America/Chicago:20251211T180000
DTEND;TZID=America/Chicago:20251211T210000
DTSTAMP:20260420T171219
CREATED:20251001T221438Z
LAST-MODIFIED:20251001T221438Z
UID:10001488-1765476000-1765486800@arkmfa.org
SUMMARY:Woodturned Bottlestopper Workshop
DESCRIPTION:This one-session workshop offers an excellent introduction to woodturning – perfect for beginners or those looking to try something new. \nYou will learn fundamental woodturning techniques\, including proper tool handling\, methods for shaping wood\, and essential lathe safety practices. After a brief demonstration\, students will practice these techniques hands-on before creating two unique wine bottle stoppers to take home. \nWith step-by-step guidance from an expert woodturner\, participants will gain confidence in using the lathe and exploring their creativity. \nNo prior experience is necessary\, and all materials are provided! \n\nThe Windgate Art School is generously supported by the Windgate Foundation with additional support from Sherry Worthen in memory of George Worthen. \nWindgate Art School’s Reduced Tuition Program is supported by Michael Laughter. Reduced tuition is automatically applied to all classes through 2025. \nBottle stoppers by Kim Fifer.
URL:https://arkmfa.org/event/woodturned-bottlestopper-workshop/
CATEGORIES:Adults,Art School
ATTACH;FMTTYPE=image/jpeg:https://arkmfa.org/wp-content/uploads/2025/09/Wood-Turning-Bottle-Stopper-Workshop-Credit-Kim-Fifer-4x3-1.jpg
END:VEVENT
BEGIN:VEVENT
DTSTART;TZID=America/Chicago:20251211T193000
DTEND;TZID=America/Chicago:20251211T210000
DTSTAMP:20260420T171219
CREATED:20251001T221330Z
LAST-MODIFIED:20251001T221330Z
UID:10001315-1765481400-1765486800@arkmfa.org
SUMMARY:Concert Series: Phil Cook
DESCRIPTION:Pianist Phil Cook is a quietly pivotal figure in modern American music\, known for his subtle yet transformative contributions to some of the past decade’s most vital folk\, indie\, and gospel records. Whether it is the spirited piano solo on Hiss Golden Messenger’s Day O Day\, the inclusive melody of Bon Iver’s AUTAC\, or his work with artists like The War on Drugs\, The Blind Boys of Alabama\, and the Indigo Girls\, Cook has shaped the sound of countless artists with his soulful\, understated touch. \nIn early 2020\, Cook paused his relentless touring duties with others\, intent on focusing on how all his experiences and erudition could fit into his own songs. He found a cabin in the North Carolina mountains\, began leaving his windowsill slightly cracked each night\, and recorded tangled bird songs. With the sun finally high\, Cook would listen to the day’s recordings and improvise in real time on the instrument that remains the first and most steadfast love of his musical life: the piano. \nIn his new album Appalachia Borealis—a deeply poignant and personal set of 11 piano meditations inspired by his windowsill improvisations—Cook reflects not only the turmoil and sadness of a fraught time\, but also the hope\, light\, and joy of looking for the other side. You can sometimes still hear the birds whose tune and time helped to inspire so many of these songs. \nEven when they are not within earshot\, their essence remains: that is\, to rise and meet the day best you can\, no matter how uncertain and strange the moment may seem. \n\n\n\nThe 2025-2026 Concert Series is supported in part by John H. Dean DDS and Mary Ann Coleman\, Mimi San Pedro\, Olivia Farrell\, and Susan Conley. \nPhoto courtesy of the artist. \n\n\n\n\nWEBSITE\n\n\n\nSPOTIFY\n\n\n\nINSTAGRAM\n\n\n\nYOUTUBE\n\n\n\nFACEBOOK
URL:https://arkmfa.org/event/concert-series-phil-cook/
CATEGORIES:Adults,Concerts
ATTACH;FMTTYPE=image/jpeg:https://arkmfa.org/wp-content/uploads/2025/09/Phil-Cook-4x3-1.jpg
END:VEVENT
BEGIN:VEVENT
DTSTART;TZID=America/Chicago:20251212T180000
DTEND;TZID=America/Chicago:20251212T210000
DTSTAMP:20260420T171219
CREATED:20251001T221431Z
LAST-MODIFIED:20251123T213317Z
UID:10001459-1765562400-1765573200@arkmfa.org
SUMMARY:Art For Two: Portrait Drawings (SOLD OUT)
DESCRIPTION:Experience an evening of fun as you learn how to study and sketch your partner using graphite or charcoal pencils. An experienced illustrator will show you the basic techniques involved to effectively draw a portrait. \nArt For Two is the perfect one-night class experience for two where you each take home a finished piece. Class materials\, a charcuterie board\, and refreshments are included\, no skills required – just come ready to create\, unwind\, and add some artistic spark to your evening. \n\nThe Windgate Art School is generously supported by the Windgate Foundation with additional support from Sherry Worthen in memory of George Worthen. \nWindgate Art School’s Reduced Tuition Program is supported by Michael Laughter. Reduced tuition is automatically applied to all classes through 2025. \n 
URL:https://arkmfa.org/event/art-for-two-portrait-drawings-dec-12/
CATEGORIES:Adults,Art School
ATTACH;FMTTYPE=image/jpeg:https://arkmfa.org/wp-content/uploads/2025/09/art-for-two-portrait-drawing-4x3-1.jpg
END:VEVENT
BEGIN:VEVENT
DTSTART;TZID=America/Chicago:20251213T140000
DTEND;TZID=America/Chicago:20251213T170000
DTSTAMP:20260420T171219
CREATED:20251001T221438Z
LAST-MODIFIED:20251001T221438Z
UID:10001483-1765634400-1765645200@arkmfa.org
SUMMARY:Hand-Printed Holiday Cards Workshop
DESCRIPTION:Explore the art of relief carving and create two unique sets of hand-printed holiday cards to share with friends and family. \nIn this workshop\, you will learn simple and accessible printmaking techniques that don’t require large or specialized equipment—just tools you can easily use at home. \nFrom carving your own design into a printing block to inking and printing on card stock\, you will gain hands-on experience and leave with beautiful\, handmade cards and the skills to continue printmaking on your own. \n\nThe Windgate Art School is generously supported by the Windgate Foundation with additional support from Sherry Worthen in memory of George Worthen. \nWindgate Art School’s Reduced Tuition Program is supported by Michael Laughter. Reduced tuition is automatically applied to all classes through 2025. \nPrint by Kristin Karr.
URL:https://arkmfa.org/event/hand-printed-holiday-cards-workshop/
CATEGORIES:Adults,Art School,Holiday
ATTACH;FMTTYPE=image/jpeg:https://arkmfa.org/wp-content/uploads/2025/09/Hand-Stamped-Holiday-Cards.jpg
END:VEVENT
BEGIN:VEVENT
DTSTART;TZID=America/Chicago:20251214T130000
DTEND;TZID=America/Chicago:20251214T160000
DTSTAMP:20260420T171219
CREATED:20251001T221438Z
LAST-MODIFIED:20251123T213601Z
UID:10001484-1765717200-1765728000@arkmfa.org
SUMMARY:Felting Workshop (SOLD OUT)
DESCRIPTION:Discover the ancient and versatile art of feltmaking in this hands-on introductory workshop. \nParticipants will learn the basics of wet felting—using warm\, soapy water and agitation to transform wool fibers into fabric—and gain a deeper understanding of how to build and finish a felted piece. You will explore layering\, embellishing\, and fulling techniques to create a small decorative felted artwork. \nPerfect for beginners\, this workshop offers a fun and tactile way to connect with a timeless craft using simple tools and materials. \n\nThe Windgate Art School is generously supported by the Windgate Foundation with additional support from Sherry Worthen in memory of George Worthen. \nWindgate Art School’s Reduced Tuition Program is supported by Michael Laughter. Reduced tuition is automatically applied to all classes through 2025. \nTapestry by Danielle James. \n 
URL:https://arkmfa.org/event/felting-workshop/
CATEGORIES:Adults,Art School
ATTACH;FMTTYPE=image/jpeg:https://arkmfa.org/wp-content/uploads/2025/09/weaving-workshop-Danielle-James-4x3-1.jpg
END:VEVENT
BEGIN:VEVENT
DTSTART;TZID=America/Chicago:20251215T090000
DTEND;TZID=America/Chicago:20251215T160000
DTSTAMP:20260420T171219
CREATED:20251001T221438Z
LAST-MODIFIED:20251027T163852Z
UID:10001479-1765789200-1765814400@arkmfa.org
SUMMARY:Pet Portrait Workshop
DESCRIPTION:Make a heartfelt portrait of your pet! In this fun and engaging one-day workshop\, you will learn how to build a painting from the ground up\, using acrylic paints and working from photographs of your own beloved animal companion. \nWhether you are new to painting or looking to sharpen your skills\, an expert painter will guide you through the process of capturing your pet’s personality and charm in paint. \nFrom sketching the initial composition to layering colors and adding final details\, you will walk away with a timeless\, personal artwork—perfect for gifting or keeping! \nThis class will break for lunch between noon and 1:00 p.m. \n\nThe Windgate Art School is generously supported by the Windgate Foundation with additional support from Sherry Worthen in memory of George Worthen. \nWindgate Art School’s Reduced Tuition Program is supported by Michael Laughter. Reduced tuition is automatically applied to all classes through 2025. \nPainting by Sarah Lassiter. \n 
URL:https://arkmfa.org/event/pet-portrait-workshop-dec-15/
CATEGORIES:Adults,Art School,Holiday
ATTACH;FMTTYPE=image/jpeg:https://arkmfa.org/wp-content/uploads/2025/09/Pet-Portraits-in-Watercolor-4x3-1.jpg
END:VEVENT
BEGIN:VEVENT
DTSTART;TZID=America/Chicago:20251217T170000
DTEND;TZID=America/Chicago:20251217T200000
DTSTAMP:20260420T171219
CREATED:20251001T221531Z
LAST-MODIFIED:20251110T181653Z
UID:10001617-1765990800-1766001600@arkmfa.org
SUMMARY:Bright Nights
DESCRIPTION:Spend the holiday season at AMFA enjoying a night of live jazz and festive vibes. Immerse yourself in the glowing ambiance of the Cultural Living Room\, where the melodies meld perfectly with a glass of bubbly champagne and gourmet snacks. \nThis experience extends into the galleries\, where AMFA docents will elevate your evening with an illuminating conversation about the art on view. Wrap up the night (and maybe a few gifts) with a shopping trip to the Museum Store. \nDrinks and music start at 5:00 p.m. in the Cultural Living Room. Gallery engagements start at 6:30 p.m. in the Galleries. \n\nBright Nights is supported in part by Elizabeth and Van Tilbury/East Harding Construction and Virgil L. Miller Jr. \nDocents are supported in part by Fleur S. Bresler and the Alice L. Walton Foundation. \nImage courtesy of Jason Masters
URL:https://arkmfa.org/event/bright-nights-dec-17/
CATEGORIES:Adults,Holiday
ATTACH;FMTTYPE=image/jpeg:https://arkmfa.org/wp-content/uploads/2025/09/Bright-Nights-2024-People.jpg
END:VEVENT
BEGIN:VEVENT
DTSTART;TZID=America/Chicago:20251217T180000
DTEND;TZID=America/Chicago:20251217T210000
DTSTAMP:20260420T171220
CREATED:20251001T221445Z
LAST-MODIFIED:20251217T150434Z
UID:10001508-1765994400-1766005200@arkmfa.org
SUMMARY:Drop-in Printmaking
DESCRIPTION:Experiment with printmaking during this three-hour drop-in experience at AMFA’s Windgate Art School. Open to beginner and experienced artists alike\, it’s a great way to learn a new art form or work independently on your own projects. \nAn instructor will moderate the session and be available for critiques and questions upon request. \nStudents are encouraged to bring their own materials or purchase materials from the AMFA Museum Store. Recommended materials are a carving block\, five-piece cutters and stamp carving tool\, and high-quality paper. Basic printmaking materials will also be available. \n\nThe Windgate Art School is generously supported by the Windgate Foundation with additional support from Sherry Worthen in memory of George Worthen. \nWindgate Art School’s Reduced Tuition Program is supported by Michael Laughter. Reduced tuition is automatically applied to all classes through 2025. \nPhoto by Rachel Cobler. \n 
URL:https://arkmfa.org/event/drop-in-printmaking-dec-17/
CATEGORIES:Adults,Art School
ATTACH;FMTTYPE=image/jpeg:https://arkmfa.org/wp-content/uploads/2025/09/Drop-In-Printmaking-4x3-1.jpg
END:VEVENT
BEGIN:VEVENT
DTSTART;TZID=America/Chicago:20251219T180000
DTEND;TZID=America/Chicago:20251219T210000
DTSTAMP:20260420T171220
CREATED:20251001T221431Z
LAST-MODIFIED:20251217T150447Z
UID:10001467-1766167200-1766178000@arkmfa.org
SUMMARY:Art For Two: Votive Candle Holders (SOLD OUT)
DESCRIPTION:Craft a votive candle holder in solid dark walnut that can serve as a gorgeous decorative centerpiece! Learn how to use the drill press to create holes\, then sand and seal the wood for a pleasing and eye-catching finish. \nArt For Two is the perfect one-night class experience for two where you each take home a finished piece. Class materials\, a charcuterie board\, and refreshments are included\, no skills required – just come ready to create\, unwind\, and add some artistic spark to your evening. \n\nThe Windgate Art School is generously supported by the Windgate Foundation with additional support from Sherry Worthen in memory of George Worthen. \nWindgate Art School’s Reduced Tuition Program is supported by Michael Laughter. Reduced tuition is automatically applied to all classes through 2025. \nWoodwork by Liz Koerner. \n 
URL:https://arkmfa.org/event/art-for-two-votive-candle-holders/
CATEGORIES:Adults,Art School
ATTACH;FMTTYPE=image/jpeg:https://arkmfa.org/wp-content/uploads/2025/09/Votive-Candle-Holders-Liz-Koerner-4x3-1.jpg
END:VEVENT
BEGIN:VEVENT
DTSTART;TZID=America/Chicago:20251220T100000
DTEND;TZID=America/Chicago:20251220T130000
DTSTAMP:20260420T171220
CREATED:20251001T221431Z
LAST-MODIFIED:20251123T213825Z
UID:10001470-1766224800-1766235600@arkmfa.org
SUMMARY:Horsehair Raku Workshop (SOLD OUT)
DESCRIPTION:Learn all about the basics of decorating pottery with the horsehair raku technique. Two pieces of pottery will be provided for students to fire and decorate. \nExperienced students can bring two hand-sized wheel-thrown or handbuilt bisqueware to glaze and fire. The instructor will demonstrate proper safety\, glazing techniques\, and preparing materials. \n\nThe Windgate Art School is generously supported by the Windgate Foundation with additional support from Sherry Worthen in memory of George Worthen. \nWindgate Art School’s Reduced Tuition Program is supported by Michael Laughter. Reduced tuition is automatically applied to all classes through 2025. \nPottery by Kelly Edwards. \n 
URL:https://arkmfa.org/event/horsehair-raku-workshop/
CATEGORIES:Adults,Art School
ATTACH;FMTTYPE=image/jpeg:https://arkmfa.org/wp-content/uploads/2025/09/Raku-Firing-Kelly-Edwards-4x3-1.jpg
END:VEVENT
BEGIN:VEVENT
DTSTART;TZID=America/Chicago:20251220T100000
DTEND;TZID=America/Chicago:20251220T130000
DTSTAMP:20260420T171220
CREATED:20251001T221438Z
LAST-MODIFIED:20251217T150414Z
UID:10001480-1766224800-1766235600@arkmfa.org
SUMMARY:Nevelson-Inspired Collage Workshop
DESCRIPTION:Explore the groundbreaking artwork featured in AMFA’s exhibition\, Architects of Being\, and immerse yourself in the world of Louise Nevelson during this exciting workshop. Learn about Nevelson’s abstract artworks and creatively organize a collage through composition. \nUsing available materials\, students will layer\, work with collage papers\, and use adhesives. Whether you are new to collage or looking to deepen your understanding\, this workshop provides a hands-on opportunity to express your own artistic vision while looking at masterful works of art by Louise Nevelson. \n\nArchitects of Being: Louise Nevelson and Esphyr Slobodkina is supported in part by the Arkansas Museum of Fine Arts Foundation\, National Endowment for the Arts\, Alan DuBois Fund for Contemporary Craft\, Ellsworth Kelly Foundation\, Anita Davis\, and The Jewish Federation of Arkansas. \nThe catalogue for Architects of Being: Louise Nevelson and Esphyr Slobodkina is supported in part by the Wyeth Foundation for American Art. \n\n\n\n\n\n\n\n  \nThis exhibition is organized by the Arkansas Museum of Fine Arts. \nThe Windgate Art School is generously supported by the Windgate Foundation with additional support from Sherry Worthen in memory of George Worthen. \nWindgate Art School’s Reduced Tuition Program is supported by Michael Laughter. Reduced tuition is automatically applied to all classes through 2025. \nImage courtesy of Jason Masters. \n\n\n\n\n\n\n\n\n\n 
URL:https://arkmfa.org/event/nevelson-inspired-collage-workshop/
CATEGORIES:Adults,Art School
ATTACH;FMTTYPE=image/jpeg:https://arkmfa.org/wp-content/uploads/2025/10/cut-paper-collage.jpg
END:VEVENT
END:VCALENDAR