BEGIN:VCALENDAR
VERSION:2.0
PRODID:-//Arkansas Museum of Fine Arts - ECPv6.15.20//NONSGML v1.0//EN
CALSCALE:GREGORIAN
METHOD:PUBLISH
X-WR-CALNAME:Arkansas Museum of Fine Arts
X-ORIGINAL-URL:https://arkmfa.org
X-WR-CALDESC:Events for Arkansas Museum of Fine Arts
REFRESH-INTERVAL;VALUE=DURATION:PT1H
X-Robots-Tag:noindex
X-PUBLISHED-TTL:PT1H
BEGIN:VTIMEZONE
TZID:America/Chicago
BEGIN:DAYLIGHT
TZOFFSETFROM:-0600
TZOFFSETTO:-0500
TZNAME:CDT
DTSTART:20240310T080000
END:DAYLIGHT
BEGIN:STANDARD
TZOFFSETFROM:-0500
TZOFFSETTO:-0600
TZNAME:CST
DTSTART:20241103T070000
END:STANDARD
BEGIN:DAYLIGHT
TZOFFSETFROM:-0600
TZOFFSETTO:-0500
TZNAME:CDT
DTSTART:20250309T080000
END:DAYLIGHT
BEGIN:STANDARD
TZOFFSETFROM:-0500
TZOFFSETTO:-0600
TZNAME:CST
DTSTART:20251102T070000
END:STANDARD
BEGIN:DAYLIGHT
TZOFFSETFROM:-0600
TZOFFSETTO:-0500
TZNAME:CDT
DTSTART:20260308T080000
END:DAYLIGHT
BEGIN:STANDARD
TZOFFSETFROM:-0500
TZOFFSETTO:-0600
TZNAME:CST
DTSTART:20261101T070000
END:STANDARD
END:VTIMEZONE
BEGIN:VEVENT
DTSTART;TZID=America/Chicago:20250403T180000
DTEND;TZID=America/Chicago:20250403T210000
DTSTAMP:20260421T135315
CREATED:20251001T221330Z
LAST-MODIFIED:20251001T221330Z
UID:10001304-1743703200-1743714000@arkmfa.org
SUMMARY:Tabriz Table
DESCRIPTION:Celebrate and support AMFA with an immersive evening inspired by the blockbuster exhibition Rivera’s Paris. \n\n\n\nSpend an unforgettable night at the Museum experiencing the magic of live French music\, savoring a festive French and Mexican menu\, enjoying artful amusements\, bidding on exclusive items in a silent auction\, and much more. \n\n\n\nTickets are limited and going quickly – reserve yours today!
URL:https://arkmfa.org/event/tabriz-table/
CATEGORIES:Adults,Special Events
ATTACH;FMTTYPE=image/jpeg:https://arkmfa.org/wp-content/uploads/2025/09/Tabriz-Beyond-the-Canvas-green-background-2.jpg
END:VEVENT
BEGIN:VEVENT
DTSTART;TZID=America/Chicago:20250405T180000
DTEND;TZID=America/Chicago:20250405T180000
DTSTAMP:20260421T135315
CREATED:20251001T221052Z
LAST-MODIFIED:20251103T194917Z
UID:10000960-1743876000-1743876000@arkmfa.org
SUMMARY:Tabriz Gala
DESCRIPTION:Tabriz Gala returns to the Arkansas Museum of Fine Arts with a theme inspired by AMFA’s blockbuster exhibition Rivera’s Paris\, the first and most comprehensive look at Diego Rivera’s years spent living in Paris. \n\n\n\nDelight in a fusion of exquisite cuisine\, award-winning music\, cocktails\, and enchanting ambiance as we blend Parisian joie de vivre with the vibrant spirit of Mexican culture. \n\n\n\nTabriz is a Little Rock tradition with a rich history dating back over fifty years. This fundraising event benefits the Museum\, allowing generations of families and friends to enjoy the best performing and visual arts programs in the state. \n\n\n\nDo not miss Tabriz as we toast to this legacy and look ahead to a bright and art-filled future! \n\n\n\nThis year’s gala is co-chaired by Mary Olive and John Stephens. \n\n\n\n\n\n 
URL:https://arkmfa.org/event/tabriz-gala-apr-5/
CATEGORIES:Adults,Special Events
ATTACH;FMTTYPE=image/jpeg:https://arkmfa.org/wp-content/uploads/2025/09/cultural-living-room-evening-4x3-1.jpg
END:VEVENT
BEGIN:VEVENT
DTSTART;TZID=America/Chicago:20250409T170000
DTEND;TZID=America/Chicago:20250409T200000
DTSTAMP:20260421T135315
CREATED:20251001T221233Z
LAST-MODIFIED:20251031T140542Z
UID:10001167-1744218000-1744228800@arkmfa.org
SUMMARY:AMFA Art Salon
DESCRIPTION:Great artistic minds come together during a social gathering inspired by 20th-century salons in the era of Rivera’s Paris. Full of creative exchange and open dialogue\, these intimate and exciting spaces once invited artists and philosophers alike to debate and dine as one – but now\, you get to join in on the fun.  \nTwo of AMFA’s Windgate Art School instructors specializing in different disciplines are paired together each evening to discuss their artistic inspirations and creative processes\, offering guests an opportunity to engage in passionate discussions and gain new perspectives and philosophies on art. \nThis evening’s event explores glass and woodworking – we hope to see you there! \n\nAMFA Art Salon is supported in part by the Alice L. Walton Foundation and the Windgate Foundation. \nRivera’s Paris is supported in part by the Arkansas Museum of Fine Arts Foundation with additional support from the Robert Lehman Foundation. \nThis exhibition is organized by the Arkansas Museum of Fine Arts. \nThe Windgate Art School is generously supported by the Windgate Foundation with additional support from Sherry Worthen in memory of George Worthen. \nWindgate Art School’s Reduced Tuition Program is supported by Michael Laughter. Reduced tuition is automatically applied to all classes through 2025. \nImage courtesy of Jason Masters. \n 
URL:https://arkmfa.org/event/amfa-art-salon-apr-9/
CATEGORIES:Adults,Special Events
ATTACH;FMTTYPE=image/jpeg:https://arkmfa.org/wp-content/uploads/2025/09/AMFA-Art-Salon-4x3-Option-1.jpg
END:VEVENT
BEGIN:VEVENT
DTSTART;TZID=America/Chicago:20250409T180000
DTEND;TZID=America/Chicago:20250409T210000
DTSTAMP:20260421T135315
CREATED:20251001T221330Z
LAST-MODIFIED:20251103T194845Z
UID:10001300-1744221600-1744232400@arkmfa.org
SUMMARY:Drop-In Printmaking
DESCRIPTION:Experiment with printmaking during this three-hour drop-in experience at AMFA’s Windgate Art School. Open to beginner and experienced artists alike\, it’s a great way to learn a new art form or work independently on your own projects. \nAn instructor will moderate the session and be available for critiques and questions upon request. \nStudents are encouraged to bring their own materials or purchase materials from the AMFA Museum Store. Recommended materials are a carving block\, five-piece cutters and stamp carving tool\, and high-quality paper. Basic printmaking materials will also be available. \n\nThe Windgate Art School is generously supported by the Windgate Foundation with additional support from Sherry Worthen in memory of George Worthen. \nWindgate Art School’s Reduced Tuition Program is supported by Michael Laughter. Reduced tuition is automatically applied to all classes through 2025. \nPhoto by Rachel Cobler. \n 
URL:https://arkmfa.org/event/drop-in-printmaking-apr-9/
CATEGORIES:Adults,Art School
ATTACH;FMTTYPE=image/jpeg:https://arkmfa.org/wp-content/uploads/2025/09/Drop-In-Printmaking-4x3-1.jpg
END:VEVENT
BEGIN:VEVENT
DTSTART;TZID=America/Chicago:20250410T193000
DTEND;TZID=America/Chicago:20250410T210000
DTSTAMP:20260421T135315
CREATED:20251001T221022Z
LAST-MODIFIED:20251001T221022Z
UID:10000896-1744313400-1744318800@arkmfa.org
SUMMARY:Concert Series: The Love Light Orchestra featuring John Németh
DESCRIPTION:The Love Light Orchestra\, formed in 2016\, draws inspiration from the grand\, orchestral blues sound of mid-20th century Memphis legends like B.B. King and Bobby Bland. While paying homage to this era\, the orchestra also embodies the spirit of the present\, offering a blend of down-home musicality and sophistication reminiscent of packed nightclubs of yesteryears. \nLed by trumpeter Marc Franklin\, guitarist Joe Restivo\, and vocalist John Nemeth\, the ensemble has garnered praise for its immersive performances\, capturing the essence of Memphis’ influential jazz and blues scene. Their debut studio album\, Leave the Light On\, showcases the collective’s dedication over three years\, navigating busy schedules and the challenges of a global health crisis. \nWith the release of their sophomore album\, the orchestra refines its sound\, presenting mostly original tunes that highlight their veteran musicianship while looking toward the future. The Love Light Orchestra balances a reverence for the past with a forward-thinking outlook\, solidifying their place in the contemporary blues landscape. \n\n\nPhoto courtesy of the artist. \n\n\n\n\nWEBSITE\n\n\n\nFACEBOOK\n\n\n\nINSTAGRAM\n\n\n\nSPOTIFY\n\n\n\n\n\nThe 2024-2025 Concert Series is supported by Saracen Casino Resort.
URL:https://arkmfa.org/event/concert-series-the-love-light-orchestra-featuring-john-nemeth/
CATEGORIES:Adults,Concerts
ATTACH;FMTTYPE=image/jpeg:https://arkmfa.org/wp-content/uploads/2025/09/love-light-orchestra-4x3-1.jpg
END:VEVENT
BEGIN:VEVENT
DTSTART;TZID=America/Chicago:20250416T180000
DTEND;TZID=America/Chicago:20250416T210000
DTSTAMP:20260421T135315
CREATED:20251001T221330Z
LAST-MODIFIED:20251103T194823Z
UID:10001296-1744826400-1744837200@arkmfa.org
SUMMARY:Drop-In Figure Drawing
DESCRIPTION:Immerse yourself in a three-hour drawing session set in an untutored environment at the Windgate Art School. This dynamic experience will feature a variety of timed poses with draped and undraped models\, providing an excellent opportunity for first-time students and experienced artists alike to hone their skills. \nStudents must be 18+ to attend\, as the session may use the undraped model. An instructor will moderate the session and be available for critiques and questions upon request. \nStudents are encouraged to bring their own materials or purchase materials from the AMFA Museum Store. Recommended materials are graphite drawing pencils\, charcoals\, and a kneaded eraser. Basic drawing materials will also be available. \n\nThe Windgate Art School is generously supported by the Windgate Foundation with additional support from Sherry Worthen in memory of George Worthen. \nWindgate Art School’s Reduced Tuition Program is supported by Michael Laughter. Reduced tuition is automatically applied to all classes through 2025. \nPhoto: Iwan Baan. \n 
URL:https://arkmfa.org/event/drop-in-figure-drawing-apr-16/
CATEGORIES:Adults,Art School
ATTACH;FMTTYPE=image/png:https://arkmfa.org/wp-content/uploads/2025/09/Drop-In-Figure-Drawing-4x3-1.png
END:VEVENT
BEGIN:VEVENT
DTSTART;TZID=America/Chicago:20250418T180000
DTEND;TZID=America/Chicago:20250418T200000
DTSTAMP:20260421T135315
CREATED:20251001T221323Z
LAST-MODIFIED:20251030T195900Z
UID:10001287-1744999200-1745006400@arkmfa.org
SUMMARY:Art for Two: Watercolor Flowers (SOLD OUT)
DESCRIPTION:Learn how to paint flowers with watercolors in simple instructed steps. An experienced instructor will walk you through the painting process and make watercolors easier to use! \nArt For Two is the perfect one-night class experience for two where you each take home a finished piece. Class materials\, a charcuterie board\, and refreshments are included\, no skills required – just come ready to create\, unwind\, and add some artistic spark to your evening. \n\nThe Windgate Art School is generously supported by the Windgate Foundation with additional support from Sherry Worthen in memory of George Worthen. \nWindgate Art School’s Reduced Tuition Program is supported by Michael Laughter. Reduced tuition is automatically applied to all classes through 2025. \nPainting by Sarah Lassiter. \n 
URL:https://arkmfa.org/event/art-for-two-watercolor-flowers-sold-out-apr-18/
CATEGORIES:Adults,Art School
ATTACH;FMTTYPE=image/jpeg:https://arkmfa.org/wp-content/uploads/2025/09/Sarah-Lassister-Watercolor-Workshop-4x3-1.jpg
END:VEVENT
BEGIN:VEVENT
DTSTART;TZID=America/Chicago:20250418T180000
DTEND;TZID=America/Chicago:20250418T210000
DTSTAMP:20260421T135315
CREATED:20251001T221323Z
LAST-MODIFIED:20251029T214834Z
UID:10001280-1744999200-1745010000@arkmfa.org
SUMMARY:Art For Two: Pottery on the Wheel (SOLD OUT)
DESCRIPTION:Learn how to throw a pottery on the wheel! \nArt For Two is the perfect one-night class experience for two where you each take home a finished piece. Class materials\, a charcuterie board\, and refreshments are included\, no skills required – just come ready to create\, unwind\, and add some artistic spark to your evening. \nYour creations will be fired and ready for pick up approximately three weeks after the class. \n\nThe Windgate Art School is generously supported by the Windgate Foundation with additional support from Sherry Worthen in memory of George Worthen. \nWindgate Art School’s Reduced Tuition Program is supported by Michael Laughter. Reduced tuition is automatically applied to all classes through 2025. \n 
URL:https://arkmfa.org/event/art-for-two-pottery-on-the-wheel-sold-out-apr-18/
CATEGORIES:Adults,Art School
ATTACH;FMTTYPE=image/jpeg:https://arkmfa.org/wp-content/uploads/2025/09/Art-for-Two-Pottery-on-the-Wheel.jpg
END:VEVENT
BEGIN:VEVENT
DTSTART;TZID=America/Chicago:20250419T130000
DTEND;TZID=America/Chicago:20250419T160000
DTSTAMP:20260421T135315
CREATED:20251001T221323Z
LAST-MODIFIED:20251102T133138Z
UID:10001289-1745067600-1745078400@arkmfa.org
SUMMARY:"Rivera's Paris" Still Life Workshop
DESCRIPTION:Explore the masterful still life artworks on display in AMFA’s Rivera’s Paris exhibition and draw your own work of art in this hands-on workshop focused on technique and styles. \nBecome inspired by the world of Rivera’s Paris and learn expert drawing techniques to create shapes and depth. Explore how to use visual perspective to make dynamic stylized drawings. \nThis is a perfect one-day workshop for all skill levels and interests to develop abstract and realistic drawing skills! \n\nRivera’s Paris is supported in part by the Arkansas Museum of Fine Arts Foundation with additional support from the Robert Lehman Foundation. \nThis exhibition is organized by the Arkansas Museum of Fine Arts. \nThe Windgate Art School is generously supported by the Windgate Foundation with additional support from Sherry Worthen in memory of George Worthen. \nWindgate Art School’s Reduced Tuition Program is supported by Michael Laughter. Reduced tuition is automatically applied to all classes through 2025. \nImage courtesy of Jason Masters. \n 
URL:https://arkmfa.org/event/riveras-paris-still-life-workshop/
CATEGORIES:Adults,Art School
ATTACH;FMTTYPE=image/jpeg:https://arkmfa.org/wp-content/uploads/2025/09/Riveras-Paris-Still-Life-Workshop-4x3-1.jpg
END:VEVENT
BEGIN:VEVENT
DTSTART;TZID=America/Chicago:20250423T180000
DTEND;TZID=America/Chicago:20250423T210000
DTSTAMP:20260421T135315
CREATED:20251001T221330Z
LAST-MODIFIED:20251103T175222Z
UID:10001301-1745431200-1745442000@arkmfa.org
SUMMARY:Drop-In Printmaking
DESCRIPTION:Experiment with printmaking during this three-hour drop-in experience at AMFA’s Windgate Art School. Open to beginner and experienced artists alike\, it’s a great way to learn a new art form or work independently on your own projects. \nAn instructor will moderate the session and be available for critiques and questions upon request. \nStudents are encouraged to bring their own materials or purchase materials from the AMFA Museum Store. Recommended materials are a carving block\, five-piece cutters and stamp carving tool\, and high-quality paper. Basic printmaking materials will also be available. \n\nThe Windgate Art School is generously supported by the Windgate Foundation with additional support from Sherry Worthen in memory of George Worthen. \nWindgate Art School’s Reduced Tuition Program is supported by Michael Laughter. Reduced tuition is automatically applied to all classes through 2025. \nPhoto by Rachel Cobler. \n 
URL:https://arkmfa.org/event/drop-in-printmaking-apr-23/
CATEGORIES:Adults,Art School
ATTACH;FMTTYPE=image/jpeg:https://arkmfa.org/wp-content/uploads/2025/09/Drop-In-Printmaking-4x3-1.jpg
END:VEVENT
BEGIN:VEVENT
DTSTART;TZID=America/Chicago:20250425T180000
DTEND;TZID=America/Chicago:20250425T200000
DTSTAMP:20260421T135315
CREATED:20251001T221323Z
LAST-MODIFIED:20251001T221323Z
UID:10001294-1745604000-1745611200@arkmfa.org
SUMMARY:Drop-in Demonstration: Wheel Throwing
DESCRIPTION:Learn more about the ceramic techniques taught in AMFA’s Windgate Art School studios and expand your knowledge of working with clay! A knowledgeable ceramic artist will demonstrate various techniques\, offer insights into the creative process\, and discuss finished works made using the potter’s wheel. \nWhether you are new to ceramics or looking to deepen your understanding\, this session provides an engaging opportunity to discuss topics and ask questions in a casual way. \nStop by for a fun and inspiring conversation that will leave you with fresh ideas and techniques to try in your own ceramic practice! \n\nThe Windgate Art School is generously supported by the Windgate Foundation with additional support from Sherry Worthen in memory of George Worthen. \nWindgate Art School’s Reduced Tuition Program is supported by Michael Laughter. Reduced tuition is automatically applied to all classes through 2025. \nImage courtesy of Jason Masters.
URL:https://arkmfa.org/event/drop-in-demonstration-wheel-throwing/
CATEGORIES:Adults,Art School
ATTACH;FMTTYPE=image/jpeg:https://arkmfa.org/wp-content/uploads/2025/09/Wheel-Throwing-Workshop-4x3-1.jpg
END:VEVENT
BEGIN:VEVENT
DTSTART;TZID=America/Chicago:20250426T130000
DTEND;TZID=America/Chicago:20250426T160000
DTSTAMP:20260421T135315
CREATED:20251001T221323Z
LAST-MODIFIED:20251103T175144Z
UID:10001291-1745672400-1745683200@arkmfa.org
SUMMARY:Cubism Painting Workshop
DESCRIPTION:Explore the groundbreaking artwork featured in Rivera’s Paris and immerse yourself in the world of Cubism during this exciting workshop. \nLearn about Cubism and how to deconstruct subjects into geometric shapes and fragmented forms. Using acrylic paint on canvas\, students will experiment with composition\, focusing on line\, shape\, and color to create dynamic\, multi-perspective pieces. \nWhether you are new to Cubism or looking to deepen your understanding\, this class provides a hands-on opportunity to express your own artistic vision through Cubist style. \n\nRivera’s Paris is supported in part by the Arkansas Museum of Fine Arts Foundation with additional support from the Robert Lehman Foundation. \nThis exhibition is organized by the Arkansas Museum of Fine Arts. \nThe Windgate Art School is generously supported by the Windgate Foundation with additional support from Sherry Worthen in memory of George Worthen. \nWindgate Art School’s Reduced Tuition Program is supported by Michael Laughter. Reduced tuition is automatically applied to all classes through 2025. \nImage courtesy of Jason Masters. \n 
URL:https://arkmfa.org/event/cubism-painting-workshop-apr-26/
CATEGORIES:Adults,Art School
ATTACH;FMTTYPE=image/jpeg:https://arkmfa.org/wp-content/uploads/2025/09/cubism-painting-workshop-4x3-1.jpg
END:VEVENT
BEGIN:VEVENT
DTSTART;TZID=America/Chicago:20250427T130000
DTEND;TZID=America/Chicago:20250427T170000
DTSTAMP:20260421T135315
CREATED:20251001T221323Z
LAST-MODIFIED:20251001T221323Z
UID:10001290-1745758800-1745773200@arkmfa.org
SUMMARY:Metal Houseplant Stake Workshop
DESCRIPTION:Add a touch of personality to your plants in this fun and creative workshop! \nLearn to design and sculpt unique houseplant stakes using vibrant polymer clay. Explore techniques for shaping\, detailing\, and curing polymer clay to craft a one-of-a-kind accessory for your favorite greenery. \nPerfect for beginners and experienced crafters alike\, this workshop provides all materials needed to create your plant stake masterpiece. Come ready to play with clay and leave with a functional and decorative piece to brighten up your plants. \n\nThe Windgate Art School is generously supported by the Windgate Foundation with additional support from Sherry Worthen in memory of George Worthen. \nWindgate Art School’s Reduced Tuition Program is supported by Michael Laughter. Reduced tuition is automatically applied to all classes through 2025.
URL:https://arkmfa.org/event/metal-houseplant-stake-workshop/
CATEGORIES:Adults,Art School
ATTACH;FMTTYPE=image/jpeg:https://arkmfa.org/wp-content/uploads/2025/09/Houseplant-Stake-Workshop-4x3-1.jpg
END:VEVENT
BEGIN:VEVENT
DTSTART;TZID=America/Chicago:20250430T180000
DTEND;TZID=America/Chicago:20250430T210000
DTSTAMP:20260421T135315
CREATED:20251001T221330Z
LAST-MODIFIED:20251103T175025Z
UID:10001297-1746036000-1746046800@arkmfa.org
SUMMARY:Drop-In Figure Drawing
DESCRIPTION:Immerse yourself in a three-hour drawing session set in an untutored environment at the Windgate Art School. This dynamic experience will feature a variety of timed poses with draped and undraped models\, providing an excellent opportunity for first-time students and experienced artists alike to hone their skills. \nStudents must be 18+ to attend\, as the session may use the undraped model. An instructor will moderate the session and be available for critiques and questions upon request. \nStudents are encouraged to bring their own materials or purchase materials from the AMFA Museum Store. Recommended materials are graphite drawing pencils\, charcoals\, and a kneaded eraser. Basic drawing materials will also be available. \n\nThe Windgate Art School is generously supported by the Windgate Foundation with additional support from Sherry Worthen in memory of George Worthen. \nWindgate Art School’s Reduced Tuition Program is supported by Michael Laughter. Reduced tuition is automatically applied to all classes through 2025. \nPhoto: Iwan Baan. \n 
URL:https://arkmfa.org/event/drop-in-figure-drawing-apr-30/
CATEGORIES:Adults,Art School
ATTACH;FMTTYPE=image/png:https://arkmfa.org/wp-content/uploads/2025/09/Drop-In-Figure-Drawing-4x3-1.png
END:VEVENT
END:VCALENDAR