BEGIN:VCALENDAR
VERSION:2.0
PRODID:-//Arkansas Museum of Fine Arts - ECPv6.15.20//NONSGML v1.0//EN
CALSCALE:GREGORIAN
METHOD:PUBLISH
X-ORIGINAL-URL:https://arkmfa.org
X-WR-CALDESC:Events for Arkansas Museum of Fine Arts
REFRESH-INTERVAL;VALUE=DURATION:PT1H
X-Robots-Tag:noindex
X-PUBLISHED-TTL:PT1H
BEGIN:VTIMEZONE
TZID:America/Chicago
BEGIN:DAYLIGHT
TZOFFSETFROM:-0600
TZOFFSETTO:-0500
TZNAME:CDT
DTSTART:20230312T080000
END:DAYLIGHT
BEGIN:STANDARD
TZOFFSETFROM:-0500
TZOFFSETTO:-0600
TZNAME:CST
DTSTART:20231105T070000
END:STANDARD
BEGIN:DAYLIGHT
TZOFFSETFROM:-0600
TZOFFSETTO:-0500
TZNAME:CDT
DTSTART:20240310T080000
END:DAYLIGHT
BEGIN:STANDARD
TZOFFSETFROM:-0500
TZOFFSETTO:-0600
TZNAME:CST
DTSTART:20241103T070000
END:STANDARD
BEGIN:DAYLIGHT
TZOFFSETFROM:-0600
TZOFFSETTO:-0500
TZNAME:CDT
DTSTART:20250309T080000
END:DAYLIGHT
BEGIN:STANDARD
TZOFFSETFROM:-0500
TZOFFSETTO:-0600
TZNAME:CST
DTSTART:20251102T070000
END:STANDARD
END:VTIMEZONE
BEGIN:VEVENT
DTSTART;TZID=America/Chicago:20241119T140000
DTEND;TZID=America/Chicago:20241119T160000
DTSTAMP:20260423T120733
CREATED:20251001T221128Z
LAST-MODIFIED:20251028T164639Z
UID:10001022-1732024800-1732032000@arkmfa.org
SUMMARY:Art Together for Guests with Dementia and Their Caregivers
DESCRIPTION:Drop in and discover AMFA with a docent-led tour through the galleries! \nLed by trained docents and specialists\, this tour welcomes guests living with dementia or Alzheimer’s – along with their caregivers and family members – to connect and use art to build cognitive skills. The afternoon concludes with a studio workshop with art educators who lead artmaking activities that build creativity and encourage play. \nFor ease of accessibility\, guests are encouraged to arrive early\, park on Crescent Drive off Ninth Street on the north side of the Museum\, and enter through the Courtyard Entrance. \nAvailability is limited\, so please register yourself and your loved one as soon as possible. \n\nArt Together: Guests with Dementia and their Caregivers is a collaboration with Alzheimer’s Arkansas and is supported by Judy C Thompson Rev. Trust \n 
URL:https://arkmfa.org/event/art-together-for-guests-with-dementia-and-their-caregivers-nov-19/
CATEGORIES:Accessible,Tours
ATTACH;FMTTYPE=image/jpeg:https://arkmfa.org/wp-content/uploads/2025/09/Art-Together-Dementia-4x3-1.jpg
END:VEVENT
END:VCALENDAR