BEGIN:VCALENDAR
VERSION:2.0
PRODID:-//Arkansas Museum of Fine Arts - ECPv6.15.20//NONSGML v1.0//EN
CALSCALE:GREGORIAN
METHOD:PUBLISH
X-WR-CALNAME:Arkansas Museum of Fine Arts
X-ORIGINAL-URL:https://arkmfa.org
X-WR-CALDESC:Events for Arkansas Museum of Fine Arts
REFRESH-INTERVAL;VALUE=DURATION:PT1H
X-Robots-Tag:noindex
X-PUBLISHED-TTL:PT1H
BEGIN:VTIMEZONE
TZID:America/Chicago
BEGIN:DAYLIGHT
TZOFFSETFROM:-0600
TZOFFSETTO:-0500
TZNAME:CDT
DTSTART:20240310T080000
END:DAYLIGHT
BEGIN:STANDARD
TZOFFSETFROM:-0500
TZOFFSETTO:-0600
TZNAME:CST
DTSTART:20241103T070000
END:STANDARD
BEGIN:DAYLIGHT
TZOFFSETFROM:-0600
TZOFFSETTO:-0500
TZNAME:CDT
DTSTART:20250309T080000
END:DAYLIGHT
BEGIN:STANDARD
TZOFFSETFROM:-0500
TZOFFSETTO:-0600
TZNAME:CST
DTSTART:20251102T070000
END:STANDARD
BEGIN:DAYLIGHT
TZOFFSETFROM:-0600
TZOFFSETTO:-0500
TZNAME:CDT
DTSTART:20260308T080000
END:DAYLIGHT
BEGIN:STANDARD
TZOFFSETFROM:-0500
TZOFFSETTO:-0600
TZNAME:CST
DTSTART:20261101T070000
END:STANDARD
END:VTIMEZONE
BEGIN:VEVENT
DTSTART;TZID=America/Chicago:20251101T100000
DTEND;TZID=America/Chicago:20251101T130000
DTSTAMP:20260421T004052
CREATED:20251001T221509Z
LAST-MODIFIED:20251028T234459Z
UID:10001571-1761991200-1762002000@arkmfa.org
SUMMARY:Creative Saturdays
DESCRIPTION:Inspired by the rooted traditions of Día de los Muertos\, create bright and beautiful paper marigolds. Marigolds are used to honor loved ones through their vibrant color and symbolic meaning. Craft your own blossoms to take home or add to a community altar. \nAt Creative Saturdays\, guests of all ages and abilities are welcome. Just drop in and enjoy a free\, family-friendly art-making activity in AMFA’s Windgate Art School – no registration required! \n\nCreative Saturdays are supported in part by the Alice L. Walton Foundation. \nThe Windgate Art School is generously supported by the Windgate Foundation with additional support from Sherry Worthen in memory of George Worthen. \nWindgate Art School’s Reduced Tuition Program is supported in part by Michael Laughter. Reduced tuition is automatically applied on all classes through 2025. \nImage courtesy of Jason Masters. \n 
URL:https://arkmfa.org/event/creative-saturdays-nov-1/
CATEGORIES:Youth & Families
ATTACH;FMTTYPE=image/jpeg:https://arkmfa.org/wp-content/uploads/2025/09/creative-saturdays-summer-2025-v2.jpg
END:VEVENT
BEGIN:VEVENT
DTSTART;TZID=America/Chicago:20251101T100000
DTEND;TZID=America/Chicago:20251101T140000
DTSTAMP:20260421T004052
CREATED:20251001T221431Z
LAST-MODIFIED:20251110T165716Z
UID:10001468-1761991200-1762005600@arkmfa.org
SUMMARY:Nevelson-Inspired Sculpture Workshop (SOLD OUT)
DESCRIPTION:Create a unique\, free-standing clay sculpture inspired by the work of Louise Nevelson on view in AMFA’s Architects of Being exhibition. Students will visit the AMFA galleries to explore artworks\, gathering ideas for incorporating shapes and form into a sculptural design. \nUsing a special black clay for this project\, ceramic artist India Childress will lead you through manipulating the clay with slabs to achieve an exciting and complete artwork. This workshop offers a unique opportunity to draw inspiration from a rich collection while learning about and developing your ceramic techniques. \n\nArchitects of Being: Louise Nevelson and Esphyr Slobodkina is supported in part by the Arkansas Museum of Fine Arts Foundation\, National Endowment for the Arts\, Alan DuBois Fund for Contemporary Craft\, Ellsworth Kelly Foundation\, Anita Davis\, and The Jewish Federation of Arkansas. \nThe catalogue for Architects of Being: Louise Nevelson and Esphyr Slobodkina is supported in part by the Wyeth Foundation for American Art. \n\n\n\n\n\n\n\n  \nThis exhibition is organized by the Arkansas Museum of Fine Arts. \nThe Windgate Art School is generously supported by the Windgate Foundation with additional support from Sherry Worthen in memory of George Worthen. \nWindgate Art School’s Reduced Tuition Program is supported by Michael Laughter. Reduced tuition is automatically applied to all classes through 2025. \nARTWORK: Louise Nevelson (Kyiv\, Ukraine (formerly Russian Empire)\, 1899 – 1988\, New York\, New York)\, Tide Garden IV\, 1964\, painted and assembled wood construction\, 91 x 140 x 10 in.\, Arkansas Museum of Fine Arts Foundation Collection: Gift of Sidney Singer\, Sr.\, Stephens Inc.\, Gerald Cramer\, Martin Oppenheimer\, Edward Rosenthal\, and John Rosenthal. 1983.030. \n\n\n\n\n\n\n\n\n\n 
URL:https://arkmfa.org/event/nevelson-inspired-sculpture-workshop/
CATEGORIES:Adults,Art School
ATTACH;FMTTYPE=image/jpeg:https://arkmfa.org/wp-content/uploads/2025/09/1983.030-Nevelson-small.jpg
END:VEVENT
BEGIN:VEVENT
DTSTART;TZID=America/Chicago:20251101T103000
DTEND;TZID=America/Chicago:20251101T113000
DTSTAMP:20260421T004052
CREATED:20251001T221509Z
LAST-MODIFIED:20251001T221509Z
UID:10001556-1761993000-1761996600@arkmfa.org
SUMMARY:Gallery Tour
DESCRIPTION:Drop in and discover AMFA with a free docent-led tour through the galleries! \nWith this fun\, engaging\, and memorable experience\, guests of all ages are invited to explore the art on view while learning how to interpret and appreciate works of art in various media. \n\nImage courtesy of Jason Masters.
URL:https://arkmfa.org/event/gallery-tour-57/
CATEGORIES:Tours
ATTACH;FMTTYPE=image/jpeg:https://arkmfa.org/wp-content/uploads/2025/09/Gallery-Tours-Summer-2025-4x3-1.jpg
END:VEVENT
BEGIN:VEVENT
DTSTART;TZID=America/Chicago:20251101T110000
DTEND;TZID=America/Chicago:20251101T123000
DTSTAMP:20260421T004052
CREATED:20251001T221523Z
LAST-MODIFIED:20251028T180919Z
UID:10001601-1761994800-1762000200@arkmfa.org
SUMMARY:Flurffy’s Tales for Sale
DESCRIPTION:Flurffy and his fabulous friends are hosting a dazzling fashion show to raise money for charity—but disaster strikes when their costumes mysteriously vanish! Were they stolen… or did they sashay away on their own? \nTo crack the case\, the gang must dive into a whirlwind of storytelling adventures—acting out wild\, whimsical tales in hopes of uncovering clues and retrieving their lost looks. \nJoin Flurffy\, AMFA’s beloved pink puppet dog\, in this all-new original production full of mystery\, mischief\, and unexpected twists. With themes of teamwork and friendship taking center stage\, Flurffy’s Tales for Sales is bursting with theatrical fun for audiences of all ages. \nCome dressed in your favorite spooky costume and enjoy a special Halloween-themed artmaking activity before the show! \nThe show’s runtime is approximately 30 minutes\, with showtimes starting at 11:00 a.m. and 12:00 p.m. \n\nFlurffy’s Tales for Sale is supported in part by the Alice L. Walton Foundation. \nChildren’s Theatre and Performing Arts programs are supported in part by the Shubert Foundation and the Alice L. Walton Foundation. \n 
URL:https://arkmfa.org/event/flurffys-tales-for-sale-nov-1/
CATEGORIES:Children's Theatre,Youth & Families
ATTACH;FMTTYPE=image/jpeg:https://arkmfa.org/wp-content/uploads/2025/09/Flurffys-Tales-for-Sales-w-background.jpg
END:VEVENT
END:VCALENDAR