BEGIN:VCALENDAR
VERSION:2.0
PRODID:-//Arkansas Museum of Fine Arts - ECPv6.15.20//NONSGML v1.0//EN
CALSCALE:GREGORIAN
METHOD:PUBLISH
X-WR-CALNAME:Arkansas Museum of Fine Arts
X-ORIGINAL-URL:https://arkmfa.org
X-WR-CALDESC:Events for Arkansas Museum of Fine Arts
REFRESH-INTERVAL;VALUE=DURATION:PT1H
X-Robots-Tag:noindex
X-PUBLISHED-TTL:PT1H
BEGIN:VTIMEZONE
TZID:America/Chicago
BEGIN:DAYLIGHT
TZOFFSETFROM:-0600
TZOFFSETTO:-0500
TZNAME:CDT
DTSTART:20240310T080000
END:DAYLIGHT
BEGIN:STANDARD
TZOFFSETFROM:-0500
TZOFFSETTO:-0600
TZNAME:CST
DTSTART:20241103T070000
END:STANDARD
BEGIN:DAYLIGHT
TZOFFSETFROM:-0600
TZOFFSETTO:-0500
TZNAME:CDT
DTSTART:20250309T080000
END:DAYLIGHT
BEGIN:STANDARD
TZOFFSETFROM:-0500
TZOFFSETTO:-0600
TZNAME:CST
DTSTART:20251102T070000
END:STANDARD
BEGIN:DAYLIGHT
TZOFFSETFROM:-0600
TZOFFSETTO:-0500
TZNAME:CDT
DTSTART:20260308T080000
END:DAYLIGHT
BEGIN:STANDARD
TZOFFSETFROM:-0500
TZOFFSETTO:-0600
TZNAME:CST
DTSTART:20261101T070000
END:STANDARD
END:VTIMEZONE
BEGIN:VEVENT
DTSTART;TZID=America/Chicago:20251025T080000
DTEND;TZID=America/Chicago:20251025T170000
DTSTAMP:20260423T234555
CREATED:20251027T185432Z
LAST-MODIFIED:20251103T172435Z
UID:10004062-1761379200-1761411600@arkmfa.org
SUMMARY:Flurffy’s Tales for Sale
DESCRIPTION:Flurffy and his fabulous friends are hosting a dazzling fashion show to raise money for charity—but disaster strikes when their costumes mysteriously vanish! Were they stolen… or did they sashay away on their own? To crack the case\, the gang must dive into a whirlwind of storytelling adventures—acting out wild\, whimsical tales in hopes of uncovering clues and retrieving their lost looks. Join Flurffy\, AMFA’s beloved pink puppet dog\, in this all-new original production full of mystery\, mischief\, and unexpected twists. With themes of teamwork and friendship taking center stage\, Flurffy’s Tales for Sales is bursting with theatrical fun for audiences of all ages. Come dressed in your favorite spooky costume and enjoy a special Halloween-themed artmaking activity before the show! The show’s runtime is approximately 30 minutes\, with showtimes starting at 11:00 a.m. and 12:00 p.m. \n\nFlurffy’s Tales for Sale is supported in part by the Alice L. Walton Foundation. \nChildren’s Theatre and Performing Arts programs are supported in part by the Shubert Foundation and the Alice L. Walton Foundation. \n 
URL:https://arkmfa.org/event/flurffys-tales-for-sale-oct-25/
CATEGORIES:Children's Theatre,Youth & Families
ATTACH;FMTTYPE=image/jpeg:https://arkmfa.org/wp-content/uploads/2025/10/Flurffys-Tales-for-Sales-w-background.jpg
END:VEVENT
BEGIN:VEVENT
DTSTART;TZID=America/Chicago:20251025T100000
DTEND;TZID=America/Chicago:20251025T130000
DTSTAMP:20260423T234555
CREATED:20251001T221431Z
LAST-MODIFIED:20251027T174804Z
UID:10001472-1761386400-1761397200@arkmfa.org
SUMMARY:Experimental Drawing Workshop
DESCRIPTION:Explore drawing in new and imaginative ways with renowned artist Clark Valentine. Learn to build a strong foundation in drawing fundamentals\, such as line\, shape\, value\, and composition\, while experimenting with a wide range of materials and techniques. \nThrough mixed media approaches including ink\, charcoal\, collage\, and unconventional tools\, push the boundaries of traditional drawing. This workshop is perfect to develop your skills\, spark creativity\, and dive deep into expressive and meditative mark-making. \n\nThe Windgate Art School is generously supported by the Windgate Foundation with additional support from Sherry Worthen in memory of George Worthen. \nWindgate Art School’s Reduced Tuition Program is supported by Michael Laughter. Reduced tuition is automatically applied to all classes through 2025. \nArtwork by Clark Valentine. \n 
URL:https://arkmfa.org/event/experimental-drawing-workshop/
CATEGORIES:Adults,Art School
ATTACH;FMTTYPE=image/jpeg:https://arkmfa.org/wp-content/uploads/2025/09/Beginner-Intermediate-Drawing-Workshop-Clark-Valentine-4x3-1.jpg
END:VEVENT
BEGIN:VEVENT
DTSTART;TZID=America/Chicago:20251025T100000
DTEND;TZID=America/Chicago:20251025T130000
DTSTAMP:20260423T234555
CREATED:20251001T221509Z
LAST-MODIFIED:20251028T234508Z
UID:10001570-1761386400-1761397200@arkmfa.org
SUMMARY:Creative Saturdays
DESCRIPTION:Inspired by AMFA’s exhibition Uncommon Threads in Contemporary Art\, create simple\, colorful weavings using a variety of fabrics and art materials. Explore texture and patterns as you weave together your own unique piece that celebrates the art of fibers. \nAt Creative Saturdays\, guests of all ages and abilities are welcome. Just drop in and enjoy a free\, family-friendly art-making activity in AMFA’s Windgate Art School – no registration required! \n\nCreative Saturdays are supported in part by the Alice L. Walton Foundation. \nUncommon Threads in Contemporary Art is supported in part by the Alan DuBois Fund for Contemporary Craft. \nThis exhibition is organized by the Arkansas Museum of Fine Arts. \nThe Windgate Art School is generously supported by the Windgate Foundation with additional support from Sherry Worthen in memory of George Worthen. \nWindgate Art School’s Reduced Tuition Program is supported in part by Michael Laughter. Reduced tuition is automatically applied on all classes through 2025. \nImage courtesy of Jason Masters. \n 
URL:https://arkmfa.org/event/creative-saturdays-oct-25/
CATEGORIES:Youth & Families
ATTACH;FMTTYPE=image/jpeg:https://arkmfa.org/wp-content/uploads/2025/09/creative-saturdays-summer-2025-v2.jpg
END:VEVENT
BEGIN:VEVENT
DTSTART;TZID=America/Chicago:20251025T103000
DTEND;TZID=America/Chicago:20251025T113000
DTSTAMP:20260423T234555
CREATED:20251001T221523Z
LAST-MODIFIED:20251027T174146Z
UID:10001603-1761388200-1761391800@arkmfa.org
SUMMARY:Exhibition Tour: Uncommon Threads in Contemporary Art
DESCRIPTION:Take a docent-led tour of AMFA’s new exhibition Uncommon Threads in Contemporary Art\, a showcase of work from the AMFA Foundation Collection by contemporary artists who sew or incorporate fibers into their drawings\, photographs\, and sculptures. \nEnjoy a guided look at several carefully selected works on view\, gain a richer connection to the exhibition\, and leave with a new understanding of the Museum’s fiber art collection. \n\nExhibition Tour: Uncommon Threads in Contemporary Art is supported in part by Fleur S. Bresler. \nUncommon Threads in Contemporary Art is supported in part by the Alan DuBois Fund for Contemporary Craft.Uncommon Threads in Contemporary Art is supported in part by the Alan DuBois Fund for Contemporary Craft. \nThis exhibition is organized by the Arkansas Museum of Fine Arts. \nARTWORK: Howardena Pindell (Philadelphia\, Pennsylvania\, 1943 – )\, Untitled #15 (detail)\, 2003\, etching\, punched papers\, spray adhesive\, and thread\, 9 x 7 x 1/2 in.\, Arkansas Museum of Fine Arts Foundation Collection: Purchased with funds from the Elizabeth Fletcher Dishongh Charitable Trust. Photography by Edward C. Robison III. \n 
URL:https://arkmfa.org/event/exhibition-tour-uncommon-threads-in-contemporary-art/
CATEGORIES:Tours
ATTACH;FMTTYPE=image/jpeg:https://arkmfa.org/wp-content/uploads/2025/09/2006.004-Pindell-photo-by-Edward-C.-Robison-III-4x3-detail.jpg
END:VEVENT
BEGIN:VEVENT
DTSTART;TZID=America/Chicago:20251025T103000
DTEND;TZID=America/Chicago:20251025T120000
DTSTAMP:20260423T234555
CREATED:20251001T221509Z
LAST-MODIFIED:20251008T202142Z
UID:10001563-1761388200-1761393600@arkmfa.org
SUMMARY:From the Woods and Gardens of Arkansas: A Conversation and Demonstration with Shane Connolly
DESCRIPTION:Famed floral designer Shane Connolly has designed events in countries across the world\, and always with the same aim: to leave the smallest footprint behind and be led by what is local and available. Learn more about his unique approach to sustainable floristry during this exciting on-stage conversation and live floral design demonstration. \n\n\n\nUsing seasonal flowers and foliage from local woods and gardens\, Connolly will bring his inimitable flair to an arrangement inspired by the natural beauty of Arkansas – showcasing his deep respect for nature\, season\, and setting. \n\n\n\nStart your day at AMFA with a complimentary breakfast in the Atrium before the event\, then make a lunch reservation at Park Grill to enjoy a meal full of seasonal flavors and local produce. \n\n\n\nThis programming is provided in partnership with P. Allen Smith’s Moss Mountain Farm and the Little Rock Garden Club. \n\n\n\nAbout Shane Connolly\n\n\n\n\n\n\n\nConnolly is a renowned floral designer and ambassador for sustainable floristry. His clients range from public institutions like the Victoria & Albert Museum\, the Royal Academy of Arts\, and the National Portrait Gallery in London\, to a veritable “who’s who” in British society. \n\n\n\nHe is perhaps best known for his public work for The Royal Family. His most recent commission was The Coronation of Their Majesties The King and Queen at Westminster Abbey in 2023. He also designed the flowers for their marriage at Windsor Castle in 2005 and for the wedding of The Prince and Princess of Wales in 2011. \n\n\n\nHe has been awarded the Royal Warrants of Appointment to both His Majesty The King and Her Majesty The Queen in 2024 and a Member of the Order of the British Empire (MBE) for services to sustainable floristry in 2025. He has written five books and teaches his approach to flower design all over the world\, with its roots and ethos firmly in sustainability. \n\n\n\nFrom the Woods and Gardens of Arkansas: A Conversation and Demonstration is supported in part by Barbara Rogers Hoover\, Belinda Shults\, and Hadidi Rug Gallery. This programming is provided in partnership with P. Allen Smith’s Moss Mountain Farm and the Little Rock Garden Club. \n\n\n\n\n\n 
URL:https://arkmfa.org/event/from-the-woods-and-gardens-of-arkansas-a-conversation-and-demonstration-with-shane-connolly/
CATEGORIES:Adults,Talks & Lectures
ATTACH;FMTTYPE=image/jpeg:https://arkmfa.org/wp-content/uploads/2025/10/Shane-Connolly-workshop-4x3-1.jpg
END:VEVENT
BEGIN:VEVENT
DTSTART;TZID=America/Chicago:20251025T140000
DTEND;TZID=America/Chicago:20251025T170000
DTSTAMP:20260423T234555
CREATED:20251001T221509Z
LAST-MODIFIED:20251027T173806Z
UID:10001566-1761400800-1761411600@arkmfa.org
SUMMARY:Seasonal Floral Design Masterclass with Shane Connolly (SOLD OUT)
DESCRIPTION:Join royal floral designer Shane Connolly as he demonstrates his sustainable approach to floral design\, offering inspiration and guidance to help you create your own seasonal arrangements with confidence. \n\n\n\nThis programming is provided in partnership with P. Allen Smith’s Moss Mountain Farm and the Little Rock Garden Club. \n\n\n\nAbout Shane Connolly\n\n\n\n\n\n\n\nConnolly is a renowned floral designer and ambassador for sustainable floristry. His clients range from public institutions like the Victoria & Albert Museum\, the Royal Academy of Arts\, and the National Portrait Gallery in London\, to a veritable “who’s who” in British society. \n\n\n\nHe is perhaps best known for his public work for The Royal Family. His most recent commission was The Coronation of Their Majesties The King and Queen at Westminster Abbey in 2023. He also designed the flowers for their marriage at Windsor Castle in 2005 and for the wedding of The Prince and Princess of Wales in 2011. \n\n\n\nHe has been awarded the Royal Warrants of Appointment to both His Majesty The King and Her Majesty The Queen in 2024 and a Member of the Order of the British Empire (MBE) for services to sustainable floristry in 2025. He has written five books and teaches his approach to flower design all over the world\, with its roots and ethos firmly in sustainability. \n\n\n\n\n\n 
URL:https://arkmfa.org/event/seasonal-floral-design-masterclass-with-shane-connolly/
CATEGORIES:Adults,Art School,Special Events
ATTACH;FMTTYPE=image/jpeg:https://arkmfa.org/wp-content/uploads/2025/10/Shane-Connolly-demo-4x3-1.jpg
END:VEVENT
END:VCALENDAR