BEGIN:VCALENDAR
VERSION:2.0
PRODID:-//Arkansas Museum of Fine Arts - ECPv6.15.20//NONSGML v1.0//EN
CALSCALE:GREGORIAN
METHOD:PUBLISH
X-WR-CALNAME:Arkansas Museum of Fine Arts
X-ORIGINAL-URL:https://arkmfa.org
X-WR-CALDESC:Events for Arkansas Museum of Fine Arts
REFRESH-INTERVAL;VALUE=DURATION:PT1H
X-Robots-Tag:noindex
X-PUBLISHED-TTL:PT1H
BEGIN:VTIMEZONE
TZID:America/Chicago
BEGIN:DAYLIGHT
TZOFFSETFROM:-0600
TZOFFSETTO:-0500
TZNAME:CDT
DTSTART:20240310T080000
END:DAYLIGHT
BEGIN:STANDARD
TZOFFSETFROM:-0500
TZOFFSETTO:-0600
TZNAME:CST
DTSTART:20241103T070000
END:STANDARD
BEGIN:DAYLIGHT
TZOFFSETFROM:-0600
TZOFFSETTO:-0500
TZNAME:CDT
DTSTART:20250309T080000
END:DAYLIGHT
BEGIN:STANDARD
TZOFFSETFROM:-0500
TZOFFSETTO:-0600
TZNAME:CST
DTSTART:20251102T070000
END:STANDARD
BEGIN:DAYLIGHT
TZOFFSETFROM:-0600
TZOFFSETTO:-0500
TZNAME:CDT
DTSTART:20260308T080000
END:DAYLIGHT
BEGIN:STANDARD
TZOFFSETFROM:-0500
TZOFFSETTO:-0600
TZNAME:CST
DTSTART:20261101T070000
END:STANDARD
END:VTIMEZONE
BEGIN:VEVENT
DTSTART;TZID=America/Chicago:20251011T100000
DTEND;TZID=America/Chicago:20251011T130000
DTSTAMP:20260422T113815
CREATED:20251001T221509Z
LAST-MODIFIED:20251028T234743Z
UID:10001569-1760176800-1760187600@arkmfa.org
SUMMARY:Creative Saturdays
DESCRIPTION:Inspired by the Ballet Arkansas’s The Legend of Sleepy Hollow\, create dramatic cut-paper silhouettes. Use bold shapes and striking contrasts to capture the mysterious and enchanting mood of the ballet in your unique artwork. \nAt Creative Saturdays\, guests of all ages and abilities are welcome. Just drop in and enjoy a free\, family-friendly art-making activity in AMFA’s Windgate Art School – no registration required! \n\nCreative Saturdays are supported in part by the Alice L. Walton Foundation. \nThe Windgate Art School is generously supported by the Windgate Foundation with additional support from Sherry Worthen in memory of George Worthen. \nWindgate Art School’s Reduced Tuition Program is supported in part by Michael Laughter. Reduced tuition is automatically applied on all classes through 2025. \nImage courtesy of Jason Masters. \n 
URL:https://arkmfa.org/event/creative-saturdays-oct-11/
CATEGORIES:Youth & Families
ATTACH;FMTTYPE=image/jpeg:https://arkmfa.org/wp-content/uploads/2025/09/creative-saturdays-summer-2025-v2.jpg
END:VEVENT
BEGIN:VEVENT
DTSTART;TZID=America/Chicago:20251011T103000
DTEND;TZID=America/Chicago:20251011T113000
DTSTAMP:20260422T113815
CREATED:20251001T221509Z
LAST-MODIFIED:20251103T172648Z
UID:10001555-1760178600-1760182200@arkmfa.org
SUMMARY:Gallery Tour
DESCRIPTION:Drop in and discover AMFA with a free docent-led tour through the galleries! \nWith this fun\, engaging\, and memorable experience\, guests of all ages are invited to explore the art on view while learning how to interpret and appreciate works of art in various media. \n\nImage courtesy of Jason Masters. \n 
URL:https://arkmfa.org/event/gallery-tour-oct-11/
CATEGORIES:Tours
ATTACH;FMTTYPE=image/jpeg:https://arkmfa.org/wp-content/uploads/2025/09/Gallery-Tours-Summer-2025-4x3-1.jpg
END:VEVENT
BEGIN:VEVENT
DTSTART;TZID=America/Chicago:20251011T103000
DTEND;TZID=America/Chicago:20251011T114500
DTSTAMP:20260422T113815
CREATED:20251001T221516Z
LAST-MODIFIED:20251103T172632Z
UID:10001593-1760178600-1760183100@arkmfa.org
SUMMARY:The Legend of Sleepy Hollow
DESCRIPTION:Step into a shadowy world where superstition reigns and every rustle of autumn leaves hints at danger. With sweeping visuals\, hauntingly beautiful movement\, and a powerful score\, Sleepy Hollow transforms a timeless American ghost story into an edge-of-your-seat ballet experience. \nBallet Arkansas’s riveting adaptation of Washington Irving’s legendary tale blends bold choreography with historical drama. From the mysterious allure of the Headless Horseman to the richly atmospheric staging\, this production delivers thrills\, elegance\, and spine-tingling storytelling like no other. \n\n\n\n\n\n\n\n\n\n 
URL:https://arkmfa.org/event/the-legend-of-sleepy-hollow-oct-11/
CATEGORIES:Adults,Ballet
ATTACH;FMTTYPE=image/jpeg:https://arkmfa.org/wp-content/uploads/2025/09/Sleepy-Hollow-800x600-1.jpg
END:VEVENT
BEGIN:VEVENT
DTSTART;TZID=America/Chicago:20251011T140000
DTEND;TZID=America/Chicago:20251011T151500
DTSTAMP:20260422T113815
CREATED:20251001T221523Z
LAST-MODIFIED:20251103T172626Z
UID:10001594-1760191200-1760195700@arkmfa.org
SUMMARY:The Legend of Sleepy Hollow
DESCRIPTION:Step into a shadowy world where superstition reigns and every rustle of autumn leaves hints at danger. With sweeping visuals\, hauntingly beautiful movement\, and a powerful score\, Sleepy Hollow transforms a timeless American ghost story into an edge-of-your-seat ballet experience. \nBallet Arkansas’s riveting adaptation of Washington Irving’s legendary tale blends bold choreography with historical drama. From the mysterious allure of the Headless Horseman to the richly atmospheric staging\, this production delivers thrills\, elegance\, and spine-tingling storytelling like no other. \n 
URL:https://arkmfa.org/event/the-legend-of-sleepy-hollow-oct-11/
CATEGORIES:Adults,Ballet
ATTACH;FMTTYPE=image/jpeg:https://arkmfa.org/wp-content/uploads/2025/09/Sleepy-Hollow-800x600-1.jpg
END:VEVENT
BEGIN:VEVENT
DTSTART;TZID=America/Chicago:20251011T140000
DTEND;TZID=America/Chicago:20251011T170000
DTSTAMP:20260422T113815
CREATED:20251001T221431Z
LAST-MODIFIED:20251103T172622Z
UID:10001471-1760191200-1760202000@arkmfa.org
SUMMARY:Gallery Drawing Workshop
DESCRIPTION:Immerse yourself in art and drawing during this hands-on workshop designed to explore artistic techniques and styles! This workshop offers a unique opportunity to creatively work in the galleries and gain insight from an artistic professional in AMFA’s Windgate Art School. \nOur experienced instructor will lead you through the AMFA galleries and use artwork as inspiration to create a personalized work of art. Develop your drawing skills while deepening your understanding of creating line\, shape\, texture\, and space. \n\nThe Windgate Art School is generously supported by the Windgate Foundation with additional support from Sherry Worthen in memory of George Worthen. \nWindgate Art School’s Reduced Tuition Program is supported by Michael Laughter. Reduced tuition is automatically applied to all classes through 2025. \nImage courtesy of Jason Masters. \n 
URL:https://arkmfa.org/event/gallery-drawing-workshop-oct-11/
CATEGORIES:Adults,Art School
ATTACH;FMTTYPE=image/jpeg:https://arkmfa.org/wp-content/uploads/2025/09/gallery-drawing-workshop-adult-4x3-1.jpg
END:VEVENT
BEGIN:VEVENT
DTSTART;TZID=America/Chicago:20251011T190000
DTEND;TZID=America/Chicago:20251011T201500
DTSTAMP:20260422T113815
CREATED:20251001T221523Z
LAST-MODIFIED:20251103T172600Z
UID:10001595-1760209200-1760213700@arkmfa.org
SUMMARY:The Legend of Sleepy Hollow
DESCRIPTION:Step into a shadowy world where superstition reigns and every rustle of autumn leaves hints at danger. With sweeping visuals\, hauntingly beautiful movement\, and a powerful score\, Sleepy Hollow transforms a timeless American ghost story into an edge-of-your-seat ballet experience. \nBallet Arkansas’s riveting adaptation of Washington Irving’s legendary tale blends bold choreography with historical drama. From the mysterious allure of the Headless Horseman to the richly atmospheric staging\, this production delivers thrills\, elegance\, and spine-tingling storytelling like no other. \n 
URL:https://arkmfa.org/event/the-legend-of-sleepy-hollow-oct-11/
CATEGORIES:Adults,Ballet
ATTACH;FMTTYPE=image/jpeg:https://arkmfa.org/wp-content/uploads/2025/09/Sleepy-Hollow-800x600-1.jpg
END:VEVENT
END:VCALENDAR