BEGIN:VCALENDAR
VERSION:2.0
PRODID:-//Arkansas Museum of Fine Arts - ECPv6.15.20//NONSGML v1.0//EN
CALSCALE:GREGORIAN
METHOD:PUBLISH
X-ORIGINAL-URL:https://arkmfa.org
X-WR-CALDESC:Events for Arkansas Museum of Fine Arts
REFRESH-INTERVAL;VALUE=DURATION:PT1H
X-Robots-Tag:noindex
X-PUBLISHED-TTL:PT1H
BEGIN:VTIMEZONE
TZID:America/Chicago
BEGIN:DAYLIGHT
TZOFFSETFROM:-0600
TZOFFSETTO:-0500
TZNAME:CDT
DTSTART:20240310T080000
END:DAYLIGHT
BEGIN:STANDARD
TZOFFSETFROM:-0500
TZOFFSETTO:-0600
TZNAME:CST
DTSTART:20241103T070000
END:STANDARD
BEGIN:DAYLIGHT
TZOFFSETFROM:-0600
TZOFFSETTO:-0500
TZNAME:CDT
DTSTART:20250309T080000
END:DAYLIGHT
BEGIN:STANDARD
TZOFFSETFROM:-0500
TZOFFSETTO:-0600
TZNAME:CST
DTSTART:20251102T070000
END:STANDARD
BEGIN:DAYLIGHT
TZOFFSETFROM:-0600
TZOFFSETTO:-0500
TZNAME:CDT
DTSTART:20260308T080000
END:DAYLIGHT
BEGIN:STANDARD
TZOFFSETFROM:-0500
TZOFFSETTO:-0600
TZNAME:CST
DTSTART:20261101T070000
END:STANDARD
END:VTIMEZONE
BEGIN:VEVENT
DTSTART;TZID=America/Chicago:20251003T170000
DTEND;TZID=America/Chicago:20251003T190000
DTSTAMP:20260420T162948
CREATED:20251001T221516Z
LAST-MODIFIED:20251028T155924Z
UID:10001590-1759510800-1759518000@arkmfa.org
SUMMARY:Toast & Tour for Circle Society and Corporate Partners
DESCRIPTION:Toast to the opening of AMFA’s newest exhibition\, Architects of Being: Louise Nevelson and Esphyr Slobodkina\, with Dr. Catherine Walworth\, Jackye and Curtis Finch\, Jr. Curator of Drawings\, as she leads a lively discussion and gallery tour. \nDrawing inspiration from these two boldly unconventional women\, Dr. Walworth curated AMFA’s traveling exhibition\, accompanied by a catalog featuring original scholarship. \nNot in Circle Society? Join today or upgrade your membership to access tickets for this event\, or call 501.396.0348 for more information. \n\nArchitects of Being: Louise Nevelson and Esphyr Slobodkina is supported in part by the Arkansas Museum of Fine Arts Foundation\, National Endowment for the Arts\, Alan Dubois Fund for Contemporary Craft\, Ellsworth Kelly Foundation\, Anita Davis\, and the Jewish Federation of Arkansas. \nThe catalog for Architects of Being: Louise Nevelson and Esphyr Slobodkina is supported in part by the Wyeth Foundation for American Art. \n \nThis exhibition is organized by the Arkansas Museum of Fine Arts. \nImage courtesy of Jason Masters. \n 
URL:https://arkmfa.org/event/toast-tour-for-circle-society-and-corporate-partners/
CATEGORIES:Members,Special Events,Tours
ATTACH;FMTTYPE=image/jpeg:https://arkmfa.org/wp-content/uploads/2025/09/Toast-and-Tour-Option-2.jpg
END:VEVENT
BEGIN:VEVENT
DTSTART;TZID=America/Chicago:20251003T180000
DTEND;TZID=America/Chicago:20251003T210000
DTSTAMP:20260420T162948
CREATED:20251001T221431Z
LAST-MODIFIED:20251029T204212Z
UID:10001460-1759514400-1759525200@arkmfa.org
SUMMARY:Art For Two: Glass Hummingbirds (SOLD OUT)
DESCRIPTION:Learn how to create a vibrant and colorful glass hummingbird using the technique of flame-working glass over a torch flame. \nUnder the expert guidance of a skilled glass artist\, you will learn the process of sculpting a delicate hummingbird\, from shaping the beak and body to crafting the wings. You will work with a variety of colorful glass rods\, using the torch to melt and manipulate the material to form the bird’s features. \nArt For Two is the perfect one-night class experience for two where you each take home a finished piece. Class materials\, a charcuterie board\, and refreshments are included\, no skills required – just come ready to create\, unwind\, and add some artistic spark to your evening. \n\nThe Windgate Art School is generously supported by the Windgate Foundation with additional support from Sherry Worthen in memory of George Worthen. \nWindgate Art School’s Reduced Tuition Program is supported by Michael Laughter. Reduced tuition is automatically applied to all classes through 2025. \nImage courtesy of Jason Masters. \n 
URL:https://arkmfa.org/event/art-for-two-glass-hummingbirds-sold-out-oct-3/
CATEGORIES:Adults,Art School
ATTACH;FMTTYPE=image/jpeg:https://arkmfa.org/wp-content/uploads/2025/09/adult-classes-smiling-glass-torchwork-4x3-1.jpg
END:VEVENT
BEGIN:VEVENT
DTSTART;TZID=America/Chicago:20251003T180000
DTEND;TZID=America/Chicago:20251003T210000
DTSTAMP:20260420T162948
CREATED:20251001T221431Z
LAST-MODIFIED:20251029T204237Z
UID:10001463-1759514400-1759525200@arkmfa.org
SUMMARY:Art For Two: Coin Rings (SOLD OUT)
DESCRIPTION:Learn how to shape metal as you make a custom-sized ring from a vintage silver coin. \nArt For Two is the perfect one-night class experience for two where you each take home a finished piece. Class materials\, a charcuterie board\, and refreshments are included\, no skills required – just come ready to create\, unwind\, and add some artistic spark to your evening. \n\nThe Windgate Art School is generously supported by the Windgate Foundation with additional support from Sherry Worthen in memory of George Worthen. \nWindgate Art School’s Reduced Tuition Program is supported by Michael Laughter. Reduced tuition is automatically applied to all classes through 2025. \nRings by Jann Greenland. \n 
URL:https://arkmfa.org/event/art-for-two-coin-rings-sold-out-oct-3/
CATEGORIES:Adults,Art School
ATTACH;FMTTYPE=image/jpeg:https://arkmfa.org/wp-content/uploads/2025/09/Art-For-Two-Coin-Rings-Jann-Greenland-1.jpg
END:VEVENT
END:VCALENDAR