BEGIN:VCALENDAR
VERSION:2.0
PRODID:-//Arkansas Museum of Fine Arts - ECPv6.15.20//NONSGML v1.0//EN
CALSCALE:GREGORIAN
METHOD:PUBLISH
X-WR-CALNAME:Arkansas Museum of Fine Arts
X-ORIGINAL-URL:https://arkmfa.org
X-WR-CALDESC:Events for Arkansas Museum of Fine Arts
REFRESH-INTERVAL;VALUE=DURATION:PT1H
X-Robots-Tag:noindex
X-PUBLISHED-TTL:PT1H
BEGIN:VTIMEZONE
TZID:America/Chicago
BEGIN:DAYLIGHT
TZOFFSETFROM:-0600
TZOFFSETTO:-0500
TZNAME:CDT
DTSTART:20240310T080000
END:DAYLIGHT
BEGIN:STANDARD
TZOFFSETFROM:-0500
TZOFFSETTO:-0600
TZNAME:CST
DTSTART:20241103T070000
END:STANDARD
BEGIN:DAYLIGHT
TZOFFSETFROM:-0600
TZOFFSETTO:-0500
TZNAME:CDT
DTSTART:20250309T080000
END:DAYLIGHT
BEGIN:STANDARD
TZOFFSETFROM:-0500
TZOFFSETTO:-0600
TZNAME:CST
DTSTART:20251102T070000
END:STANDARD
BEGIN:DAYLIGHT
TZOFFSETFROM:-0600
TZOFFSETTO:-0500
TZNAME:CDT
DTSTART:20260308T080000
END:DAYLIGHT
BEGIN:STANDARD
TZOFFSETFROM:-0500
TZOFFSETTO:-0600
TZNAME:CST
DTSTART:20261101T070000
END:STANDARD
END:VTIMEZONE
BEGIN:VEVENT
DTSTART;TZID=America/Chicago:20250929T120000
DTEND;TZID=America/Chicago:20250929T133000
DTSTAMP:20260423T121430
CREATED:20251001T221538Z
LAST-MODIFIED:20251103T172848Z
UID:10001634-1759147200-1759152600@arkmfa.org
SUMMARY:AMFA Board of Trustees Meeting
DESCRIPTION:Meeting Agenda\n\n\n\n\nCall to Order and Welcome – Le’Kita Brown\, Board of Trustees President\n\nApproval of Minutes from April 22\, 2025 Meeting\n\n\n\nIntroductions\n\n\n\n\n\nFinance Committee Report – Gary Cooper\, Committee Chair and Laine Harber\, AMFA Chief Financial Officer\n\n\n\nPresident’s Report – Le’Kita Brown\n\n\n\nDirector’s Report – Dr. Victoria Ramirez\, AMFA Executive Director\n\n\n\nAMFA’s Strategic Plan – Carlo Cuesto\, Co-Founder of Creation in Common\n\n\n\nUpcoming Meetings\n\nDecember 17\, 2025 12:00PM-1:00 PM\n\n\n\n\n\n\nFor media and other inquiries\, please contact director@arkmfa.org. \n\n\n\n\n\n 
URL:https://arkmfa.org/event/amfa-board-of-trustees-meeting-sep-29/
ATTACH;FMTTYPE=image/jpeg:https://arkmfa.org/wp-content/uploads/2025/09/AMFA-Courtyard-Entrance-Photo-by-Jason-Masters-2025.jpg
END:VEVENT
END:VCALENDAR