BEGIN:VCALENDAR
VERSION:2.0
PRODID:-//Arkansas Museum of Fine Arts - ECPv6.15.20//NONSGML v1.0//EN
CALSCALE:GREGORIAN
METHOD:PUBLISH
X-ORIGINAL-URL:https://arkmfa.org
X-WR-CALDESC:Events for Arkansas Museum of Fine Arts
REFRESH-INTERVAL;VALUE=DURATION:PT1H
X-Robots-Tag:noindex
X-PUBLISHED-TTL:PT1H
BEGIN:VTIMEZONE
TZID:America/Chicago
BEGIN:DAYLIGHT
TZOFFSETFROM:-0600
TZOFFSETTO:-0500
TZNAME:CDT
DTSTART:20240310T080000
END:DAYLIGHT
BEGIN:STANDARD
TZOFFSETFROM:-0500
TZOFFSETTO:-0600
TZNAME:CST
DTSTART:20241103T070000
END:STANDARD
BEGIN:DAYLIGHT
TZOFFSETFROM:-0600
TZOFFSETTO:-0500
TZNAME:CDT
DTSTART:20250309T080000
END:DAYLIGHT
BEGIN:STANDARD
TZOFFSETFROM:-0500
TZOFFSETTO:-0600
TZNAME:CST
DTSTART:20251102T070000
END:STANDARD
BEGIN:DAYLIGHT
TZOFFSETFROM:-0600
TZOFFSETTO:-0500
TZNAME:CDT
DTSTART:20260308T080000
END:DAYLIGHT
BEGIN:STANDARD
TZOFFSETFROM:-0500
TZOFFSETTO:-0600
TZNAME:CST
DTSTART:20261101T070000
END:STANDARD
END:VTIMEZONE
BEGIN:VEVENT
DTSTART;TZID=America/Chicago:20250604T103000
DTEND;TZID=America/Chicago:20250604T113000
DTSTAMP:20260420T144105
CREATED:20251001T221337Z
LAST-MODIFIED:20251030T155845Z
UID:10001325-1749033000-1749036600@arkmfa.org
SUMMARY:Art Start
DESCRIPTION:Art and Max begins as a simple question – “What should I paint?” – and quickly becomes a wild adventure that transforms two lizard friends inside and out. \nJoin us for storytime as we celebrate artistic experimentation and the joy of unexpected discoveries. After the reading\, young artists will use string to create a vibrant artwork inspired by the playful painting mishaps in the book. \nArt Start is an early reader program that pairs children’s books with art activities\, inviting toddlers and preschool students to learn through reading\, imaginative play\, and art-making. \nThis free program welcomes parents\, grandparents\, caregivers\, and our youngest patrons to drop in and explore with us – no reservations required! \nArt Start is supported in part by the Alice L. Walton Foundation and Walmart Spark Good. \n 
URL:https://arkmfa.org/event/art-start-jun-4/
CATEGORIES:Youth & Families
ATTACH;FMTTYPE=image/jpeg:https://arkmfa.org/wp-content/uploads/2025/09/art-and-max-book-cover.jpg
END:VEVENT
BEGIN:VEVENT
DTSTART;TZID=America/Chicago:20250604T170000
DTEND;TZID=America/Chicago:20250604T200000
DTSTAMP:20260420T144105
CREATED:20251001T221337Z
LAST-MODIFIED:20251028T180207Z
UID:10001324-1749056400-1749067200@arkmfa.org
SUMMARY:Wednesday Spins
DESCRIPTION:Elevate your midweek mood at Wednesday Spins! Experience a night of art\, music\, drinks\, and socializing over beautiful views of the Museum. \nKick back with craft cocktails\, enjoy music mixed by DJ Nick Hud\, pop into the galleries to explore the art on view\, and strike a pose in the photo booth with your friends. \nAMFA is the place to be every Wednesday night all summer long! \n 
URL:https://arkmfa.org/event/wednesday-spins-jun-4/
CATEGORIES:Adults
ATTACH;FMTTYPE=image/jpeg:https://arkmfa.org/wp-content/uploads/2025/09/Spins-DJ-Nick-Hud-4x3-1.jpg
END:VEVENT
END:VCALENDAR