BEGIN:VCALENDAR
VERSION:2.0
PRODID:-//Arkansas Museum of Fine Arts - ECPv6.15.20//NONSGML v1.0//EN
CALSCALE:GREGORIAN
METHOD:PUBLISH
X-WR-CALNAME:Arkansas Museum of Fine Arts
X-ORIGINAL-URL:https://arkmfa.org
X-WR-CALDESC:Events for Arkansas Museum of Fine Arts
REFRESH-INTERVAL;VALUE=DURATION:PT1H
X-Robots-Tag:noindex
X-PUBLISHED-TTL:PT1H
BEGIN:VTIMEZONE
TZID:America/Chicago
BEGIN:DAYLIGHT
TZOFFSETFROM:-0600
TZOFFSETTO:-0500
TZNAME:CDT
DTSTART:20230312T080000
END:DAYLIGHT
BEGIN:STANDARD
TZOFFSETFROM:-0500
TZOFFSETTO:-0600
TZNAME:CST
DTSTART:20231105T070000
END:STANDARD
BEGIN:DAYLIGHT
TZOFFSETFROM:-0600
TZOFFSETTO:-0500
TZNAME:CDT
DTSTART:20240310T080000
END:DAYLIGHT
BEGIN:STANDARD
TZOFFSETFROM:-0500
TZOFFSETTO:-0600
TZNAME:CST
DTSTART:20241103T070000
END:STANDARD
BEGIN:DAYLIGHT
TZOFFSETFROM:-0600
TZOFFSETTO:-0500
TZNAME:CDT
DTSTART:20250309T080000
END:DAYLIGHT
BEGIN:STANDARD
TZOFFSETFROM:-0500
TZOFFSETTO:-0600
TZNAME:CST
DTSTART:20251102T070000
END:STANDARD
END:VTIMEZONE
BEGIN:VEVENT
DTSTART;TZID=America/Chicago:20241214T100000
DTEND;TZID=America/Chicago:20241214T130000
DTSTAMP:20260419T191700
CREATED:20251001T221144Z
LAST-MODIFIED:20251028T235804Z
UID:10001072-1734170400-1734181200@arkmfa.org
SUMMARY:Creative Saturdays
DESCRIPTION:This Creative Saturdays is hosted by Pulaski Heights Elementary School! Inspired by the magic of Madeline’s Christmas\, guests are invited to stop by the Windgate Art School to create colorful\, hand-stamped holiday cards with enchanting Eiffel Tower designs. \nExpand this special experience by discovering what the rest of the Museum has to offer you: \n\nGrab a family-friendly Treasure Map and start an adventure that ends with a prize.\nEnjoy a coffee or tea and browse the books in the Cultural Living Room.\nExplore the galleries and ask our docents questions about the art on view.\nRelax over brunch with incredible views and a locally inspired menu at Park Grill.\n\n\nCreative Saturdays are supported by Garver and the Alice L. Walton Foundation. \nMadeline’s Christmas is supported by Arkansas Democrat-Gazette\, Stephanie and Kenny Gunderman\, Arkansas Blue Cross and Blue Shield\, Hodge Orthodontics\, Rebsamen Fund\, and Dr. Loren Bartole\, ‘Family Foot Care.’ \nChildren’s Theatre and Performing Arts programs are supported by The Shubert Foundation and the Alice L. Walton Foundation. \nThe Windgate Art School is generously supported by the Windgate Foundation with additional support from Sherry Worthen in memory of George Worthen. \nThe Treasure Map is supported by the Alice L. Walton Foundation. \nPhoto by Jason Masters. \n 
URL:https://arkmfa.org/event/creative-saturdays-dec-14/
CATEGORIES:Youth & Families
ATTACH;FMTTYPE=image/jpeg:https://arkmfa.org/wp-content/uploads/2025/09/Creative-Saturdays-Fall-2024.jpg
END:VEVENT
BEGIN:VEVENT
DTSTART;TZID=America/Chicago:20241214T100000
DTEND;TZID=America/Chicago:20241214T160000
DTSTAMP:20260419T191700
CREATED:20251001T221153Z
LAST-MODIFIED:20251031T135451Z
UID:10001099-1734170400-1734192000@arkmfa.org
SUMMARY:An Unlikely Hero Art Experience
DESCRIPTION:Calling all superheroes! Children in grades K-5 are invited to make artwork featuring your favorite superheroes or create never-before-seen heroes with the help of local cartoon and comic book artists. Be part of the lead-up to An Unlikely Hero\, a new play premiering at AMFA on January 18\, 2025! \nA supervised lunch is scheduled for 12:00 p.m. Students must bring their own lunch. \n 
URL:https://arkmfa.org/event/an-unlikely-hero-art-experience/
CATEGORIES:Art School,Youth & Families
ATTACH;FMTTYPE=image/jpeg:https://arkmfa.org/wp-content/uploads/2025/09/Unlikely-Hero-poster-Metro-Theater-Company-4x3-1.jpg
END:VEVENT
BEGIN:VEVENT
DTSTART;TZID=America/Chicago:20241214T103000
DTEND;TZID=America/Chicago:20241214T113000
DTSTAMP:20260419T191700
CREATED:20251001T221136Z
LAST-MODIFIED:20251103T200243Z
UID:10001041-1734172200-1734175800@arkmfa.org
SUMMARY:Gallery Tour
DESCRIPTION:Drop in and discover AMFA with a free docent-led tour through the galleries! \nWith this fun\, engaging\, and memorable experience\, guests of all ages are invited to explore the art on view while learning how to interpret and appreciate works of art in various media. \n\nPhoto by Jason Masters. \n 
URL:https://arkmfa.org/event/gallery-tour-dec-14/
CATEGORIES:Tours
ATTACH;FMTTYPE=image/jpeg:https://arkmfa.org/wp-content/uploads/2025/09/Museum-Tour-Spring-2024-4x3-2.jpg
END:VEVENT
BEGIN:VEVENT
DTSTART;TZID=America/Chicago:20241214T103000
DTEND;TZID=America/Chicago:20241214T113000
DTSTAMP:20260419T191700
CREATED:20251001T221136Z
LAST-MODIFIED:20251028T165503Z
UID:10001042-1734172200-1734175800@arkmfa.org
SUMMARY:Art Together with ASL Interpretation
DESCRIPTION:For guests who are Deaf or Hard of Hearing\, drop in and discover the Arkansas Museum of Fine Arts with a docent-led gallery tour accompanied by an American Sign Language (ASL) interpreter. \nThis fun\, engaging\, and memorable tour provides all guests the opportunity to explore the art on view while learning how to appreciate works of art. \n\nPhoto: Iwan Baan \nArt Together with ASL Interpretation is supported by Judy C Thompson Rev. Trust. \n 
URL:https://arkmfa.org/event/art-together-with-asl-interpretation-dec-14/
CATEGORIES:Accessible,Tours
ATTACH;FMTTYPE=image/jpeg:https://arkmfa.org/wp-content/uploads/2025/09/Inspiring-Installations-4x3-1-e1746472459603.jpg
END:VEVENT
BEGIN:VEVENT
DTSTART;TZID=America/Chicago:20241214T103000
DTEND;TZID=America/Chicago:20241214T113000
DTSTAMP:20260419T191700
CREATED:20251001T221136Z
LAST-MODIFIED:20251031T141231Z
UID:10001043-1734172200-1734175800@arkmfa.org
SUMMARY:Madeline's Christmas
DESCRIPTION:Between visits to the Eiffel Tower and the Paris Zoo\, Madeline and her friends embark on a high-flying journey across Paris in this charming holiday production of Madeline’s Christmas. \n“Sometimes the most wonderful things can happen. Especially at Christmastime.” \nWith an enchanting story\, beautiful music\, and a sprinkle of theatre magic\, this musical is perfect for family audiences. Experience the joy and magic of the holiday season with the musical adaptation of Ludwig Bemelmans’s classic tale\, Madeline’s Christmas. \nThis performance features audio description. \nRunning Time: 60 minutesRecommended Age: 5 and up \n\nProduced by special arrangement with DRAMATIC PUBLISHING\, Woodstock\, Illinois. \nMadeline’s Christmas is supported by Arkansas Democrat-Gazette\, Stephanie and Kenny Gunderman\, Arkansas Blue Cross and Blue Shield\, Hodge Orthodontics\, Rebsamen Fund\, and Dr. Loren Bartole\, ‘Family Foot Care.’ \nChildren’s Theatre and Performing Arts programs are supported by The Shubert Foundation and the Alice L. Walton Foundation. \n\n\nVIEW THE PLAY GUIDE\n\n\n\n\n\n\n\n\n\n\n 
URL:https://arkmfa.org/event/madelines-christmas-dec-14/
CATEGORIES:Accessible,Children's Theatre,Holiday,Youth & Families
ATTACH;FMTTYPE=image/jpeg:https://arkmfa.org/wp-content/uploads/2025/09/Madelines-Christmas-Title-Card-Draft-v2-e1730238389912.jpg
END:VEVENT
BEGIN:VEVENT
DTSTART;TZID=America/Chicago:20241214T130000
DTEND;TZID=America/Chicago:20241214T170000
DTSTAMP:20260419T191700
CREATED:20251001T221201Z
LAST-MODIFIED:20251001T221201Z
UID:10001114-1734181200-1734195600@arkmfa.org
SUMMARY:Solid Wood Ornament Workshop for Teens
DESCRIPTION:Have fun making solid wood holiday ornaments while learning simple slot joint construction techniques\, the basic properties of wood\, and wood shop safety. Use the band saw\, scroll saw\, jig saw\, sanders\, hand tools\, and power tools. \n\n\n\nThis workshop is designed for students in grades 9-12.
URL:https://arkmfa.org/event/solid-wood-ornament-workshop-for-teens/
CATEGORIES:Art School,Youth & Families
ATTACH;FMTTYPE=image/jpeg:https://arkmfa.org/wp-content/uploads/2025/09/loucks_wood_ornament-4x3-1.jpg
END:VEVENT
BEGIN:VEVENT
DTSTART;TZID=America/Chicago:20241214T140000
DTEND;TZID=America/Chicago:20241214T150000
DTSTAMP:20260419T191700
CREATED:20251001T221136Z
LAST-MODIFIED:20251031T141225Z
UID:10001044-1734184800-1734188400@arkmfa.org
SUMMARY:Madeline's Christmas: Art-Making Day
DESCRIPTION:Between visits to the Eiffel Tower and the Paris Zoo\, Madeline and her friends embark on a high-flying journey across Paris in this charming holiday production of Madeline’s Christmas. \n“Sometimes the most wonderful things can happen. Especially at Christmastime.” \nWith an enchanting story\, beautiful music\, and a sprinkle of theatre magic\, this musical is perfect for family audiences. Experience the joy and magic of the holiday season with the musical adaptation of Ludwig Bemelmans’s classic tale\, Madeline’s Christmas. \nThis performance features ASL interpretation. \nAfter the performance\, audiences are invited to be creative with a free\, Madeline-inspired art activity and meet the cast in the Amerine/Calhoun Glass Box. \nRunning Time: 60 minutesRecommended Age: 5 and up \n\nProduced by special arrangement with DRAMATIC PUBLISHING\, Woodstock\, Illinois. \nMadeline’s Christmas is supported by Arkansas Democrat-Gazette\, Stephanie and Kenny Gunderman\, Arkansas Blue Cross and Blue Shield\, Hodge Orthodontics\, Rebsamen Fund\, and Dr. Loren Bartole\, ‘Family Foot Care.’ \nChildren’s Theatre and Performing Arts programs are supported by The Shubert Foundation and the Alice L. Walton Foundation. \n\n\nDOWNLOAD THE PLAY GUIDE\n\n\n\n\n\n\n\n\n\n\n 
URL:https://arkmfa.org/event/madelines-christmas-craft-day/
CATEGORIES:Accessible,Children's Theatre,Holiday,Youth & Families
ATTACH;FMTTYPE=image/jpeg:https://arkmfa.org/wp-content/uploads/2025/09/Madelines-Christmas-Title-Card-Draft-v2-e1730238389912.jpg
END:VEVENT
END:VCALENDAR