BEGIN:VCALENDAR
VERSION:2.0
PRODID:-//Arkansas Museum of Fine Arts - ECPv6.15.20//NONSGML v1.0//EN
CALSCALE:GREGORIAN
METHOD:PUBLISH
X-ORIGINAL-URL:https://arkmfa.org
X-WR-CALDESC:Events for Arkansas Museum of Fine Arts
REFRESH-INTERVAL;VALUE=DURATION:PT1H
X-Robots-Tag:noindex
X-PUBLISHED-TTL:PT1H
BEGIN:VTIMEZONE
TZID:America/Chicago
BEGIN:DAYLIGHT
TZOFFSETFROM:-0600
TZOFFSETTO:-0500
TZNAME:CDT
DTSTART:20230312T080000
END:DAYLIGHT
BEGIN:STANDARD
TZOFFSETFROM:-0500
TZOFFSETTO:-0600
TZNAME:CST
DTSTART:20231105T070000
END:STANDARD
BEGIN:DAYLIGHT
TZOFFSETFROM:-0600
TZOFFSETTO:-0500
TZNAME:CDT
DTSTART:20240310T080000
END:DAYLIGHT
BEGIN:STANDARD
TZOFFSETFROM:-0500
TZOFFSETTO:-0600
TZNAME:CST
DTSTART:20241103T070000
END:STANDARD
BEGIN:DAYLIGHT
TZOFFSETFROM:-0600
TZOFFSETTO:-0500
TZNAME:CDT
DTSTART:20250309T080000
END:DAYLIGHT
BEGIN:STANDARD
TZOFFSETFROM:-0500
TZOFFSETTO:-0600
TZNAME:CST
DTSTART:20251102T070000
END:STANDARD
END:VTIMEZONE
BEGIN:VEVENT
DTSTART;TZID=America/Chicago:20240920T180000
DTEND;TZID=America/Chicago:20240920T210000
DTSTAMP:20260425T101507
CREATED:20251001T221043Z
LAST-MODIFIED:20251031T151041Z
UID:10000929-1726855200-1726866000@arkmfa.org
SUMMARY:Art For Two: Pottery on the Wheel (SOLD OUT)
DESCRIPTION:Art For Two is the perfect one-night class experience for two where you each take home a finished piece! Class materials and refreshments are included\, no skills required – just come ready to create\, unwind\, and add some artistic spark to your evening. \nIn this session\, learn how to throw a pot on the wheel. No clay experience necessary! Just wear comfortable shoes and clothing that is washable. Your creations will be fired and ready for pick up three weeks after the class. \nInstructor: Kelly Edwards \n 
URL:https://arkmfa.org/event/art-for-two-pottery-on-the-wheel-sold-out-sep-20/
CATEGORIES:Adults,Art School
ATTACH;FMTTYPE=image/jpeg:https://arkmfa.org/wp-content/uploads/2025/09/Art-for-Two-Pottery-on-the-Wheel.jpg
END:VEVENT
BEGIN:VEVENT
DTSTART;TZID=America/Chicago:20240920T180000
DTEND;TZID=America/Chicago:20240920T210000
DTSTAMP:20260425T101507
CREATED:20251001T221052Z
LAST-MODIFIED:20251031T145858Z
UID:10000945-1726855200-1726866000@arkmfa.org
SUMMARY:Art for Two: Painted Portraits
DESCRIPTION:Art For Two is the perfect one-night class experience for two where you each take home a finished piece! Class materials and refreshments are included\, no skills required – just come ready to create\, unwind\, and add some artistic spark to your evening. \nIn this session\, paint a watercolor portrait of your partner. No painting experience is necessary! Just wear comfortable shoes and clothing that is washable. \nInstructor: Sarah Lassiter \n\nPhoto by Jason Masters. \n 
URL:https://arkmfa.org/event/art-for-two-painted-portraits-sep-20/
CATEGORIES:Adults,Art School
ATTACH;FMTTYPE=image/jpeg:https://arkmfa.org/wp-content/uploads/2025/09/Art-Classes-Email-DvBZ0d.tmp_.jpg
END:VEVENT
END:VCALENDAR